BEGIN:VCALENDAR
VERSION:2.0
PRODID:-//Martindale Brightwood CDC - ECPv6.15.20//NONSGML v1.0//EN
CALSCALE:GREGORIAN
METHOD:PUBLISH
X-WR-CALNAME:Martindale Brightwood CDC
X-ORIGINAL-URL:https://mbcdc.org
X-WR-CALDESC:Events for Martindale Brightwood CDC
REFRESH-INTERVAL;VALUE=DURATION:PT1H
X-Robots-Tag:noindex
X-PUBLISHED-TTL:PT1H
BEGIN:VTIMEZONE
TZID:America/Indiana/Indianapolis
BEGIN:DAYLIGHT
TZOFFSETFROM:-0500
TZOFFSETTO:-0400
TZNAME:EDT
DTSTART:20240310T070000
END:DAYLIGHT
BEGIN:STANDARD
TZOFFSETFROM:-0400
TZOFFSETTO:-0500
TZNAME:EST
DTSTART:20241103T060000
END:STANDARD
BEGIN:DAYLIGHT
TZOFFSETFROM:-0500
TZOFFSETTO:-0400
TZNAME:EDT
DTSTART:20250309T070000
END:DAYLIGHT
BEGIN:STANDARD
TZOFFSETFROM:-0400
TZOFFSETTO:-0500
TZNAME:EST
DTSTART:20251102T060000
END:STANDARD
BEGIN:DAYLIGHT
TZOFFSETFROM:-0500
TZOFFSETTO:-0400
TZNAME:EDT
DTSTART:20260308T070000
END:DAYLIGHT
BEGIN:STANDARD
TZOFFSETFROM:-0400
TZOFFSETTO:-0500
TZNAME:EST
DTSTART:20261101T060000
END:STANDARD
END:VTIMEZONE
BEGIN:VEVENT
DTSTART;TZID=America/Indiana/Indianapolis:20250307T180000
DTEND;TZID=America/Indiana/Indianapolis:20250307T200000
DTSTAMP:20260422T120642
CREATED:20250212T163953Z
LAST-MODIFIED:20250212T165113Z
UID:6622-1741370400-1741377600@mbcdc.org
SUMMARY:Emerging Women in Business Summit- Networking Mixer
DESCRIPTION:Join us for the 3rd Annual Emerging Women in Business Summit\, presented by Alpha Kappa Alpha Sorority Inc. Chi Chi Omega Chapter\, sponsored by Martindale Brightwood\, and hosted by Create. Connect. Collab. is a two-day experience designed to equip and inspire women entrepreneurs and professionals. Whether you’re launching\, scaling\, or refining your business\, this event is for YOU! \nDay One: Networking Mixer \nFriday\, March 7\, 2025 from 6pm to 8pm \nCholitas: 1001 Broad Ripple Ave Indianapolis\, IN 46220 \nFree Parking Lot & Metered Parking Available \nAttire: Business Causal & Business \nDay Two: Business Summit \nSaturday\, March 8\, 2025 from 8:30am to 2pm \nMaven Space: 433 N Capitol Ave # 100 Indianapolis\, IN 46204 \nPaid Parking Lot & Metered Parking Available \nAttire: Business Causal & Business
URL:https://mbcdc.org/event/emerging-women-in-business-summit-networking-mixer/
LOCATION:1001 Broad Ripple Ave Indianapolis\, IN 46220\, 1001 Broad Ripple Ave\, Indianapolis\, IN\, 46220
ATTACH;FMTTYPE=image/png:https://mbcdc.org/wp-content/uploads/2025/02/2025-EMERGING-WOMEN-IN-BUSINESS-SUMMIT-1080-x-1350-px-1.png
END:VEVENT
END:VCALENDAR