BEGIN:VCALENDAR
VERSION:2.0
PRODID:-//Martindale Brightwood CDC - ECPv6.15.20//NONSGML v1.0//EN
CALSCALE:GREGORIAN
METHOD:PUBLISH
X-WR-CALNAME:Martindale Brightwood CDC
X-ORIGINAL-URL:https://mbcdc.org
X-WR-CALDESC:Events for Martindale Brightwood CDC
REFRESH-INTERVAL;VALUE=DURATION:PT1H
X-Robots-Tag:noindex
X-PUBLISHED-TTL:PT1H
BEGIN:VTIMEZONE
TZID:America/Indiana/Indianapolis
BEGIN:DAYLIGHT
TZOFFSETFROM:-0500
TZOFFSETTO:-0400
TZNAME:EDT
DTSTART:20240310T070000
END:DAYLIGHT
BEGIN:STANDARD
TZOFFSETFROM:-0400
TZOFFSETTO:-0500
TZNAME:EST
DTSTART:20241103T060000
END:STANDARD
BEGIN:DAYLIGHT
TZOFFSETFROM:-0500
TZOFFSETTO:-0400
TZNAME:EDT
DTSTART:20250309T070000
END:DAYLIGHT
BEGIN:STANDARD
TZOFFSETFROM:-0400
TZOFFSETTO:-0500
TZNAME:EST
DTSTART:20251102T060000
END:STANDARD
BEGIN:DAYLIGHT
TZOFFSETFROM:-0500
TZOFFSETTO:-0400
TZNAME:EDT
DTSTART:20260308T070000
END:DAYLIGHT
BEGIN:STANDARD
TZOFFSETFROM:-0400
TZOFFSETTO:-0500
TZNAME:EST
DTSTART:20261101T060000
END:STANDARD
END:VTIMEZONE
BEGIN:VEVENT
DTSTART;TZID=America/Indiana/Indianapolis:20250512T180000
DTEND;TZID=America/Indiana/Indianapolis:20250512T200000
DTSTAMP:20260422T072250
CREATED:20250422T144441Z
LAST-MODIFIED:20250422T150940Z
UID:6911-1747072800-1747080000@mbcdc.org
SUMMARY:Business Bookkeeping Basics
DESCRIPTION:Ready to get a handle on your business finances? Join us for Business Bookkeeping Basics\, a hands-on 2-day workshop tailored for small business owners and entrepreneurs. Learn to confidently manage your bookkeeping using QuickBooks\, understand key financial statements\, and streamline your daily financial tasks. \n💡 What You’ll Gain:\n\n\nA clear understanding of bookkeeping organization and double-entry accounting \n\n\nConfidence navigating and setting up your QuickBooks file \n\n\nPractical skills for day-to-day and month-end bookkeeping \n\n\nTools to analyze your financial performance using reports \n\n\nTime-saving tips to optimize your bookkeeping process \n\n\nBring a laptop or tablet with a keyboard to follow along in real-time. \nDates: Monday\, May 12 – Tuesday\, May 13\, 2025Time: 6:00 PM – 8:00 PM (Both Days)Location: Martindale Brightwood Community Development Corporation2435 N. Sherman Drive\, Suite 4\, Indianapolis\, IN 46218 \n📝 Spots are limited—Register Today:
URL:https://mbcdc.org/event/business-bookkeeping-basics/
LOCATION:Martindale Brightwood CDC\, Brightwood Plaza\, 2435 North Sherman Drive\, Indianapolis\, IN 46218\, 2435 North Sherman Drive Suite 4\, Indianapolis\, IN\, 46218\, United States
ATTACH;FMTTYPE=image/png:https://mbcdc.org/wp-content/uploads/2025/04/Microenterprise-Program-Flyers-2.png
END:VEVENT
END:VCALENDAR