BEGIN:VCALENDAR
VERSION:2.0
PRODID:-//Martindale Brightwood CDC - ECPv6.15.20//NONSGML v1.0//EN
CALSCALE:GREGORIAN
METHOD:PUBLISH
X-ORIGINAL-URL:https://mbcdc.org
X-WR-CALDESC:Events for Martindale Brightwood CDC
REFRESH-INTERVAL;VALUE=DURATION:PT1H
X-Robots-Tag:noindex
X-PUBLISHED-TTL:PT1H
BEGIN:VTIMEZONE
TZID:America/Indiana/Indianapolis
BEGIN:DAYLIGHT
TZOFFSETFROM:-0500
TZOFFSETTO:-0400
TZNAME:EDT
DTSTART:20240310T070000
END:DAYLIGHT
BEGIN:STANDARD
TZOFFSETFROM:-0400
TZOFFSETTO:-0500
TZNAME:EST
DTSTART:20241103T060000
END:STANDARD
BEGIN:DAYLIGHT
TZOFFSETFROM:-0500
TZOFFSETTO:-0400
TZNAME:EDT
DTSTART:20250309T070000
END:DAYLIGHT
BEGIN:STANDARD
TZOFFSETFROM:-0400
TZOFFSETTO:-0500
TZNAME:EST
DTSTART:20251102T060000
END:STANDARD
BEGIN:DAYLIGHT
TZOFFSETFROM:-0500
TZOFFSETTO:-0400
TZNAME:EDT
DTSTART:20260308T070000
END:DAYLIGHT
BEGIN:STANDARD
TZOFFSETFROM:-0400
TZOFFSETTO:-0500
TZNAME:EST
DTSTART:20261101T060000
END:STANDARD
END:VTIMEZONE
BEGIN:VEVENT
DTSTART;TZID=America/Indiana/Indianapolis:20250603T180000
DTEND;TZID=America/Indiana/Indianapolis:20250603T200000
DTSTAMP:20260422T053111
CREATED:20250422T190847Z
LAST-MODIFIED:20250423T184706Z
UID:6915-1748973600-1748980800@mbcdc.org
SUMMARY:The Savvy Entrepreneur
DESCRIPTION:Mindset. Money. Momentum. \nFormerly known as Money Smart\, this revamped series now offers a holistic take on entrepreneurship — integrating financial literacy with mental health\, mindset\, and self-care. \nWhat to Expect:\n✔️ Build confidence in your financial decisions✔️ Learn how to manage stress and avoid burnout✔️ Explore mindset tools that align with business success✔️ Hear from dynamic guest speakers who’ve been where you are \n\n🎯 Ideal For:\n\n\nEntrepreneurs & Startups \n\n\nCommunity Members & Creatives \n\n\nAnyone seeking balance while building their business \n\n\n🗓 Dates:Tuesdays — June 3\, 10\, 17\, 24 and July 1\, 15\, 22\, 29\, 2025⏰ Time: 6:00 PM – 7:30 PM📍 Location: MBCDC Training Room2435 N Sherman Drive\, Suite 4\, Indianapolis\, IN 46218 \n🎟️ Limited to 30 participants | FREE to attend | Win up to $3\,000 through our pitch contest🔗 Register TODAY!
URL:https://mbcdc.org/event/the-savvy-entrepreneur/
LOCATION:Martindale Brightwood CDC\, Brightwood Plaza\, 2435 North Sherman Drive\, Indianapolis\, IN 46218\, 2435 North Sherman Drive Suite 4\, Indianapolis\, IN\, 46218\, United States
ATTACH;FMTTYPE=image/png:https://mbcdc.org/wp-content/uploads/2025/04/Money-Smart-2023-2.png
END:VEVENT
END:VCALENDAR