BEGIN:VCALENDAR
VERSION:2.0
PRODID:-//Martindale Brightwood CDC - ECPv6.15.20//NONSGML v1.0//EN
CALSCALE:GREGORIAN
METHOD:PUBLISH
X-ORIGINAL-URL:https://mbcdc.org
X-WR-CALDESC:Events for Martindale Brightwood CDC
REFRESH-INTERVAL;VALUE=DURATION:PT1H
X-Robots-Tag:noindex
X-PUBLISHED-TTL:PT1H
BEGIN:VTIMEZONE
TZID:America/Indiana/Indianapolis
BEGIN:DAYLIGHT
TZOFFSETFROM:-0500
TZOFFSETTO:-0400
TZNAME:EDT
DTSTART:20240310T070000
END:DAYLIGHT
BEGIN:STANDARD
TZOFFSETFROM:-0400
TZOFFSETTO:-0500
TZNAME:EST
DTSTART:20241103T060000
END:STANDARD
BEGIN:DAYLIGHT
TZOFFSETFROM:-0500
TZOFFSETTO:-0400
TZNAME:EDT
DTSTART:20250309T070000
END:DAYLIGHT
BEGIN:STANDARD
TZOFFSETFROM:-0400
TZOFFSETTO:-0500
TZNAME:EST
DTSTART:20251102T060000
END:STANDARD
BEGIN:DAYLIGHT
TZOFFSETFROM:-0500
TZOFFSETTO:-0400
TZNAME:EDT
DTSTART:20260308T070000
END:DAYLIGHT
BEGIN:STANDARD
TZOFFSETFROM:-0400
TZOFFSETTO:-0500
TZNAME:EST
DTSTART:20261101T060000
END:STANDARD
END:VTIMEZONE
BEGIN:VEVENT
DTSTART;TZID=America/Indiana/Indianapolis:20250614T113000
DTEND;TZID=America/Indiana/Indianapolis:20250614T133000
DTSTAMP:20260422T045020
CREATED:20250528T140958Z
LAST-MODIFIED:20250528T140958Z
UID:7161-1749900600-1749907800@mbcdc.org
SUMMARY:Managing Your Finances - Old National Bank
DESCRIPTION:Join us for a free brunch-and-learn session focused on financial wellness! In this workshop\, you’ll gain practical tools to manage your money\, create a budget\, and build confidence in your financial decisions. \nLed by Moussa Ibrahim\, Financial Empowerment and Community Development Officer with Old National Bank\, this session is perfect for individuals looking to improve their financial habits and set strong foundations for the future. \nDate: Saturday\, June 14\, 2025Time: 11:30 AM – 1:30 PMLocation: Martindale Brightwood CDC\, 2435 N Sherman Drive\, Suite 4\, Indianapolis\, IN 46218 \nRSVP by June 2 to reserve your seat.Complimentary brunch provided.
URL:https://mbcdc.org/event/managing-your-finances-old-national-bank/
LOCATION:Martindale Brightwood CDC\, Brightwood Plaza\, 2435 North Sherman Drive\, Indianapolis\, IN 46218\, 2435 North Sherman Drive Suite 4\, Indianapolis\, IN\, 46218\, United States
ATTACH;FMTTYPE=image/png:https://mbcdc.org/wp-content/uploads/2025/05/Screenshot-2025-05-28-095647.png
END:VEVENT
END:VCALENDAR