BEGIN:VCALENDAR
VERSION:2.0
PRODID:-//Martindale Brightwood CDC - ECPv6.15.20//NONSGML v1.0//EN
CALSCALE:GREGORIAN
METHOD:PUBLISH
X-WR-CALNAME:Martindale Brightwood CDC
X-ORIGINAL-URL:https://mbcdc.org
X-WR-CALDESC:Events for Martindale Brightwood CDC
REFRESH-INTERVAL;VALUE=DURATION:PT1H
X-Robots-Tag:noindex
X-PUBLISHED-TTL:PT1H
BEGIN:VTIMEZONE
TZID:America/Indiana/Indianapolis
BEGIN:DAYLIGHT
TZOFFSETFROM:-0500
TZOFFSETTO:-0400
TZNAME:EDT
DTSTART:20240310T070000
END:DAYLIGHT
BEGIN:STANDARD
TZOFFSETFROM:-0400
TZOFFSETTO:-0500
TZNAME:EST
DTSTART:20241103T060000
END:STANDARD
BEGIN:DAYLIGHT
TZOFFSETFROM:-0500
TZOFFSETTO:-0400
TZNAME:EDT
DTSTART:20250309T070000
END:DAYLIGHT
BEGIN:STANDARD
TZOFFSETFROM:-0400
TZOFFSETTO:-0500
TZNAME:EST
DTSTART:20251102T060000
END:STANDARD
BEGIN:DAYLIGHT
TZOFFSETFROM:-0500
TZOFFSETTO:-0400
TZNAME:EDT
DTSTART:20260308T070000
END:DAYLIGHT
BEGIN:STANDARD
TZOFFSETFROM:-0400
TZOFFSETTO:-0500
TZNAME:EST
DTSTART:20261101T060000
END:STANDARD
END:VTIMEZONE
BEGIN:VEVENT
DTSTART;TZID=America/Indiana/Indianapolis:20250711T080000
DTEND;TZID=America/Indiana/Indianapolis:20250711T170000
DTSTAMP:20260422T024241
CREATED:20241219T191501Z
LAST-MODIFIED:20250911T192853Z
UID:6278-1752220800-1752253200@mbcdc.org
SUMMARY:12th Annual William “Bill” Crawford Charitable Golf Outing and Luncheon
DESCRIPTION:Join us for the 12th Annual William “Bill” Crawford Charitable Golf Outing and Luncheon—a day of recreation\, networking\, and community impact. Named in honor of the late Indiana State Representative William A. “Bill” Crawford\, a trailblazer and advocate for community development\, this event supports Martindale Brightwood Community Development Corporation’s (MBCDC) mission to preserve affordable housing\, provide home repair services\, and fund small business initiatives. Enjoy a round of golf at the beautiful Eagle Creek Golf Club\, followed by a luncheon celebrating the power of community. Proceeds from the event directly benefit programs that create lasting change in the Martindale Brightwood neighborhood and beyond. Sponsorship Opportunities: Explore our sponsorship packages to find a level that aligns with your goals. From major event sponsorships to targeted packages\, your partnership can help drive meaningful progress in our community. Registration Details: Reserve your spot today! Whether you’re a seasoned golfer or joining us to connect with other changemakers\, we welcome participants of all levels. For more information or to become a sponsor\, contact Amina Pierson at (267) 242-8827 or apierson@mbcdc.org. Together\, let’s honor Bill Crawford’s legacy and continue making a difference. Date: Friday\, July 11\, 2025 Time: 8:30 AM Location: Eagle Creek Golf Club\, Indianapolis\, Indiana
URL:https://mbcdc.org/event/12th-annual-william-bill-crawford-charitable-golf-outing-and-luncheon/
LOCATION:Eagle Creek Golf Club\, 8802 W 56th St\, Indianapolis\, 46234
ATTACH;FMTTYPE=image/png:https://mbcdc.org/wp-content/uploads/2025/03/2025-Golf-Outing-Save-the-Date-2.png
END:VEVENT
END:VCALENDAR