BEGIN:VCALENDAR
VERSION:2.0
PRODID:-//Martindale Brightwood CDC - ECPv6.15.20//NONSGML v1.0//EN
CALSCALE:GREGORIAN
METHOD:PUBLISH
X-WR-CALNAME:Martindale Brightwood CDC
X-ORIGINAL-URL:https://mbcdc.org
X-WR-CALDESC:Events for Martindale Brightwood CDC
REFRESH-INTERVAL;VALUE=DURATION:PT1H
X-Robots-Tag:noindex
X-PUBLISHED-TTL:PT1H
BEGIN:VTIMEZONE
TZID:America/Indiana/Indianapolis
BEGIN:DAYLIGHT
TZOFFSETFROM:-0500
TZOFFSETTO:-0400
TZNAME:EDT
DTSTART:20240310T070000
END:DAYLIGHT
BEGIN:STANDARD
TZOFFSETFROM:-0400
TZOFFSETTO:-0500
TZNAME:EST
DTSTART:20241103T060000
END:STANDARD
BEGIN:DAYLIGHT
TZOFFSETFROM:-0500
TZOFFSETTO:-0400
TZNAME:EDT
DTSTART:20250309T070000
END:DAYLIGHT
BEGIN:STANDARD
TZOFFSETFROM:-0400
TZOFFSETTO:-0500
TZNAME:EST
DTSTART:20251102T060000
END:STANDARD
BEGIN:DAYLIGHT
TZOFFSETFROM:-0500
TZOFFSETTO:-0400
TZNAME:EDT
DTSTART:20260308T070000
END:DAYLIGHT
BEGIN:STANDARD
TZOFFSETFROM:-0400
TZOFFSETTO:-0500
TZNAME:EST
DTSTART:20261101T060000
END:STANDARD
END:VTIMEZONE
BEGIN:VEVENT
DTSTART;TZID=America/Indiana/Indianapolis:20250716T120000
DTEND;TZID=America/Indiana/Indianapolis:20250716T130000
DTSTAMP:20260422T024246
CREATED:20250623T123818Z
LAST-MODIFIED:20250623T124201Z
UID:7221-1752667200-1752670800@mbcdc.org
SUMMARY:Summers in the Garden - Healthy Body Movement
DESCRIPTION:Start the summer by centering your mind and body. This guided session offers simple breathwork\, stretching\, and light movement techniques focused on relaxation\, mindfulness\, and connecting with the natural world around you. No experience is necessary—just bring a mat or towel and a willingness to breathe deeply. \nWhen: Wednesdays\, July 16th – September 3\, 2025\nTime: Noon – 1 PM\nWhere:  Rural Street Community Garden\, 2425 N. Rural St.\, Indianapolis\, IN 46218 \nRegister Today! Registration is required.
URL:https://mbcdc.org/event/summers-in-the-garden-healthy-body-movement/
LOCATION:Rural Street Community Garden\, 2425 N Rural St\, Indianapolis\, IN\, 46218\, United States
ATTACH;FMTTYPE=image/png:https://mbcdc.org/wp-content/uploads/2025/06/2025-Summers-in-the-Garden.png
END:VEVENT
END:VCALENDAR