BEGIN:VCALENDAR
VERSION:2.0
PRODID:-//Martindale Brightwood CDC - ECPv6.15.20//NONSGML v1.0//EN
CALSCALE:GREGORIAN
METHOD:PUBLISH
X-ORIGINAL-URL:https://mbcdc.org
X-WR-CALDESC:Events for Martindale Brightwood CDC
REFRESH-INTERVAL;VALUE=DURATION:PT1H
X-Robots-Tag:noindex
X-PUBLISHED-TTL:PT1H
BEGIN:VTIMEZONE
TZID:America/Indiana/Indianapolis
BEGIN:DAYLIGHT
TZOFFSETFROM:-0500
TZOFFSETTO:-0400
TZNAME:EDT
DTSTART:20240310T070000
END:DAYLIGHT
BEGIN:STANDARD
TZOFFSETFROM:-0400
TZOFFSETTO:-0500
TZNAME:EST
DTSTART:20241103T060000
END:STANDARD
BEGIN:DAYLIGHT
TZOFFSETFROM:-0500
TZOFFSETTO:-0400
TZNAME:EDT
DTSTART:20250309T070000
END:DAYLIGHT
BEGIN:STANDARD
TZOFFSETFROM:-0400
TZOFFSETTO:-0500
TZNAME:EST
DTSTART:20251102T060000
END:STANDARD
BEGIN:DAYLIGHT
TZOFFSETFROM:-0500
TZOFFSETTO:-0400
TZNAME:EDT
DTSTART:20260308T070000
END:DAYLIGHT
BEGIN:STANDARD
TZOFFSETFROM:-0400
TZOFFSETTO:-0500
TZNAME:EST
DTSTART:20261101T060000
END:STANDARD
END:VTIMEZONE
BEGIN:VEVENT
DTSTART;TZID=America/Indiana/Indianapolis:20250723T120000
DTEND;TZID=America/Indiana/Indianapolis:20250723T130000
DTSTAMP:20260422T025103
CREATED:20250623T123942Z
LAST-MODIFIED:20250627T184256Z
UID:7233-1753272000-1753275600@mbcdc.org
SUMMARY:Summers in the Garden - Herb Gardening Indoors
DESCRIPTION:Discover how to grow your own herbs indoors\, no backyard required! You’ll learn about easy-to-grow herbs like basil\, mint\, and oregano\, choosing the right containers\, lighting tips\, and how to care for your plants year-round. Attendees will also get a chance to pot their own herb to take home. \nWhen: Wednesdays\, July 16th – September 3\, 2025\nTime: Noon – 1 PM\nWhere:  Rural Street Community Garden\, 2425 N. Rural St.\, Indianapolis\, IN 46218 \nSession Topics \n\n\n\nThis Week: July 23 – Gardening: Herb Gardening Indoors\nNext Week: July 30 – Garden Party with Merchants Bank\n\n\n\nRegister Today! \nRegistration is required.
URL:https://mbcdc.org/event/summers-in-the-garden-herb-gardening-indoors/
LOCATION:Rural Street Community Garden\, 2425 N Rural St\, Indianapolis\, IN\, 46218\, United States
ATTACH;FMTTYPE=image/png:https://mbcdc.org/wp-content/uploads/2025/06/2025-Summers-in-the-Garden.png
END:VEVENT
END:VCALENDAR