BEGIN:VCALENDAR
VERSION:2.0
PRODID:-//Martindale Brightwood CDC - ECPv6.15.20//NONSGML v1.0//EN
CALSCALE:GREGORIAN
METHOD:PUBLISH
X-ORIGINAL-URL:https://mbcdc.org
X-WR-CALDESC:Events for Martindale Brightwood CDC
REFRESH-INTERVAL;VALUE=DURATION:PT1H
X-Robots-Tag:noindex
X-PUBLISHED-TTL:PT1H
BEGIN:VTIMEZONE
TZID:America/Indiana/Indianapolis
BEGIN:DAYLIGHT
TZOFFSETFROM:-0500
TZOFFSETTO:-0400
TZNAME:EDT
DTSTART:20240310T070000
END:DAYLIGHT
BEGIN:STANDARD
TZOFFSETFROM:-0400
TZOFFSETTO:-0500
TZNAME:EST
DTSTART:20241103T060000
END:STANDARD
BEGIN:DAYLIGHT
TZOFFSETFROM:-0500
TZOFFSETTO:-0400
TZNAME:EDT
DTSTART:20250309T070000
END:DAYLIGHT
BEGIN:STANDARD
TZOFFSETFROM:-0400
TZOFFSETTO:-0500
TZNAME:EST
DTSTART:20251102T060000
END:STANDARD
BEGIN:DAYLIGHT
TZOFFSETFROM:-0500
TZOFFSETTO:-0400
TZNAME:EDT
DTSTART:20260308T070000
END:DAYLIGHT
BEGIN:STANDARD
TZOFFSETFROM:-0400
TZOFFSETTO:-0500
TZNAME:EST
DTSTART:20261101T060000
END:STANDARD
END:VTIMEZONE
BEGIN:VEVENT
DTSTART;TZID=America/Indiana/Indianapolis:20250725T180000
DTEND;TZID=America/Indiana/Indianapolis:20250725T200000
DTSTAMP:20260422T024306
CREATED:20250709T013734Z
LAST-MODIFIED:20250709T013734Z
UID:7302-1753466400-1753473600@mbcdc.org
SUMMARY:MBCDC Small Business Open House
DESCRIPTION:You’re invited to an evening of connection\, collaboration\, and real conversation at the Martindale Brightwood Community Development Corporation Small Business Open House. \n\n\nWe’re partnering with the Indy Black Chamber of Commerce to present a special Business Spotlight featuring Rockland Page\, founder of ROCKaBLOCK — a dynamic local brand blending culture\, fashion\, and entrepreneurship. He’ll share his journey\, lessons learned\, and how he’s built a brand with purpose and staying power. \nWhether you’re launching a new idea\, growing your business\, or looking to connect with others who get the grind — this is the space for you. \nWhat to Expect:✔️ Networking + Resource Sharing from 6PM–8PM✔️ Small business support programs from Martindale Brightwood CDC✔️ Business spotlight with Rockland Page (ROCKaBLOCK)✔️ Partnership feature with the Indy Black Chamber✔️ Light refreshments + professional\, community-forward energy \n🎟️ Free to attend – Registration Required \nhttps://www.eventbrite.com/e/mbcdc-small-business-open-house-featuring-rockablock-indy-black-chamber-tickets-1465783781749?aff=oddtdtcreator \nCome ready to connect\, learn\, and leave with new ideas\, new contacts\, and the support you need to move your business forward.
URL:https://mbcdc.org/event/mbcdc-small-business-open-house/
LOCATION:1332 North Illinois Street Indianapolis\, IN 46202\, 1332 North Illinois Street\, Indianapolis\, IN\, 46202
ATTACH;FMTTYPE=image/jpeg:https://mbcdc.org/wp-content/uploads/2025/07/Small-Busines.jpeg
END:VEVENT
END:VCALENDAR