BEGIN:VCALENDAR
VERSION:2.0
PRODID:-//Martindale Brightwood CDC - ECPv6.15.20//NONSGML v1.0//EN
CALSCALE:GREGORIAN
METHOD:PUBLISH
X-WR-CALNAME:Martindale Brightwood CDC
X-ORIGINAL-URL:https://mbcdc.org
X-WR-CALDESC:Events for Martindale Brightwood CDC
REFRESH-INTERVAL;VALUE=DURATION:PT1H
X-Robots-Tag:noindex
X-PUBLISHED-TTL:PT1H
BEGIN:VTIMEZONE
TZID:America/Indiana/Indianapolis
BEGIN:DAYLIGHT
TZOFFSETFROM:-0500
TZOFFSETTO:-0400
TZNAME:EDT
DTSTART:20240310T070000
END:DAYLIGHT
BEGIN:STANDARD
TZOFFSETFROM:-0400
TZOFFSETTO:-0500
TZNAME:EST
DTSTART:20241103T060000
END:STANDARD
BEGIN:DAYLIGHT
TZOFFSETFROM:-0500
TZOFFSETTO:-0400
TZNAME:EDT
DTSTART:20250309T070000
END:DAYLIGHT
BEGIN:STANDARD
TZOFFSETFROM:-0400
TZOFFSETTO:-0500
TZNAME:EST
DTSTART:20251102T060000
END:STANDARD
BEGIN:DAYLIGHT
TZOFFSETFROM:-0500
TZOFFSETTO:-0400
TZNAME:EDT
DTSTART:20260308T070000
END:DAYLIGHT
BEGIN:STANDARD
TZOFFSETFROM:-0400
TZOFFSETTO:-0500
TZNAME:EST
DTSTART:20261101T060000
END:STANDARD
END:VTIMEZONE
BEGIN:VEVENT
DTSTART;TZID=America/Indiana/Indianapolis:20250806T120000
DTEND;TZID=America/Indiana/Indianapolis:20250806T130000
DTSTAMP:20260422T004358
CREATED:20250623T125811Z
LAST-MODIFIED:20250627T184201Z
UID:7251-1754481600-1754485200@mbcdc.org
SUMMARY:Summers in the Garden - Planning a Beginner Garden
DESCRIPTION:Thinking about starting a garden but not sure where to begin? This workshop walks you through choosing your space\, selecting easy-to-grow vegetables\, improving your soil\, and designing a garden that fits your lifestyle. Perfect for beginners\, renters\, or anyone ready to get growing! \nWhen: Wednesdays\, July 16th – September 3\, 2025\nTime: Noon – 1 PM\nWhere:  Rural Street Community Garden\, 2425 N. Rural St.\, Indianapolis\, IN 46218 \nNext Week: August 13 – Healthy Body Movement \nRegister Today!  Registration is required.
URL:https://mbcdc.org/event/summers-in-the-garden-planning-a-beginner-garden/
LOCATION:Rural Street Community Garden\, 2425 N Rural St\, Indianapolis\, IN\, 46218\, United States
ATTACH;FMTTYPE=image/png:https://mbcdc.org/wp-content/uploads/2025/06/2025-Summers-in-the-Garden.png
END:VEVENT
END:VCALENDAR