BEGIN:VCALENDAR
VERSION:2.0
PRODID:-//Martindale Brightwood CDC - ECPv6.15.20//NONSGML v1.0//EN
CALSCALE:GREGORIAN
METHOD:PUBLISH
X-WR-CALNAME:Martindale Brightwood CDC
X-ORIGINAL-URL:https://mbcdc.org
X-WR-CALDESC:Events for Martindale Brightwood CDC
REFRESH-INTERVAL;VALUE=DURATION:PT1H
X-Robots-Tag:noindex
X-PUBLISHED-TTL:PT1H
BEGIN:VTIMEZONE
TZID:America/Indiana/Indianapolis
BEGIN:DAYLIGHT
TZOFFSETFROM:-0500
TZOFFSETTO:-0400
TZNAME:EDT
DTSTART:20240310T070000
END:DAYLIGHT
BEGIN:STANDARD
TZOFFSETFROM:-0400
TZOFFSETTO:-0500
TZNAME:EST
DTSTART:20241103T060000
END:STANDARD
BEGIN:DAYLIGHT
TZOFFSETFROM:-0500
TZOFFSETTO:-0400
TZNAME:EDT
DTSTART:20250309T070000
END:DAYLIGHT
BEGIN:STANDARD
TZOFFSETFROM:-0400
TZOFFSETTO:-0500
TZNAME:EST
DTSTART:20251102T060000
END:STANDARD
BEGIN:DAYLIGHT
TZOFFSETFROM:-0500
TZOFFSETTO:-0400
TZNAME:EDT
DTSTART:20260308T070000
END:DAYLIGHT
BEGIN:STANDARD
TZOFFSETFROM:-0400
TZOFFSETTO:-0500
TZNAME:EST
DTSTART:20261101T060000
END:STANDARD
END:VTIMEZONE
BEGIN:VEVENT
DTSTART;TZID=America/Indiana/Indianapolis:20250813T120000
DTEND;TZID=America/Indiana/Indianapolis:20250813T130000
DTSTAMP:20260422T021505
CREATED:20250627T183358Z
LAST-MODIFIED:20250813T145023Z
UID:7261-1755086400-1755090000@mbcdc.org
SUMMARY:Summers in the Garden- Healthy Body Movement
DESCRIPTION:Reconnect with nature and yourself in our second wellness session. This class emphasizes body awareness\, gentle movement\, and techniques to help you manage stress and realign midweek. Held in the peaceful garden setting\, it’s a refreshing way to reset your energy. \nWhen: Wednesdays\, July 16th – September 3\, 2025\nTime: Noon – 1 PM\nWhere:  Rural Street Community Garden\, 2425 N. Rural St.\, Indianapolis\, IN 46218 \nNext Week: August 20 – Meals from the Garden \nRegister Today!  Registration is required.
URL:https://mbcdc.org/event/summers-in-the-garden-healthy-body-movement-2/
LOCATION:Rural Street Community Garden\, 2425 N Rural St\, Indianapolis\, IN\, 46218\, United States
ATTACH;FMTTYPE=image/png:https://mbcdc.org/wp-content/uploads/2025/06/2025-Summers-in-the-Garden.png
END:VEVENT
END:VCALENDAR