BEGIN:VCALENDAR
VERSION:2.0
PRODID:-//Martindale Brightwood CDC - ECPv6.15.20//NONSGML v1.0//EN
CALSCALE:GREGORIAN
METHOD:PUBLISH
X-WR-CALNAME:Martindale Brightwood CDC
X-ORIGINAL-URL:https://mbcdc.org
X-WR-CALDESC:Events for Martindale Brightwood CDC
REFRESH-INTERVAL;VALUE=DURATION:PT1H
X-Robots-Tag:noindex
X-PUBLISHED-TTL:PT1H
BEGIN:VTIMEZONE
TZID:America/Indiana/Indianapolis
BEGIN:DAYLIGHT
TZOFFSETFROM:-0500
TZOFFSETTO:-0400
TZNAME:EDT
DTSTART:20240310T070000
END:DAYLIGHT
BEGIN:STANDARD
TZOFFSETFROM:-0400
TZOFFSETTO:-0500
TZNAME:EST
DTSTART:20241103T060000
END:STANDARD
BEGIN:DAYLIGHT
TZOFFSETFROM:-0500
TZOFFSETTO:-0400
TZNAME:EDT
DTSTART:20250309T070000
END:DAYLIGHT
BEGIN:STANDARD
TZOFFSETFROM:-0400
TZOFFSETTO:-0500
TZNAME:EST
DTSTART:20251102T060000
END:STANDARD
BEGIN:DAYLIGHT
TZOFFSETFROM:-0500
TZOFFSETTO:-0400
TZNAME:EDT
DTSTART:20260308T070000
END:DAYLIGHT
BEGIN:STANDARD
TZOFFSETFROM:-0400
TZOFFSETTO:-0500
TZNAME:EST
DTSTART:20261101T060000
END:STANDARD
END:VTIMEZONE
BEGIN:VEVENT
DTSTART;TZID=America/Indiana/Indianapolis:20250902T180000
DTEND;TZID=America/Indiana/Indianapolis:20250902T200000
DTSTAMP:20260421T211035
CREATED:20250805T144439Z
LAST-MODIFIED:20250805T144645Z
UID:7362-1756836000-1756843200@mbcdc.org
SUMMARY:Level Up Your Business - Marketing Series
DESCRIPTION:Join Martindale Brightwood CDC for a powerful three-part marketing series designed to help you elevate your business presence and attract your ideal customers. Led by business strategist Leland Baptist\, this virtual workshop series will provide you with the tools and confidence to market effectively and grow your business. \nWhether you’re just getting started or looking to scale\, you’ll learn: \n\n\nHow to craft compelling marketing messages \n\n\nStrategies to engage and convert customers \n\n\nSteps to confidently grow your brand \n\n\n📅 Dates: \n\n\nTuesday\, August 19 \n\n\nTuesday\, August 26 \n\n\nTuesday\, September 2 \n\n\n⏰ Time: 6:00 PM – 8:00 PM📍 Location: Microsoft Teams (link provided upon registration) \nFor more information\, contact cmbarrett@mbcdc.org.
URL:https://mbcdc.org/event/level-up-your-business-marketing-series-3/
LOCATION:Virtual Location\, Virtual Location
ATTACH;FMTTYPE=image/png:https://mbcdc.org/wp-content/uploads/2025/08/Marketing-Series-August-2025-1.png
END:VEVENT
END:VCALENDAR