BEGIN:VCALENDAR
VERSION:2.0
PRODID:-//Martindale Brightwood CDC - ECPv6.15.20//NONSGML v1.0//EN
CALSCALE:GREGORIAN
METHOD:PUBLISH
X-WR-CALNAME:Martindale Brightwood CDC
X-ORIGINAL-URL:https://mbcdc.org
X-WR-CALDESC:Events for Martindale Brightwood CDC
REFRESH-INTERVAL;VALUE=DURATION:PT1H
X-Robots-Tag:noindex
X-PUBLISHED-TTL:PT1H
BEGIN:VTIMEZONE
TZID:America/Indiana/Indianapolis
BEGIN:DAYLIGHT
TZOFFSETFROM:-0500
TZOFFSETTO:-0400
TZNAME:EDT
DTSTART:20240310T070000
END:DAYLIGHT
BEGIN:STANDARD
TZOFFSETFROM:-0400
TZOFFSETTO:-0500
TZNAME:EST
DTSTART:20241103T060000
END:STANDARD
BEGIN:DAYLIGHT
TZOFFSETFROM:-0500
TZOFFSETTO:-0400
TZNAME:EDT
DTSTART:20250309T070000
END:DAYLIGHT
BEGIN:STANDARD
TZOFFSETFROM:-0400
TZOFFSETTO:-0500
TZNAME:EST
DTSTART:20251102T060000
END:STANDARD
BEGIN:DAYLIGHT
TZOFFSETFROM:-0500
TZOFFSETTO:-0400
TZNAME:EDT
DTSTART:20260308T070000
END:DAYLIGHT
BEGIN:STANDARD
TZOFFSETFROM:-0400
TZOFFSETTO:-0500
TZNAME:EST
DTSTART:20261101T060000
END:STANDARD
END:VTIMEZONE
BEGIN:VEVENT
DTSTART;TZID=America/Indiana/Indianapolis:20250909T183000
DTEND;TZID=America/Indiana/Indianapolis:20250909T200000
DTSTAMP:20260421T211006
CREATED:20250817T182325Z
LAST-MODIFIED:20250817T182325Z
UID:7420-1757442600-1757448000@mbcdc.org
SUMMARY:Empowered Business Solutions - Virtual Chat
DESCRIPTION:Are you working on something you love but not sure if it’s a hobby\, a side hustle\, or a true business? Join us for a powerful virtual conversation designed to help you clarify your path and build wealth intentionally. \nThis interactive session will explore:✨ How to know when a hobby becomes a business✨ Steps to turn your hustle into a sustainable income stream✨ Mindset shifts for long-term success and wealth-building \nWhether you’re just starting out or ready to scale\, this chat will give you the clarity and tools to move forward with confidence. \nVirtual Chat: Hobby\, Hustle or Business?📅 September 9\, 2025⏰ 6:30 – 8:00 PM💻 Virtual \n👉 Registration required. \nFor more information\, contact Chenille Barrett at cmbarett@mbcdc.org.
URL:https://mbcdc.org/event/empowered-business-solutions-virtual-chat/
LOCATION:Virtual Location\, Virtual Location
ATTACH;FMTTYPE=image/png:https://mbcdc.org/wp-content/uploads/2025/08/MBCDC-Business.png
END:VEVENT
END:VCALENDAR