BEGIN:VCALENDAR
VERSION:2.0
PRODID:-//Martindale Brightwood CDC - ECPv6.15.20//NONSGML v1.0//EN
CALSCALE:GREGORIAN
METHOD:PUBLISH
X-ORIGINAL-URL:https://mbcdc.org
X-WR-CALDESC:Events for Martindale Brightwood CDC
REFRESH-INTERVAL;VALUE=DURATION:PT1H
X-Robots-Tag:noindex
X-PUBLISHED-TTL:PT1H
BEGIN:VTIMEZONE
TZID:America/Indiana/Indianapolis
BEGIN:DAYLIGHT
TZOFFSETFROM:-0500
TZOFFSETTO:-0400
TZNAME:EDT
DTSTART:20240310T070000
END:DAYLIGHT
BEGIN:STANDARD
TZOFFSETFROM:-0400
TZOFFSETTO:-0500
TZNAME:EST
DTSTART:20241103T060000
END:STANDARD
BEGIN:DAYLIGHT
TZOFFSETFROM:-0500
TZOFFSETTO:-0400
TZNAME:EDT
DTSTART:20250309T070000
END:DAYLIGHT
BEGIN:STANDARD
TZOFFSETFROM:-0400
TZOFFSETTO:-0500
TZNAME:EST
DTSTART:20251102T060000
END:STANDARD
BEGIN:DAYLIGHT
TZOFFSETFROM:-0500
TZOFFSETTO:-0400
TZNAME:EDT
DTSTART:20260308T070000
END:DAYLIGHT
BEGIN:STANDARD
TZOFFSETFROM:-0400
TZOFFSETTO:-0500
TZNAME:EST
DTSTART:20261101T060000
END:STANDARD
END:VTIMEZONE
BEGIN:VEVENT
DTSTART;TZID=America/Indiana/Indianapolis:20251008T080000
DTEND;TZID=America/Indiana/Indianapolis:20251008T100000
DTSTAMP:20260421T182015
CREATED:20250917T170926Z
LAST-MODIFIED:20250917T170926Z
UID:7580-1759910400-1759917600@mbcdc.org
SUMMARY:Coffee & Conversation: Senior Appreciation with IFD
DESCRIPTION:This week is dedicated to Senior Appreciation! Seniors are invited to enjoy a morning of conversation\, connection\, and resources with representatives from the Indianapolis Fire Department. Learn about safety tips\, valuable services\, and community resources designed to support older adults. Coffee\, donuts\, and free meal vouchers (while supplies last) will be provided! \nDate: Wednesday\, October 8\, 2025 | 8–10 AMLocation: 2435 N. Sherman Drive\, Suite 4
URL:https://mbcdc.org/event/coffee-conversation-senior-appreciation-with-ifd/
LOCATION:Martindale Brightwood CDC\, Brightwood Plaza\, 2435 North Sherman Drive\, Indianapolis\, IN 46218\, 2435 North Sherman Drive Suite 4\, Indianapolis\, IN\, 46218\, United States
ATTACH;FMTTYPE=image/png:https://mbcdc.org/wp-content/uploads/2025/09/QoL-Housing-6.png
END:VEVENT
END:VCALENDAR