BEGIN:VCALENDAR
VERSION:2.0
PRODID:-//Martindale Brightwood CDC - ECPv6.15.20//NONSGML v1.0//EN
CALSCALE:GREGORIAN
METHOD:PUBLISH
X-ORIGINAL-URL:https://mbcdc.org
X-WR-CALDESC:Events for Martindale Brightwood CDC
REFRESH-INTERVAL;VALUE=DURATION:PT1H
X-Robots-Tag:noindex
X-PUBLISHED-TTL:PT1H
BEGIN:VTIMEZONE
TZID:America/Indiana/Indianapolis
BEGIN:DAYLIGHT
TZOFFSETFROM:-0500
TZOFFSETTO:-0400
TZNAME:EDT
DTSTART:20240310T070000
END:DAYLIGHT
BEGIN:STANDARD
TZOFFSETFROM:-0400
TZOFFSETTO:-0500
TZNAME:EST
DTSTART:20241103T060000
END:STANDARD
BEGIN:DAYLIGHT
TZOFFSETFROM:-0500
TZOFFSETTO:-0400
TZNAME:EDT
DTSTART:20250309T070000
END:DAYLIGHT
BEGIN:STANDARD
TZOFFSETFROM:-0400
TZOFFSETTO:-0500
TZNAME:EST
DTSTART:20251102T060000
END:STANDARD
BEGIN:DAYLIGHT
TZOFFSETFROM:-0500
TZOFFSETTO:-0400
TZNAME:EDT
DTSTART:20260308T070000
END:DAYLIGHT
BEGIN:STANDARD
TZOFFSETFROM:-0400
TZOFFSETTO:-0500
TZNAME:EST
DTSTART:20261101T060000
END:STANDARD
END:VTIMEZONE
BEGIN:VEVENT
DTSTART;TZID=America/Indiana/Indianapolis:20251029T080000
DTEND;TZID=America/Indiana/Indianapolis:20251029T100000
DTSTAMP:20260421T211824
CREATED:20250917T172639Z
LAST-MODIFIED:20250917T172639Z
UID:7589-1761724800-1761732000@mbcdc.org
SUMMARY:Coffee & Conversation: Housing Partners
DESCRIPTION:Close out the month with our Housing Partners spotlight! Chat with local housing organizations—including Edna Martin Christian Center\, Intend Indiana\, and more—about resources\, stability\, and homeownership opportunities in Martindale-Brightwood. Your voice helps guide future housing initiatives through the Resident Survey. Coffee\, donuts\, and free meal vouchers (while supplies last) will be provided! \nDate: Wednesday\, October 29\, 2025 | 8–10 AMLocation: 2435 N. Sherman Drive\, Suite 4
URL:https://mbcdc.org/event/coffee-conversation-housing-partners/
LOCATION:Martindale Brightwood CDC\, Brightwood Plaza\, 2435 North Sherman Drive\, Indianapolis\, IN 46218\, 2435 North Sherman Drive Suite 4\, Indianapolis\, IN\, 46218\, United States
ATTACH;FMTTYPE=image/png:https://mbcdc.org/wp-content/uploads/2025/09/QoL-Housing-9.png
END:VEVENT
END:VCALENDAR