BEGIN:VCALENDAR
VERSION:2.0
PRODID:-//Martindale Brightwood CDC - ECPv6.15.20//NONSGML v1.0//EN
CALSCALE:GREGORIAN
METHOD:PUBLISH
X-WR-CALNAME:Martindale Brightwood CDC
X-ORIGINAL-URL:https://mbcdc.org
X-WR-CALDESC:Events for Martindale Brightwood CDC
REFRESH-INTERVAL;VALUE=DURATION:PT1H
X-Robots-Tag:noindex
X-PUBLISHED-TTL:PT1H
BEGIN:VTIMEZONE
TZID:America/Indiana/Indianapolis
BEGIN:DAYLIGHT
TZOFFSETFROM:-0500
TZOFFSETTO:-0400
TZNAME:EDT
DTSTART:20240310T070000
END:DAYLIGHT
BEGIN:STANDARD
TZOFFSETFROM:-0400
TZOFFSETTO:-0500
TZNAME:EST
DTSTART:20241103T060000
END:STANDARD
BEGIN:DAYLIGHT
TZOFFSETFROM:-0500
TZOFFSETTO:-0400
TZNAME:EDT
DTSTART:20250309T070000
END:DAYLIGHT
BEGIN:STANDARD
TZOFFSETFROM:-0400
TZOFFSETTO:-0500
TZNAME:EST
DTSTART:20251102T060000
END:STANDARD
BEGIN:DAYLIGHT
TZOFFSETFROM:-0500
TZOFFSETTO:-0400
TZNAME:EDT
DTSTART:20260308T070000
END:DAYLIGHT
BEGIN:STANDARD
TZOFFSETFROM:-0400
TZOFFSETTO:-0500
TZNAME:EST
DTSTART:20261101T060000
END:STANDARD
END:VTIMEZONE
BEGIN:VEVENT
DTSTART;TZID=America/Indiana/Indianapolis:20251106T180000
DTEND;TZID=America/Indiana/Indianapolis:20251106T210000
DTSTAMP:20260421T164826
CREATED:20250708T152606Z
LAST-MODIFIED:20250930T152258Z
UID:7289-1762452000-1762462800@mbcdc.org
SUMMARY:Legacy Dinner
DESCRIPTION:Martindale Brightwood Community Development Corporation invites you to a powerful evening of reflection\, celebration\, and connection. \nThis cocktail dinner will honor the legacy and leadership of our retiring CEO and recognize the valued partners who have supported our mission and work throughout the years. \nDate: Thursday\, November 6\, 2025  \nTime: 6 PM – 9 PM \nLocation: The Gathertorium at Martin University\, Indianapolis\, IN 46218 \nAttire: Cocktail (African-inspired attire encouraged) \nRSVP by October 18\, 2025 \n$60 Per person ($40 MB residents) \nPayments can be made via Zelle apierson@mbcdc.org or mail a check to Martindale Brightwood CDC 2435 North Sherman Drive\, Suite 4\, Indianapolis\, IN 46218. Please include Legacy Dinner in the memo. \nFor questions contact Briana Franklin at bfranklin@mbcdc.org
URL:https://mbcdc.org/event/legacy-dinner/
LOCATION:Martin University\, 2186 North Sherman Drive\, Indianapolis\, 46218\, United States
ATTACH;FMTTYPE=image/png:https://mbcdc.org/wp-content/uploads/2025/07/2025-Legacy-Dinner-8.png
END:VEVENT
END:VCALENDAR