BEGIN:VCALENDAR
VERSION:2.0
PRODID:-//Martindale Brightwood CDC - ECPv6.15.20//NONSGML v1.0//EN
CALSCALE:GREGORIAN
METHOD:PUBLISH
X-ORIGINAL-URL:https://mbcdc.org
X-WR-CALDESC:Events for Martindale Brightwood CDC
REFRESH-INTERVAL;VALUE=DURATION:PT1H
X-Robots-Tag:noindex
X-PUBLISHED-TTL:PT1H
BEGIN:VTIMEZONE
TZID:America/Indiana/Indianapolis
BEGIN:DAYLIGHT
TZOFFSETFROM:-0500
TZOFFSETTO:-0400
TZNAME:EDT
DTSTART:20240310T070000
END:DAYLIGHT
BEGIN:STANDARD
TZOFFSETFROM:-0400
TZOFFSETTO:-0500
TZNAME:EST
DTSTART:20241103T060000
END:STANDARD
BEGIN:DAYLIGHT
TZOFFSETFROM:-0500
TZOFFSETTO:-0400
TZNAME:EDT
DTSTART:20250309T070000
END:DAYLIGHT
BEGIN:STANDARD
TZOFFSETFROM:-0400
TZOFFSETTO:-0500
TZNAME:EST
DTSTART:20251102T060000
END:STANDARD
BEGIN:DAYLIGHT
TZOFFSETFROM:-0500
TZOFFSETTO:-0400
TZNAME:EDT
DTSTART:20260308T070000
END:DAYLIGHT
BEGIN:STANDARD
TZOFFSETFROM:-0400
TZOFFSETTO:-0500
TZNAME:EST
DTSTART:20261101T060000
END:STANDARD
END:VTIMEZONE
BEGIN:VEVENT
DTSTART;TZID=America/Indiana/Indianapolis:20251119T180000
DTEND;TZID=America/Indiana/Indianapolis:20251119T193000
DTSTAMP:20260421T165055
CREATED:20251023T231531Z
LAST-MODIFIED:20251104T160921Z
UID:7443-1763575200-1763580600@mbcdc.org
SUMMARY:Hobby\, Hustle\, or Business - Virtual Microenterprise Meetup
DESCRIPTION:Hobby\, Hustle\, or Business – Virtual Microenterprise Meetup\nJoin Martindale-Brightwood CDC’s Empowered Business Solutions for our Legacy Builders November Meetup! This monthly gathering brings together local entrepreneurs\, small business owners\, and aspiring founders to connect\, collaborate\, and grow. \nDate: Tuesday\, November 19\, 2025Time: 6:00 PM – 7:30 PMLocation: Virtual (link will be provided) \nCome ready to share your wins\, challenges\, and goals in a supportive environment designed to strengthen our business community. Whether you’re launching a new idea or scaling your business\, Legacy Builders is the place to learn\, network\, and be inspired by others on the same journey. \n💡 Bring your business cards\, ideas\, and energy — let’s build together!
URL:https://mbcdc.org/event/legacy-builders-meetup-november-session/
LOCATION:Virtual Location\, Virtual Location
ATTACH;FMTTYPE=image/png:https://mbcdc.org/wp-content/uploads/2025/10/Hobby-hustle-or-business-1.png
END:VEVENT
END:VCALENDAR