BEGIN:VCALENDAR
VERSION:2.0
PRODID:-//Martindale Brightwood CDC - ECPv6.15.20//NONSGML v1.0//EN
CALSCALE:GREGORIAN
METHOD:PUBLISH
X-ORIGINAL-URL:https://mbcdc.org
X-WR-CALDESC:Events for Martindale Brightwood CDC
REFRESH-INTERVAL;VALUE=DURATION:PT1H
X-Robots-Tag:noindex
X-PUBLISHED-TTL:PT1H
BEGIN:VTIMEZONE
TZID:America/Indiana/Indianapolis
BEGIN:DAYLIGHT
TZOFFSETFROM:-0500
TZOFFSETTO:-0400
TZNAME:EDT
DTSTART:20240310T070000
END:DAYLIGHT
BEGIN:STANDARD
TZOFFSETFROM:-0400
TZOFFSETTO:-0500
TZNAME:EST
DTSTART:20241103T060000
END:STANDARD
BEGIN:DAYLIGHT
TZOFFSETFROM:-0500
TZOFFSETTO:-0400
TZNAME:EDT
DTSTART:20250309T070000
END:DAYLIGHT
BEGIN:STANDARD
TZOFFSETFROM:-0400
TZOFFSETTO:-0500
TZNAME:EST
DTSTART:20251102T060000
END:STANDARD
BEGIN:DAYLIGHT
TZOFFSETFROM:-0500
TZOFFSETTO:-0400
TZNAME:EDT
DTSTART:20260308T070000
END:DAYLIGHT
BEGIN:STANDARD
TZOFFSETFROM:-0400
TZOFFSETTO:-0500
TZNAME:EST
DTSTART:20261101T060000
END:STANDARD
END:VTIMEZONE
BEGIN:VEVENT
DTSTART;TZID=America/Indiana/Indianapolis:20251212T180000
DTEND;TZID=America/Indiana/Indianapolis:20251212T210000
DTSTAMP:20260421T152609
CREATED:20251023T232603Z
LAST-MODIFIED:20251221T191522Z
UID:7736-1765562400-1765573200@mbcdc.org
SUMMARY:Ugly Sweater Party - Microenterprise Meetup
DESCRIPTION:If you have trouble registering\, first try clearing your browsing history. If you still experience issues after doing so\, then contact Chenille Barrett at cmbarrett@mbcdc.org with your name and phone number.\nUgly Sweater Party\nGet ready to rock your ugliest (or most festive!) sweater at our annual Ugly Sweater Party! Join fellow small business owners and entrepreneurs for an evening of networking\, laughter\, and holiday cheer in a relaxed and joyful atmosphere. \nEnjoy good company\, holiday treats\, and plenty of opportunities to connect with small business owners and partners who make Indianapolis thrive. Whether your sweater jingles\, sparkles\, or just makes people laugh—this is your time to shine! \nFriday\, December 12 | 6:00–9:00 PMPolk Stables\, 1533 Lewis St\, Indianapolis\, IN 46202 \n✨ Admission is free\, but registration is encouraged.📩 For additional information\, contact Chenille Barrett at cmbarrett@mbcdc.org.🌐 Sign up today at www.mbcdc.org \nIf you have trouble registering\, first try clearing your browsing history. If you still experience issues after doing so\, then contact Chenille Barrett at cmbarrett@mbcdc.org with your name and phone number.
URL:https://mbcdc.org/event/legacy-builders-holiday-mixer-december-session/
LOCATION:Cohatch Polk Stables\,  1533 Lewis St\, Indianapolis\, IN 46202\, 1533 Lewis St\, Indianapolis\, IN\, 46202
ATTACH;FMTTYPE=image/png:https://mbcdc.org/wp-content/uploads/2025/10/Ugly-Sweater-Party-2025-1.png
END:VEVENT
END:VCALENDAR