BEGIN:VCALENDAR
VERSION:2.0
PRODID:-//Martindale Brightwood CDC - ECPv6.15.20//NONSGML v1.0//EN
CALSCALE:GREGORIAN
METHOD:PUBLISH
X-WR-CALNAME:Martindale Brightwood CDC
X-ORIGINAL-URL:https://mbcdc.org
X-WR-CALDESC:Events for Martindale Brightwood CDC
REFRESH-INTERVAL;VALUE=DURATION:PT1H
X-Robots-Tag:noindex
X-PUBLISHED-TTL:PT1H
BEGIN:VTIMEZONE
TZID:America/Indiana/Indianapolis
BEGIN:DAYLIGHT
TZOFFSETFROM:-0500
TZOFFSETTO:-0400
TZNAME:EDT
DTSTART:20250309T070000
END:DAYLIGHT
BEGIN:STANDARD
TZOFFSETFROM:-0400
TZOFFSETTO:-0500
TZNAME:EST
DTSTART:20251102T060000
END:STANDARD
BEGIN:DAYLIGHT
TZOFFSETFROM:-0500
TZOFFSETTO:-0400
TZNAME:EDT
DTSTART:20260308T070000
END:DAYLIGHT
BEGIN:STANDARD
TZOFFSETFROM:-0400
TZOFFSETTO:-0500
TZNAME:EST
DTSTART:20261101T060000
END:STANDARD
BEGIN:DAYLIGHT
TZOFFSETFROM:-0500
TZOFFSETTO:-0400
TZNAME:EDT
DTSTART:20270314T070000
END:DAYLIGHT
BEGIN:STANDARD
TZOFFSETFROM:-0400
TZOFFSETTO:-0500
TZNAME:EST
DTSTART:20271107T060000
END:STANDARD
END:VTIMEZONE
BEGIN:VEVENT
DTSTART;TZID=America/Indiana/Indianapolis:20260128T130000
DTEND;TZID=America/Indiana/Indianapolis:20260128T160000
DTSTAMP:20260421T123842
CREATED:20251114T161340Z
LAST-MODIFIED:20260115T215354Z
UID:7819-1769605200-1769616000@mbcdc.org
SUMMARY:MBCDC Employment Services: New Year Job Fair
DESCRIPTION:Kick off the New Year with fresh opportunities! Join us at the New Year Job Fair\, featuring top employers in Indianapolis\, IN. This event is your chance to explore a variety of career paths\, meet with hiring professionals\, and take the next step toward achieving your career goals. \nEvent Details:\n📅 Date: Wednesday\, January 28th\, 2025\n🕒 Time: 1:00 PM – 4:00 PM\n📍 Location: Martindale Brightwood CDC\, Brightwood Plaza\, 2435 N. Sherman Drive\, Suite 4\, Indianapolis\, IN 46218 \nWhat to Expect:\n\nConnect with reputable companies offering positions in multiple industries.\nNetworking opportunities with local employers and professionals.\nResources and guidance for career development.\n\nWho Should Attend:\n\nJob seekers looking for new opportunities in 2026.\nProfessionals ready to advance their careers.\nRecent graduates and individuals re-entering the workforce.\n\nWhat Should you Bring:\n\nCurrent Resume\n2 forms of valid ID.\n\nDress to impress and bring plenty of resumes! This event is free to attend\, but registration is recommended to secure your spot. \nStart the year strong by taking the first step toward your next great opportunity! \nFor questions\, contact LaNita Nixon at lnixon@mbcdc.org or call 317-924-8042
URL:https://mbcdc.org/event/new-year-job-fair-2/
LOCATION:Martindale Brightwood CDC\, Brightwood Plaza\, 2435 North Sherman Drive\, Indianapolis\, IN 46218\, 2435 North Sherman Drive Suite 4\, Indianapolis\, IN\, 46218\, United States
ATTACH;FMTTYPE=image/png:https://mbcdc.org/wp-content/uploads/2025/11/Website-Event-Calendar-1600x900-2.png
END:VEVENT
BEGIN:VEVENT
DTSTART;TZID=America/Indiana/Indianapolis:20260128T180000
DTEND;TZID=America/Indiana/Indianapolis:20260128T200000
DTSTAMP:20260421T123842
CREATED:20251221T175648Z
LAST-MODIFIED:20260128T190356Z
UID:8004-1769623200-1769630400@mbcdc.org
SUMMARY:MBCDC Small Business Development: Microenterprise Meetup- Millionaire Mindset
DESCRIPTION:Microenterprise Meetup: Millionaire Mindset\nNo More Hype. Real Conversations About Building Wealth. \nJoin Martindale Brightwood CDC for a Microenterprise Meetup: Millionaire Mindset\, a candid conversation designed for small business owners and entrepreneurs who are serious about long-term wealth building. \nThis session moves beyond motivational hype to explore what building real wealth actually requires—discipline\, ownership\, long-term thinking\, and personal capacity. Participants will be guided through an honest discussion about readiness\, habits\, and decision-making\, with a focus on sustainable growth rather than quick wins. \nHosted by Chenille Barrett\, Director of Small Business\, and co-hosted by Ronica Owens\, Entrepreneur\, this meetup provides space for reflection\, learning\, and peer conversation grounded in real-world business experience. \nWhether you are strengthening your foundation or preparing for your next level of growth\, this session is designed to help you assess where you are and what it truly takes to move forward. \n📅 Wednesday\, January 28\, 2026⏰ 6:00 – 7:30 PM📍 Martindale Brightwood CDC2435 N. Sherman Drive\, Suite 4Indianapolis\, IN 46218 \n 
URL:https://mbcdc.org/event/mbcdc-empowered-business-solutions-microenterprise-meetup-millionaire-mindset/
LOCATION:Martindale Brightwood CDC\, 2435 N. Sherman Drive\, Suite 4\,\, Indianapolis\, IN\, 46218\, United States
ATTACH;FMTTYPE=image/png:https://mbcdc.org/wp-content/uploads/2025/12/Chenille-Barrett-1080-x-1350-px-2.png
END:VEVENT
END:VCALENDAR