BEGIN:VCALENDAR
VERSION:2.0
PRODID:-//Martindale Brightwood CDC - ECPv6.15.20//NONSGML v1.0//EN
CALSCALE:GREGORIAN
METHOD:PUBLISH
X-ORIGINAL-URL:https://mbcdc.org
X-WR-CALDESC:Events for Martindale Brightwood CDC
REFRESH-INTERVAL;VALUE=DURATION:PT1H
X-Robots-Tag:noindex
X-PUBLISHED-TTL:PT1H
BEGIN:VTIMEZONE
TZID:America/Indiana/Indianapolis
BEGIN:DAYLIGHT
TZOFFSETFROM:-0500
TZOFFSETTO:-0400
TZNAME:EDT
DTSTART:20250309T070000
END:DAYLIGHT
BEGIN:STANDARD
TZOFFSETFROM:-0400
TZOFFSETTO:-0500
TZNAME:EST
DTSTART:20251102T060000
END:STANDARD
BEGIN:DAYLIGHT
TZOFFSETFROM:-0500
TZOFFSETTO:-0400
TZNAME:EDT
DTSTART:20260308T070000
END:DAYLIGHT
BEGIN:STANDARD
TZOFFSETFROM:-0400
TZOFFSETTO:-0500
TZNAME:EST
DTSTART:20261101T060000
END:STANDARD
BEGIN:DAYLIGHT
TZOFFSETFROM:-0500
TZOFFSETTO:-0400
TZNAME:EDT
DTSTART:20270314T070000
END:DAYLIGHT
BEGIN:STANDARD
TZOFFSETFROM:-0400
TZOFFSETTO:-0500
TZNAME:EST
DTSTART:20271107T060000
END:STANDARD
END:VTIMEZONE
BEGIN:VEVENT
DTSTART;TZID=America/Indiana/Indianapolis:20260212T180000
DTEND;TZID=America/Indiana/Indianapolis:20260212T200000
DTSTAMP:20260421T125354
CREATED:20260113T231516Z
LAST-MODIFIED:20260128T185630Z
UID:8160-1770919200-1770926400@mbcdc.org
SUMMARY:MBCDC Small Business Development: Money Mindset Group Coaching
DESCRIPTION:A free six-part workshop series designed to help entrepreneurs and business owners build healthier money habits and financial confidence through guided mindset work and practical insight. \nFacilitated by Regina Sloan\, Entrepreneur & Mindset Coach\, this series supports clarity\, consistency\, and long-term financial stability. Application required\, submission deadline Wednesday\, January 28\, 2026. \nYou’ll Learn To: \n\nIdentify and shift limiting money beliefs\nBuild healthy\, consistent money habits\nGain confidence with credit and financial decision.
URL:https://mbcdc.org/event/mbcdc-empowered-business-solutions-money-mindset-group-coaching-2/
LOCATION:Virtual Location\, Virtual Location
ATTACH;FMTTYPE=image/png:https://mbcdc.org/wp-content/uploads/2025/12/Money-Mindset-Group-Coaching.png
END:VEVENT
BEGIN:VEVENT
DTSTART;TZID=America/Indiana/Indianapolis:20260212T180000
DTEND;TZID=America/Indiana/Indianapolis:20260212T200000
DTSTAMP:20260421T125354
CREATED:20260115T143326Z
LAST-MODIFIED:20260210T164652Z
UID:8172-1770919200-1770926400@mbcdc.org
SUMMARY:Jumpstart Indy: Partnering with Builders and Developers - A Realtor’s Guide Masterclass
DESCRIPTION:Whether you’re a Realtor or investor\, join us for an informative session designed to help you elevate your real estate business by learning how to successfully work with builders and developers. This workshop will cover proven strategies to strengthen relationships\, add value\, and build trust in the new construction and redevelopment space. \nYou’ll learn how to: \n\n\nUnderstand builder and seller decision-making \n\n\nAdapt your approach when working with mission-driven and for-profit developers \n\n\nAdd strategic value in both new construction and resale opportunities \n\n\nUse market insight to drive momentum\, credibility\, and long-term partnerships \n\n\nHosted by: Danielle Coleman (Sold by Danielle) \n📅 Date: February 12\, 2026🕕 Time: 6:00 PM – 8:00 PM📍 Location: 2435 N. Sherman Drive \nRegister: Scan the QR code on the flyer to sign up. \nQuestions? Contact Jasmine Buchanan at JBuchanan@mbcdc.org.
URL:https://mbcdc.org/event/jumpstart-indy-partnering-with-builders-and-developers-a-realtors-guide/
LOCATION:Martindale Brightwood CDC\, Brightwood Plaza\, 2435 North Sherman Drive\, Indianapolis\, IN 46218\, 2435 North Sherman Drive Suite 4\, Indianapolis\, IN\, 46218\, United States
ATTACH;FMTTYPE=image/png:https://mbcdc.org/wp-content/uploads/2026/01/252026-Kickstart-D.-Coleman-1600-x-900-px-2.png
END:VEVENT
END:VCALENDAR