BEGIN:VCALENDAR
VERSION:2.0
PRODID:-//Martindale Brightwood CDC - ECPv6.15.20//NONSGML v1.0//EN
CALSCALE:GREGORIAN
METHOD:PUBLISH
X-WR-CALNAME:Martindale Brightwood CDC
X-ORIGINAL-URL:https://mbcdc.org
X-WR-CALDESC:Events for Martindale Brightwood CDC
REFRESH-INTERVAL;VALUE=DURATION:PT1H
X-Robots-Tag:noindex
X-PUBLISHED-TTL:PT1H
BEGIN:VTIMEZONE
TZID:America/Indiana/Indianapolis
BEGIN:DAYLIGHT
TZOFFSETFROM:-0500
TZOFFSETTO:-0400
TZNAME:EDT
DTSTART:20250309T070000
END:DAYLIGHT
BEGIN:STANDARD
TZOFFSETFROM:-0400
TZOFFSETTO:-0500
TZNAME:EST
DTSTART:20251102T060000
END:STANDARD
BEGIN:DAYLIGHT
TZOFFSETFROM:-0500
TZOFFSETTO:-0400
TZNAME:EDT
DTSTART:20260308T070000
END:DAYLIGHT
BEGIN:STANDARD
TZOFFSETFROM:-0400
TZOFFSETTO:-0500
TZNAME:EST
DTSTART:20261101T060000
END:STANDARD
BEGIN:DAYLIGHT
TZOFFSETFROM:-0500
TZOFFSETTO:-0400
TZNAME:EDT
DTSTART:20270314T070000
END:DAYLIGHT
BEGIN:STANDARD
TZOFFSETFROM:-0400
TZOFFSETTO:-0500
TZNAME:EST
DTSTART:20271107T060000
END:STANDARD
END:VTIMEZONE
BEGIN:VEVENT
DTSTART;TZID=America/Indiana/Indianapolis:20260225T180000
DTEND;TZID=America/Indiana/Indianapolis:20260225T203000
DTSTAMP:20260421T111021
CREATED:20260202T183429Z
LAST-MODIFIED:20260202T195123Z
UID:8359-1772042400-1772051400@mbcdc.org
SUMMARY:MBCDC Small Business Development: Microenterprise Meetup- Movie Night
DESCRIPTION:Microenterprise Meetup: Movie Night – Food\, Film & Fun \nJoin us for a special edition of our Microenterprise Meetup featuring a community movie night! This month\, we’re bringing entrepreneurs\, small business owners\, and residents together for an evening of connection\, relaxation\, and inspiration. \nEnjoy food\, fellowship\, and a featured film in a welcoming and supportive environment. This event is designed to strengthen relationships\, encourage collaboration\, and provide a space to unwind while staying connected to local business and community resources. \nWhether you’re a current business owner\, aspiring entrepreneur\, or community supporter\, this is a great opportunity to network\, recharge\, and build meaningful connections. \nWe look forward to seeing you there for a night of learning\, laughter\, and community! \n📅 Wednesday\, February 25\, 2026⏰ 6:00 – 8:30 PM📍 TBA \nFor more information\, contact Chenille Barrett at cmbarrett@mbcdc.org
URL:https://mbcdc.org/event/mbcdc-small-business-development-microenterprise-meetup-movie-night/
LOCATION:TBA
ATTACH;FMTTYPE=image/png:https://mbcdc.org/wp-content/uploads/2026/02/SB-Movie-Night-February-2026-1600-x-900-px.png
END:VEVENT
END:VCALENDAR