BEGIN:VCALENDAR
VERSION:2.0
PRODID:-//Martindale Brightwood CDC - ECPv6.15.20//NONSGML v1.0//EN
CALSCALE:GREGORIAN
METHOD:PUBLISH
X-WR-CALNAME:Martindale Brightwood CDC
X-ORIGINAL-URL:https://mbcdc.org
X-WR-CALDESC:Events for Martindale Brightwood CDC
REFRESH-INTERVAL;VALUE=DURATION:PT1H
X-Robots-Tag:noindex
X-PUBLISHED-TTL:PT1H
BEGIN:VTIMEZONE
TZID:America/Indiana/Indianapolis
BEGIN:DAYLIGHT
TZOFFSETFROM:-0500
TZOFFSETTO:-0400
TZNAME:EDT
DTSTART:20250309T070000
END:DAYLIGHT
BEGIN:STANDARD
TZOFFSETFROM:-0400
TZOFFSETTO:-0500
TZNAME:EST
DTSTART:20251102T060000
END:STANDARD
BEGIN:DAYLIGHT
TZOFFSETFROM:-0500
TZOFFSETTO:-0400
TZNAME:EDT
DTSTART:20260308T070000
END:DAYLIGHT
BEGIN:STANDARD
TZOFFSETFROM:-0400
TZOFFSETTO:-0500
TZNAME:EST
DTSTART:20261101T060000
END:STANDARD
BEGIN:DAYLIGHT
TZOFFSETFROM:-0500
TZOFFSETTO:-0400
TZNAME:EDT
DTSTART:20270314T070000
END:DAYLIGHT
BEGIN:STANDARD
TZOFFSETFROM:-0400
TZOFFSETTO:-0500
TZNAME:EST
DTSTART:20271107T060000
END:STANDARD
END:VTIMEZONE
BEGIN:VEVENT
DTSTART;TZID=America/Indiana/Indianapolis:20260305T130000
DTEND;TZID=America/Indiana/Indianapolis:20260305T170000
DTSTAMP:20260421T105229
CREATED:20260126T201158Z
LAST-MODIFIED:20260202T203137Z
UID:8286-1772715600-1772730000@mbcdc.org
SUMMARY:MBCDC Small Business Development : XBE Certification Workshop
DESCRIPTION:Learn how to become XBE certified and connect your business to contracting opportunities. \nThis hands-on workshop will guide minority-\, women-\, veteran-\, and disability-owned businesses through the certification process and explain how it opens doors to city\, county\, municipal\, and private-sector projects. \nParticipants will receive step-by-step support\, helpful resources\, and time for questions. \nYour Pathway to XBE Certification & Contracting Opportunities \n📅 March 5\, 2026🕐 1:00 PM – 5:00 PM📍 2435 N. Sherman Drive\, Suite 4Indianapolis\, IN 46218 \nFor questions: cmbarrett@mbcdc.org
URL:https://mbcdc.org/event/mbcdc-small-business-xbe-certification-workshop/
LOCATION:Martindale Brightwood CDC\, 2435 N. Sherman Drive\, Suite 4\,\, Indianapolis\, IN\, 46218\, United States
ATTACH;FMTTYPE=image/png:https://mbcdc.org/wp-content/uploads/2026/01/HHB-2025-1600-x-900-px-1.png
END:VEVENT
BEGIN:VEVENT
DTSTART;TZID=America/Indiana/Indianapolis:20260305T180000
DTEND;TZID=America/Indiana/Indianapolis:20260305T200000
DTSTAMP:20260421T105229
CREATED:20260113T233222Z
LAST-MODIFIED:20260128T185838Z
UID:8166-1772733600-1772740800@mbcdc.org
SUMMARY:MBCDC Small Business Development: Money Mindset Group Coaching
DESCRIPTION:A free six-part workshop series designed to help entrepreneurs and business owners build healthier money habits and financial confidence through guided mindset work and practical insight. \nFacilitated by Regina Sloan\, Entrepreneur & Mindset Coach\, this series supports clarity\, consistency\, and long-term financial stability. Application required\, submission deadline Wednesday\, January 28\, 2026. \nYou’ll Learn To: \n\nIdentify and shift limiting money beliefs\nBuild healthy\, consistent money habits\nGain confidence with credit and financial decision.
URL:https://mbcdc.org/event/mbcdc-empowered-business-solutions-money-mindset-group-coaching-5/
ATTACH;FMTTYPE=image/png:https://mbcdc.org/wp-content/uploads/2025/12/Money-Mindset-Group-Coaching.png
END:VEVENT
END:VCALENDAR