BEGIN:VCALENDAR
VERSION:2.0
PRODID:-//Martindale Brightwood CDC - ECPv6.15.20//NONSGML v1.0//EN
CALSCALE:GREGORIAN
METHOD:PUBLISH
X-WR-CALNAME:Martindale Brightwood CDC
X-ORIGINAL-URL:https://mbcdc.org
X-WR-CALDESC:Events for Martindale Brightwood CDC
REFRESH-INTERVAL;VALUE=DURATION:PT1H
X-Robots-Tag:noindex
X-PUBLISHED-TTL:PT1H
BEGIN:VTIMEZONE
TZID:America/Indiana/Indianapolis
BEGIN:DAYLIGHT
TZOFFSETFROM:-0500
TZOFFSETTO:-0400
TZNAME:EDT
DTSTART:20250309T070000
END:DAYLIGHT
BEGIN:STANDARD
TZOFFSETFROM:-0400
TZOFFSETTO:-0500
TZNAME:EST
DTSTART:20251102T060000
END:STANDARD
BEGIN:DAYLIGHT
TZOFFSETFROM:-0500
TZOFFSETTO:-0400
TZNAME:EDT
DTSTART:20260308T070000
END:DAYLIGHT
BEGIN:STANDARD
TZOFFSETFROM:-0400
TZOFFSETTO:-0500
TZNAME:EST
DTSTART:20261101T060000
END:STANDARD
BEGIN:DAYLIGHT
TZOFFSETFROM:-0500
TZOFFSETTO:-0400
TZNAME:EDT
DTSTART:20270314T070000
END:DAYLIGHT
BEGIN:STANDARD
TZOFFSETFROM:-0400
TZOFFSETTO:-0500
TZNAME:EST
DTSTART:20271107T060000
END:STANDARD
END:VTIMEZONE
BEGIN:VEVENT
DTSTART;TZID=America/Indiana/Indianapolis:20260318T130000
DTEND;TZID=America/Indiana/Indianapolis:20260318T150000
DTSTAMP:20260421T105423
CREATED:20260113T170610Z
LAST-MODIFIED:20260115T214050Z
UID:8148-1773838800-1773846000@mbcdc.org
SUMMARY:MBCDC Employment Services: March Madness - Mock Interview & Resume Review
DESCRIPTION:MBCDC Employment Services is bringing the community a month-long series focused on upskilling\, job readiness\, and career growth—and we want YOU to join the movement! Our March Madness events will connect job seekers with employers\, provide hands-on feedback\, and help participants prepare for today’s workforce. \nEvent Lineup\n📌 March 11 | 1 PM– 3 PM — Talent Talk: Meet Employers📌 March 18 | 1 PM– 3 PM — Mock Interview + Resume Review (1-on-1 employer feedback)📌 March 25 | 3 PM–6 PM — Summer Employment for Teens + College Students \n📍 Location: Martindale Brightwood CDC (Brightwood Plaza)\, 2435 N. Sherman Drive\, Suite 4\, Indianapolis\, IN 46218 \n👔 Dress code: Business casual required📄 Bring your resume + two valid forms of ID \nQuestions? Contact LaNita Nixon at lnixon@mbcdc.org or 317-695-2417
URL:https://mbcdc.org/event/march-madness-mock-interview-resume-review-2/
LOCATION:Martindale Brightwood CDC\, Brightwood Plaza\, 2435 North Sherman Drive\, Indianapolis\, IN 46218\, 2435 North Sherman Drive Suite 4\, Indianapolis\, IN\, 46218\, United States
ATTACH;FMTTYPE=image/png:https://mbcdc.org/wp-content/uploads/2026/01/Website-Event-Calendar-1600x900-1-1.png
END:VEVENT
BEGIN:VEVENT
DTSTART;TZID=America/Indiana/Indianapolis:20260318T180000
DTEND;TZID=America/Indiana/Indianapolis:20260318T193000
DTSTAMP:20260421T105423
CREATED:20260211T192536Z
LAST-MODIFIED:20260324T000710Z
UID:8403-1773856800-1773862200@mbcdc.org
SUMMARY:MBCDC Small Business Development-Hobby\, Hustle\, or Business: Virtual Chat Series
DESCRIPTION:Hobby\, Hustle\, or Business: Virtual Chat Series \nYou’re doing the work—but what is it really: a hobby\, a hustle\, or a business? \nJoin us for a monthly virtual chat series designed to support aspiring entrepreneurs as they assess business readiness and make intentional next steps. This interactive meet-up creates space for honest conversation\, real-world insight\, and practical guidance around entrepreneurship and growth. \nEach session features guest speakers with lived experience across business development\, workforce pathways\, and small business support. \nThis is not a lecture or a podcast—it’s a guided virtual conversation built for learning\, reflection\, and connection. \nStop guessing. Become intentional. Start building. \n📅 Wednesday\, March 18\, 2026\n⏰ 6:00 PM – 7:30 PM\n📍 Virtual \nFor questions\, contact Chenille Barrett at cmbarrett@mbcdc.org.\nRegister at www.mbcdc.org. \nSponsored By: Martindale Brightwood Quality of Life 
URL:https://mbcdc.org/event/mbcdc-small-business-development-hobby-hustle-or-business-virtual-chat-series/
LOCATION:Virtual Location\, Virtual Location
ATTACH;FMTTYPE=image/png:https://mbcdc.org/wp-content/uploads/2026/01/Jan-1.png
END:VEVENT
END:VCALENDAR