BEGIN:VCALENDAR
VERSION:2.0
PRODID:-//Martindale Brightwood CDC - ECPv6.15.20//NONSGML v1.0//EN
CALSCALE:GREGORIAN
METHOD:PUBLISH
X-WR-CALNAME:Martindale Brightwood CDC
X-ORIGINAL-URL:https://mbcdc.org
X-WR-CALDESC:Events for Martindale Brightwood CDC
REFRESH-INTERVAL;VALUE=DURATION:PT1H
X-Robots-Tag:noindex
X-PUBLISHED-TTL:PT1H
BEGIN:VTIMEZONE
TZID:America/Indiana/Indianapolis
BEGIN:DAYLIGHT
TZOFFSETFROM:-0500
TZOFFSETTO:-0400
TZNAME:EDT
DTSTART:20250309T070000
END:DAYLIGHT
BEGIN:STANDARD
TZOFFSETFROM:-0400
TZOFFSETTO:-0500
TZNAME:EST
DTSTART:20251102T060000
END:STANDARD
BEGIN:DAYLIGHT
TZOFFSETFROM:-0500
TZOFFSETTO:-0400
TZNAME:EDT
DTSTART:20260308T070000
END:DAYLIGHT
BEGIN:STANDARD
TZOFFSETFROM:-0400
TZOFFSETTO:-0500
TZNAME:EST
DTSTART:20261101T060000
END:STANDARD
BEGIN:DAYLIGHT
TZOFFSETFROM:-0500
TZOFFSETTO:-0400
TZNAME:EDT
DTSTART:20270314T070000
END:DAYLIGHT
BEGIN:STANDARD
TZOFFSETFROM:-0400
TZOFFSETTO:-0500
TZNAME:EST
DTSTART:20271107T060000
END:STANDARD
END:VTIMEZONE
BEGIN:VEVENT
DTSTART;TZID=America/Indiana/Indianapolis:20260415T180000
DTEND;TZID=America/Indiana/Indianapolis:20260415T193000
DTSTAMP:20260421T092113
CREATED:20260406T161455Z
LAST-MODIFIED:20260408T165629Z
UID:8992-1776276000-1776281400@mbcdc.org
SUMMARY:MBCDC Small Business Development-Hobby\, Hustle\, or Business: Virtual Chat
DESCRIPTION:Join Martindale-Brightwood Community Development Corporation for this month’s Hobby\, Hustle\, or Business Virtual Chat\, featuring special guest Randy Weston. \nRandy Weston is a dynamic gospel artist\, singer\, songwriter\, producer\, and multipreneur who has built multiple streams of income through his creativity and calling. In this session\, he’ll share his journey from passion to profit\, offering insight into how he has turned his gifts into sustainable opportunities. \nWhether you’re exploring a new idea\, growing a side hustle\, or building a business\, this conversation will provide inspiration and practical perspective on how to move forward with intention. \nThis interactive virtual chat will be hosted by Chenille Barrett (MBCDC)\, with co-hosts Wendell Stewart (Indy Black Chamber) and Sharon Harvey (SBA)\, bringing valuable insight and community-centered conversation. \nEvent Details: \nDate: April 15\, 2026Time: 6:00 PM – 7:30 PMLocation: Virtual \nRegister Online: https://forms.gle/sfXCqi54cFQku6vW7 \nCome ready to learn\, connect\, and be inspired—because your next step could start with a simple idea.
URL:https://mbcdc.org/event/mbcdc-small-business-development-hobby-hustle-or-business-virtual-chat/
LOCATION:Virtual Location\, Virtual Location
ATTACH;FMTTYPE=image/png:https://mbcdc.org/wp-content/uploads/2026/04/Feb-7.png
END:VEVENT
END:VCALENDAR