BEGIN:VCALENDAR
VERSION:2.0
PRODID:-//Martindale Brightwood CDC - ECPv6.15.20//NONSGML v1.0//EN
CALSCALE:GREGORIAN
METHOD:PUBLISH
X-WR-CALNAME:Martindale Brightwood CDC
X-ORIGINAL-URL:https://mbcdc.org
X-WR-CALDESC:Events for Martindale Brightwood CDC
REFRESH-INTERVAL;VALUE=DURATION:PT1H
X-Robots-Tag:noindex
X-PUBLISHED-TTL:PT1H
BEGIN:VTIMEZONE
TZID:America/Indiana/Indianapolis
BEGIN:DAYLIGHT
TZOFFSETFROM:-0500
TZOFFSETTO:-0400
TZNAME:EDT
DTSTART:20250309T070000
END:DAYLIGHT
BEGIN:STANDARD
TZOFFSETFROM:-0400
TZOFFSETTO:-0500
TZNAME:EST
DTSTART:20251102T060000
END:STANDARD
BEGIN:DAYLIGHT
TZOFFSETFROM:-0500
TZOFFSETTO:-0400
TZNAME:EDT
DTSTART:20260308T070000
END:DAYLIGHT
BEGIN:STANDARD
TZOFFSETFROM:-0400
TZOFFSETTO:-0500
TZNAME:EST
DTSTART:20261101T060000
END:STANDARD
BEGIN:DAYLIGHT
TZOFFSETFROM:-0500
TZOFFSETTO:-0400
TZNAME:EDT
DTSTART:20270314T070000
END:DAYLIGHT
BEGIN:STANDARD
TZOFFSETFROM:-0400
TZOFFSETTO:-0500
TZNAME:EST
DTSTART:20271107T060000
END:STANDARD
END:VTIMEZONE
BEGIN:VEVENT
DTSTART;TZID=America/Indiana/Indianapolis:20260425T000000
DTEND;TZID=America/Indiana/Indianapolis:20260425T150000
DTSTAMP:20260421T092114
CREATED:20260414T174914Z
LAST-MODIFIED:20260414T174914Z
UID:9032-1777075200-1777129200@mbcdc.org
SUMMARY:Annual Rhoyal Festival hosted by the Alpha Sigma Chapter of Sigma Gamma Rho Sorority\, Inc.
DESCRIPTION:Join us for the Annual Rhoyal Festival hosted by the Alpha Sigma Chapter of Sigma Gamma Rho Sorority\, Inc. at Martindale-Brightwood CDC. This free\, family-friendly spring celebration is all about community\, youth\, and fun. \nEnjoy live music\, games\, and free food while connecting with neighbors and celebrating the season together. Bring the whole family out for an afternoon of entertainment\, laughter\, and community engagement. \nDate: April 25\, 2026Time: 12:00 PM – 3:00 PMLocation: 2435 N. Sherman Drive\, Indianapolis\, IN 46218
URL:https://mbcdc.org/event/annual-rhoyal-festival-hosted-by-the-alpha-sigma-chapter-of-sigma-gamma-rho-sorority-inc/
LOCATION:Martindale Brightwood CDC\, 2435 N. Sherman Drive\, Suite 4\,\, Indianapolis\, IN\, 46218\, United States
ATTACH;FMTTYPE=image/jpeg:https://mbcdc.org/wp-content/uploads/2026/04/Rhoyal-Spring-Festival-April-25-2026-3-scaled.jpg
END:VEVENT
BEGIN:VEVENT
DTSTART;TZID=America/Indiana/Indianapolis:20260425T090000
DTEND;TZID=America/Indiana/Indianapolis:20260425T160000
DTSTAMP:20260421T092114
CREATED:20260401T193332Z
LAST-MODIFIED:20260414T183832Z
UID:8988-1777107600-1777132800@mbcdc.org
SUMMARY:Savvy Women Mini Con
DESCRIPTION:The full Savvy Women Mini Con experience featuring inspiring speakers\, powerful panels\, real conversations\, and the strategies you need to take your business to the next big step. \nWhat to Expect: \n✨ Friday | April 24 | 6–8 PM \nKick things off with an evening designed to expand your network and set the tone for what’s ahead. \n🎤 Saturday | April 25 | 9 AM – 4 PM \nFor your $28 investment\, you will receive \n\nTwo-Day Experience (Friday Night Mixer and Saturday Mini Con)\nVendor Shopping Credit ($15)\nOpportunities to Network and Build Business Partnerships\nGain Knowledge from Industry Expert Panels\nSelf-Care & Mindful Moment Opportunities\nFriday Night Mixer: 2 Drink Tickets\nSaturday: Light Breakfast\, Lunch\, and Refreshments.\n\nInvest in yourself and grab your tickets today! \nPlease contact Chenille Barrett @ cmbarrett@mbcdc.org with any questions. Thank you. \nRegister Online: Savvy Women Mini Con Tickets\, Multiple dates | Eventbrite
URL:https://mbcdc.org/event/savvy-women-mini-con/
LOCATION:Cohatch Polk Stables\,  1533 Lewis St\, Indianapolis\, IN 46202\, 1533 Lewis St\, Indianapolis\, IN\, 46202
ATTACH;FMTTYPE=image/jpeg:https://mbcdc.org/wp-content/uploads/2026/04/Savvy-Women-Mini-Con-Website-Banner.jpg
END:VEVENT
END:VCALENDAR