BEGIN:VCALENDAR
VERSION:2.0
PRODID:-//Martindale Brightwood CDC - ECPv6.15.20//NONSGML v1.0//EN
CALSCALE:GREGORIAN
METHOD:PUBLISH
X-ORIGINAL-URL:https://mbcdc.org
X-WR-CALDESC:Events for Martindale Brightwood CDC
REFRESH-INTERVAL;VALUE=DURATION:PT1H
X-Robots-Tag:noindex
X-PUBLISHED-TTL:PT1H
BEGIN:VTIMEZONE
TZID:America/Indiana/Indianapolis
BEGIN:DAYLIGHT
TZOFFSETFROM:-0500
TZOFFSETTO:-0400
TZNAME:EDT
DTSTART:20250309T070000
END:DAYLIGHT
BEGIN:STANDARD
TZOFFSETFROM:-0400
TZOFFSETTO:-0500
TZNAME:EST
DTSTART:20251102T060000
END:STANDARD
BEGIN:DAYLIGHT
TZOFFSETFROM:-0500
TZOFFSETTO:-0400
TZNAME:EDT
DTSTART:20260308T070000
END:DAYLIGHT
BEGIN:STANDARD
TZOFFSETFROM:-0400
TZOFFSETTO:-0500
TZNAME:EST
DTSTART:20261101T060000
END:STANDARD
BEGIN:DAYLIGHT
TZOFFSETFROM:-0500
TZOFFSETTO:-0400
TZNAME:EDT
DTSTART:20270314T070000
END:DAYLIGHT
BEGIN:STANDARD
TZOFFSETFROM:-0400
TZOFFSETTO:-0500
TZNAME:EST
DTSTART:20271107T060000
END:STANDARD
END:VTIMEZONE
BEGIN:VEVENT
DTSTART;TZID=America/Indiana/Indianapolis:20260430T180000
DTEND;TZID=America/Indiana/Indianapolis:20260430T200000
DTSTAMP:20260421T092423
CREATED:20260310T181659Z
LAST-MODIFIED:20260310T181659Z
UID:8837-1777572000-1777579200@mbcdc.org
SUMMARY:The Strategic Investor Workshop Series Part 4
DESCRIPTION:Join Martindale-Brightwood CDC for The Strategic Investor\, a four-part workshop series designed to help entrepreneurs\, real estate investors\, and aspiring developers understand how successful deals are structured and executed. \nThis series will walk participants through the fundamentals of building strong investment opportunities from the inside out—from evaluating deals and understanding financial structures to preparing for real-world investment conversations. \nParticipants will gain insight into how experienced professionals approach deal-making\, partnerships\, and growth strategies in today’s market. \nWhat You’ll Learn \nThroughout the series\, participants will explore: \n\nHow investment deals are structured\n• Key components of successful real estate and business investments\n• Financial and strategic considerations investors evaluate\n• How to prepare and present a compelling investment opportunity\n\nThe series will conclude with a Pitch Competition\, where participants will have the opportunity to present their ideas and compete for a prize. \nWho Should Attend \nThis workshop series is ideal for: \n\nAspiring real estate developers\n• Entrepreneurs and small business owners\n• Individuals interested in investment strategies\n• Anyone looking to better understand how deals are structured and funded
URL:https://mbcdc.org/event/the-strategic-investor-workshop-series-part-4/
ATTACH;FMTTYPE=image/png:https://mbcdc.org/wp-content/uploads/2026/03/Blue-and-White-Modern-Business-Webinar-Facebook-Post-1600-x-900-px-3.png
END:VEVENT
END:VCALENDAR