BEGIN:VCALENDAR
VERSION:2.0
PRODID:-//Martindale Brightwood CDC - ECPv6.15.20//NONSGML v1.0//EN
CALSCALE:GREGORIAN
METHOD:PUBLISH
X-WR-CALNAME:Martindale Brightwood CDC
X-ORIGINAL-URL:https://mbcdc.org
X-WR-CALDESC:Events for Martindale Brightwood CDC
REFRESH-INTERVAL;VALUE=DURATION:PT1H
X-Robots-Tag:noindex
X-PUBLISHED-TTL:PT1H
BEGIN:VTIMEZONE
TZID:America/Indiana/Indianapolis
BEGIN:DAYLIGHT
TZOFFSETFROM:-0500
TZOFFSETTO:-0400
TZNAME:EDT
DTSTART:20250309T070000
END:DAYLIGHT
BEGIN:STANDARD
TZOFFSETFROM:-0400
TZOFFSETTO:-0500
TZNAME:EST
DTSTART:20251102T060000
END:STANDARD
BEGIN:DAYLIGHT
TZOFFSETFROM:-0500
TZOFFSETTO:-0400
TZNAME:EDT
DTSTART:20260308T070000
END:DAYLIGHT
BEGIN:STANDARD
TZOFFSETFROM:-0400
TZOFFSETTO:-0500
TZNAME:EST
DTSTART:20261101T060000
END:STANDARD
BEGIN:DAYLIGHT
TZOFFSETFROM:-0500
TZOFFSETTO:-0400
TZNAME:EDT
DTSTART:20270314T070000
END:DAYLIGHT
BEGIN:STANDARD
TZOFFSETFROM:-0400
TZOFFSETTO:-0500
TZNAME:EST
DTSTART:20271107T060000
END:STANDARD
END:VTIMEZONE
BEGIN:VEVENT
DTSTART;TZID=America/Indiana/Indianapolis:20260710T083000
DTEND;TZID=America/Indiana/Indianapolis:20260710T150000
DTSTAMP:20260421T211604
CREATED:20250911T192459Z
LAST-MODIFIED:20260304T151207Z
UID:7491-1783672200-1783695600@mbcdc.org
SUMMARY:13th Annual William “Bill” Crawford Charitable Golf Outing and Luncheon
DESCRIPTION:Join us for the 13th Annual William “Bill” Crawford Charitable Golf Outing and Luncheon\, a day of recreation\, networking\, and community impact. Named in honor of the late Indiana State Representative William A. “Bill” Crawford\, a trailblazer and advocate for community development\, this event supports Martindale Brightwood Community Development Corporation’s (MBCDC) mission to preserve affordable housing\, provide home repair services\, and strengthen small business development. \nThis year\, we are aiming to raise $70\,000 to expand these critical programs and continue creating lasting change in the Martindale-Brightwood community and beyond. \nEnjoy a round of golf at the beautiful Eagle Creek Golf Club\, followed by a luncheon celebrating the power of community and collective impact. Proceeds directly support initiatives that stabilize housing\, uplift families\, and fuel neighborhood economic growth. \nSponsorship Opportunities:Explore our sponsorship packages to find a level that aligns with your goals. From premier event sponsorships to targeted support opportunities\, your partnership helps drive meaningful progress in our community. \nRegistration Details:Reserve your spot today! Whether you’re a seasoned golfer or simply joining us to connect with fellow changemakers\, we welcome participants of all levels. \nFor questions or to become a sponsor\, contact DeAnna Woodruff at dwoodruff@mbcdc.org. \nDate: Friday\, July 10\, 2026Time: 8:30 AM Tee TimeLocation: Eagle Creek Golf Club — Indianapolis\, Indiana \nTogether\, let’s honor Bill Crawford’s legacy and reach our $70\,000 goal to build a stronger future for Martindale-Brightwood.
URL:https://mbcdc.org/event/william-bill-crawford-charitable-golf-outing-2/
LOCATION:Eagle Creek Golf Club\, 8802 W 56th St\, Indianapolis\, 46234
ATTACH;FMTTYPE=image/png:https://mbcdc.org/wp-content/uploads/2025/09/Website-Event-Calendar-1600x900-1-1.png
END:VEVENT
END:VCALENDAR