BEGIN:VCALENDAR
VERSION:2.0
PRODID:-//Martindale Brightwood CDC - ECPv6.15.20//NONSGML v1.0//EN
CALSCALE:GREGORIAN
METHOD:PUBLISH
X-ORIGINAL-URL:https://mbcdc.org
X-WR-CALDESC:Events for Martindale Brightwood CDC
REFRESH-INTERVAL;VALUE=DURATION:PT1H
X-Robots-Tag:noindex
X-PUBLISHED-TTL:PT1H
BEGIN:VTIMEZONE
TZID:America/Indiana/Indianapolis
BEGIN:DAYLIGHT
TZOFFSETFROM:-0500
TZOFFSETTO:-0400
TZNAME:EDT
DTSTART:20230312T070000
END:DAYLIGHT
BEGIN:STANDARD
TZOFFSETFROM:-0400
TZOFFSETTO:-0500
TZNAME:EST
DTSTART:20231105T060000
END:STANDARD
BEGIN:DAYLIGHT
TZOFFSETFROM:-0500
TZOFFSETTO:-0400
TZNAME:EDT
DTSTART:20240310T070000
END:DAYLIGHT
BEGIN:STANDARD
TZOFFSETFROM:-0400
TZOFFSETTO:-0500
TZNAME:EST
DTSTART:20241103T060000
END:STANDARD
BEGIN:DAYLIGHT
TZOFFSETFROM:-0500
TZOFFSETTO:-0400
TZNAME:EDT
DTSTART:20250309T070000
END:DAYLIGHT
BEGIN:STANDARD
TZOFFSETFROM:-0400
TZOFFSETTO:-0500
TZNAME:EST
DTSTART:20251102T060000
END:STANDARD
END:VTIMEZONE
BEGIN:VEVENT
DTSTART;TZID=America/Indiana/Indianapolis:20241104T100000
DTEND;TZID=America/Indiana/Indianapolis:20241104T140000
DTSTAMP:20260422T155146
CREATED:20241001T200404Z
LAST-MODIFIED:20241015T150901Z
UID:5977-1730714400-1730728800@mbcdc.org
SUMMARY:Whole Entrepreneur Financial Coach Training for Service Providers
DESCRIPTION:Join us for a 2-day workshop designed to equip coaches with tools to better serve BIPOC entrepreneurs\, addressing unique financial challenges and barriers. \nObjectives: \n\nIdentify financial challenges for BIPOC clients.\nLearn culturally responsive coaching techniques.\nCreate financial plans integrating personal and business goals.\nExplore strategies to close the wealth gap.\n\nWhole Entrepreneur Financial Coaching Trainers:\n\nChenille Barrett\, Microenterprise Navigator\nMartindale Brightwood Community Development Corporation\n\nEryn Fraizer\, Financial Wellness Specialist\nEdna Martin Christian Center\n\nEvent Details: \nNovember 4 and November 6\, 2024\n10:00 AM – 2:00 PM\nBrightwood Plaza\, 2435 N. Sherman Drive\, Indianapolis\, IN 46218\nDon’t miss this opportunity to enhance your coaching skills and help create lasting financial success in your community. \nRegister today and take a step towards empowering change! \nNote: This training is for coaches and entrepreneur support organizations. Registration is for training on November 4th AND November 6th. You should plan to attend both days as the content is different each day.
URL:https://mbcdc.org/event/financial-coaching-for-bipoc-entrepreneurs/
LOCATION:Martindale Brightwood CDC\, Brightwood Plaza\, 2435 North Sherman Drive\, Indianapolis\, IN 46218\, 2435 North Sherman Drive Suite 4\, Indianapolis\, IN\, 46218\, United States
ATTACH;FMTTYPE=application/pdf:https://mbcdc.org/wp-content/uploads/2024/10/Financial-Coaching-for-BIPOC-Entrepreneurs-1.pdf
END:VEVENT
BEGIN:VEVENT
DTSTART;TZID=America/Indiana/Indianapolis:20241106T110000
DTEND;TZID=America/Indiana/Indianapolis:20241106T140000
DTSTAMP:20260422T155146
CREATED:20241009T193639Z
LAST-MODIFIED:20241009T193711Z
UID:6037-1730890800-1730901600@mbcdc.org
SUMMARY:Whole Entrepreneur Financial Coach Training for Service Providers
DESCRIPTION:Join us for a 2-day workshop designed to equip coaches with tools to better serve BIPOC entrepreneurs\, addressing unique financial challenges and barriers. \nObjectives: \n\nIdentify financial challenges for BIPOC clients.\nLearn culturally responsive coaching techniques.\nCreate financial plans integrating personal and business goals.\nExplore strategies to close the wealth gap.\n\nWhole Entrepreneur Financial Coaching Trainers:\n\nChenille Barrett\, Microenterprise Navigator\nMartindale Brightwood Community Development Corporation\n\nEryn Fraizer\, Financial Wellness Specialist\nEdna Martin Christian Center\n\nDon’t miss this opportunity to enhance your coaching skills and help create lasting financial success in your community. \nRegister today and take a step towards empowering change! \nNote: This training is for coaches and entrepreneur support organizations. 
URL:https://mbcdc.org/event/whole-entrepreneur-financial-coaching-trainers/
LOCATION:Martindale Brightwood CDC\, Brightwood Plaza\, 2435 North Sherman Drive\, Indianapolis\, IN 46218\, 2435 North Sherman Drive Suite 4\, Indianapolis\, IN\, 46218\, United States
ATTACH;FMTTYPE=image/png:https://mbcdc.org/wp-content/uploads/2024/10/Financial-Coaching-for-BIPOC-Entrepreneurs.png
END:VEVENT
BEGIN:VEVENT
DTSTART;TZID=America/Indiana/Indianapolis:20241114T100000
DTEND;TZID=America/Indiana/Indianapolis:20241114T130000
DTSTAMP:20260422T155146
CREATED:20241001T201114Z
LAST-MODIFIED:20241003T172750Z
UID:5777-1731578400-1731589200@mbcdc.org
SUMMARY:Holiday Job Fair
DESCRIPTION:Whether you’re seeking seasonal work or a long-term career\, this is your opportunity to connect with top employers offering a range of permanent positions. Don’t miss out on the chance to secure your financial future while enjoying the holiday season! \nBenefits: \n\nImmediate earning potential\nOpportunities for permanent employment\nExpert career advice and support\n\nPrepare for Success: \n\nBring multiple copies of your resume\nDress to impress\nBe ready to network\n\nRegister Today! \nDon’t miss this chance to jumpstart your career and make the most of the upcoming holiday season. See you there!
URL:https://mbcdc.org/event/holiday-job-fair/
LOCATION:Martindale Brightwood CDC\, Brightwood Plaza\, 2435 North Sherman Drive\, Indianapolis\, IN 46218\, 2435 North Sherman Drive Suite 4\, Indianapolis\, IN\, 46218\, United States
ATTACH;FMTTYPE=application/pdf:https://mbcdc.org/wp-content/uploads/2024/10/Employment-Services-Flyers-11.pdf
END:VEVENT
BEGIN:VEVENT
DTSTART;TZID=America/Indiana/Indianapolis:20241119T180000
DTEND;TZID=America/Indiana/Indianapolis:20241119T193000
DTSTAMP:20260422T155146
CREATED:20241116T143159Z
LAST-MODIFIED:20241116T143422Z
UID:6223-1732039200-1732044600@mbcdc.org
SUMMARY:MBCDC Microenterprise Meetup
DESCRIPTION:MBCDC Microenterprise Meetups \nCalling all small business owners! Take a break from the daily grind and join us at our Microenterprise Meetups—a space dedicated to helping you unwind\, connect\, network\, and grow. \nWhether you’re looking to exchange ideas\, share resources\, or simply mingle with like-minded entrepreneurs\, this meetup offers the perfect opportunity to expand your network and find inspiration for your business journey. \n📅 Event: \nSeptember 24th\, 2024 \nOctober 22\, 2024 \nNovember 19th\, 2024 (Virtual) \nDecember 17\, 2024 \nJanuary 28\, 2025 (Virtual) \nFebruary 25\, 2025 \nMarch 25\, 2025 \nApril 22\, 2025 \nMay 27\, 2025 (Location: TBA) \nCome prepared to share your story\, learn from others\, and build relationships that can help take your business to the next level. Don’t miss out on this chance to be part of a thriving community of small business owners! \nContact Chenille Barrett at cbarrett@mbcdc.org for more info or to RSVP for the next session.
URL:https://mbcdc.org/event/mbcdc-microenterprise-meetup/
LOCATION:Virtual Location\, Virtual Location
ATTACH;FMTTYPE=image/png:https://mbcdc.org/wp-content/uploads/2024/11/Microenterprise-meetup.png
END:VEVENT
END:VCALENDAR