BEGIN:VCALENDAR
VERSION:2.0
PRODID:-//Martindale Brightwood CDC - ECPv6.15.20//NONSGML v1.0//EN
CALSCALE:GREGORIAN
METHOD:PUBLISH
X-WR-CALNAME:Martindale Brightwood CDC
X-ORIGINAL-URL:https://mbcdc.org
X-WR-CALDESC:Events for Martindale Brightwood CDC
REFRESH-INTERVAL;VALUE=DURATION:PT1H
X-Robots-Tag:noindex
X-PUBLISHED-TTL:PT1H
BEGIN:VTIMEZONE
TZID:America/Indiana/Indianapolis
BEGIN:DAYLIGHT
TZOFFSETFROM:-0500
TZOFFSETTO:-0400
TZNAME:EDT
DTSTART:20230312T070000
END:DAYLIGHT
BEGIN:STANDARD
TZOFFSETFROM:-0400
TZOFFSETTO:-0500
TZNAME:EST
DTSTART:20231105T060000
END:STANDARD
BEGIN:DAYLIGHT
TZOFFSETFROM:-0500
TZOFFSETTO:-0400
TZNAME:EDT
DTSTART:20240310T070000
END:DAYLIGHT
BEGIN:STANDARD
TZOFFSETFROM:-0400
TZOFFSETTO:-0500
TZNAME:EST
DTSTART:20241103T060000
END:STANDARD
BEGIN:DAYLIGHT
TZOFFSETFROM:-0500
TZOFFSETTO:-0400
TZNAME:EDT
DTSTART:20250309T070000
END:DAYLIGHT
BEGIN:STANDARD
TZOFFSETFROM:-0400
TZOFFSETTO:-0500
TZNAME:EST
DTSTART:20251102T060000
END:STANDARD
END:VTIMEZONE
BEGIN:VEVENT
DTSTART;TZID=America/Indiana/Indianapolis:20241217T180000
DTEND;TZID=America/Indiana/Indianapolis:20241217T193000
DTSTAMP:20260422T140013
CREATED:20241116T143558Z
LAST-MODIFIED:20241116T143558Z
UID:6228-1734458400-1734463800@mbcdc.org
SUMMARY:MBCDC Microenterprise Meetups
DESCRIPTION:MBCDC Microenterprise Meetups \nCalling all small business owners! Take a break from the daily grind and join us at our Microenterprise Meetups—a space dedicated to helping you unwind\, connect\, network\, and grow. \nWhether you’re looking to exchange ideas\, share resources\, or simply mingle with like-minded entrepreneurs\, this meetup offers the perfect opportunity to expand your network and find inspiration for your business journey. \n📅 Event: \nSeptember 24th\, 2024 \nOctober 22\, 2024 \nNovember 19th\, 2024 (Virtual) \nDecember 17\, 2024 \nJanuary 28\, 2025 (Virtual) \nFebruary 25\, 2025 \nMarch 25\, 2025 \nApril 22\, 2025 \nMay 27\, 2025 (Location: TBA) \nCome prepared to share your story\, learn from others\, and build relationships that can help take your business to the next level. Don’t miss out on this chance to be part of a thriving community of small business owners! \nContact Chenille Barrett at cbarrett@mbcdc.org for more info or to RSVP for the next session.
URL:https://mbcdc.org/event/mbcdc-microenterprise-meetups/
LOCATION:Martindale Brightwood CDC\, Brightwood Plaza\, 2435 North Sherman Drive\, Indianapolis\, IN 46218\, 2435 North Sherman Drive Suite 4\, Indianapolis\, IN\, 46218\, United States
ATTACH;FMTTYPE=image/png:https://mbcdc.org/wp-content/uploads/2024/11/Microenterprise-meetup.png
END:VEVENT
BEGIN:VEVENT
DTSTART;TZID=America/Indiana/Indianapolis:20241218T130000
DTEND;TZID=America/Indiana/Indianapolis:20241218T150000
DTSTAMP:20260422T140013
CREATED:20241211T182148Z
LAST-MODIFIED:20241211T185404Z
UID:6257-1734526800-1734534000@mbcdc.org
SUMMARY:Mock Interviews and Resume Review
DESCRIPTION:in Martindale Brightwood CDC Employment Services for an empowering event designed to help you take the next step in your career! Our Mock Interviews & Resume Reviews session provides an excellent opportunity to polish your professional skills and gain valuable insights from experienced career advisors. \nWhat to Expect: \n\nMock Interviews: Practice answering common interview questions in a supportive\, one-on-one environment. Receive constructive feedback to boost your confidence and improve your performance.\nResume Reviews: Get personalized advice to enhance your resume\, ensuring it stands out to potential employers.\n\nWho Should Attend: \n\nJob seekers looking to refine their skills\nThose entering the workforce for the first time\nAnyone seeking to update or optimize their resume\n\nEvent Details: \n\nDate: Wednesday\, December 18\, 2024\nTime: 1:00 PM – 3:00 PM\n\nDon’t miss this chance to prepare for success in today’s competitive job market. Space is limited\, so register today to secure your spot! \nYour future starts here—let us help you shine!
URL:https://mbcdc.org/event/mock-interviews-and-resume-review/
LOCATION:Brightwood Plaza\, 2435 N. Sherman Drive\, Indianapolis\, IN\, 46218\, United States
ATTACH;FMTTYPE=image/png:https://mbcdc.org/wp-content/uploads/2024/12/Employment-Services-Flyers-11.png
END:VEVENT
END:VCALENDAR