BEGIN:VCALENDAR
VERSION:2.0
PRODID:-//Martindale Brightwood CDC - ECPv6.15.20//NONSGML v1.0//EN
CALSCALE:GREGORIAN
METHOD:PUBLISH
X-WR-CALNAME:Martindale Brightwood CDC
X-ORIGINAL-URL:https://mbcdc.org
X-WR-CALDESC:Events for Martindale Brightwood CDC
REFRESH-INTERVAL;VALUE=DURATION:PT1H
X-Robots-Tag:noindex
X-PUBLISHED-TTL:PT1H
BEGIN:VTIMEZONE
TZID:America/Indiana/Indianapolis
BEGIN:DAYLIGHT
TZOFFSETFROM:-0500
TZOFFSETTO:-0400
TZNAME:EDT
DTSTART:20240310T070000
END:DAYLIGHT
BEGIN:STANDARD
TZOFFSETFROM:-0400
TZOFFSETTO:-0500
TZNAME:EST
DTSTART:20241103T060000
END:STANDARD
BEGIN:DAYLIGHT
TZOFFSETFROM:-0500
TZOFFSETTO:-0400
TZNAME:EDT
DTSTART:20250309T070000
END:DAYLIGHT
BEGIN:STANDARD
TZOFFSETFROM:-0400
TZOFFSETTO:-0500
TZNAME:EST
DTSTART:20251102T060000
END:STANDARD
BEGIN:DAYLIGHT
TZOFFSETFROM:-0500
TZOFFSETTO:-0400
TZNAME:EDT
DTSTART:20260308T070000
END:DAYLIGHT
BEGIN:STANDARD
TZOFFSETFROM:-0400
TZOFFSETTO:-0500
TZNAME:EST
DTSTART:20261101T060000
END:STANDARD
END:VTIMEZONE
BEGIN:VEVENT
DTSTART;TZID=America/Indiana/Indianapolis:20250128T080000
DTEND;TZID=America/Indiana/Indianapolis:20250128T170000
DTSTAMP:20260422T121451
CREATED:20241116T143858Z
LAST-MODIFIED:20241116T143858Z
UID:6231-1738051200-1738083600@mbcdc.org
SUMMARY:MBCDC Microenterprise Meetups
DESCRIPTION:MBCDC Microenterprise Meetups \nCalling all small business owners! Take a break from the daily grind and join us at our Microenterprise Meetups—a space dedicated to helping you unwind\, connect\, network\, and grow. \nWhether you’re looking to exchange ideas\, share resources\, or simply mingle with like-minded entrepreneurs\, this meetup offers the perfect opportunity to expand your network and find inspiration for your business journey. \n📅 Event: \nSeptember 24th\, 2024 \nOctober 22\, 2024 \nNovember 19th\, 2024 (Virtual) \nDecember 17\, 2024 \nJanuary 28\, 2025 (Virtual) \nFebruary 25\, 2025 \nMarch 25\, 2025 \nApril 22\, 2025 \nMay 27\, 2025 (Location: TBA) \nCome prepared to share your story\, learn from others\, and build relationships that can help take your business to the next level. Don’t miss out on this chance to be part of a thriving community of small business owners! \nContact Chenille Barrett at cbarrett@mbcdc.org for more info or to RSVP for the next session.
URL:https://mbcdc.org/event/mbcdc-microenterprise-meetups-2/
LOCATION:Virtual Location\, Virtual Location
ATTACH;FMTTYPE=image/png:https://mbcdc.org/wp-content/uploads/2024/11/Microenterprise-meetup.png
END:VEVENT
BEGIN:VEVENT
DTSTART;TZID=America/Indiana/Indianapolis:20250129T130000
DTEND;TZID=America/Indiana/Indianapolis:20250129T150000
DTSTAMP:20260422T121451
CREATED:20241203T173835Z
LAST-MODIFIED:20241211T182450Z
UID:6246-1738155600-1738162800@mbcdc.org
SUMMARY:New Year Job Fair
DESCRIPTION:Kick off the New Year with fresh opportunities! Join us at the New Year Job Fair\, featuring top employers in Indianapolis\, IN. This event is your chance to explore a variety of career paths\, meet with hiring professionals\, and take the next step toward achieving your career goals. \nEvent Details:\n📅 Date: Wednesday\, January 29th\, 2025\n🕒 Time: 1:00 PM – 3:00 PM\n📍 Location: Martindale Brightwood CDC\, Brightwood Plaza\, 2435 N. Sherman Drive\, Suite 4\, Indianapolis\, IN 46218 \nWhat to Expect:\n\nConnect with reputable companies offering positions in multiple industries.\nNetworking opportunities with local employers and professionals.\nResources and guidance for career development.\n\nWho Should Attend:\n\nJob seekers looking for new opportunities in 2025.\nProfessionals ready to advance their careers.\nRecent graduates and individuals re-entering the workforce.\n\nWhat Should you Bring:\n\nCurrent Resume\n2 forms of valid ID.\n\nDress to impress and bring plenty of resumes! This event is free to attend\, but registration is recommended to secure your spot. \nStart the year strong by taking the first step toward your next great opportunity! \nFor questions\, email Julie Barrett at jbarrett@mbcdc.org or LaNita Nixon at lnixon@mbcdc.org or call 317-924-8042
URL:https://mbcdc.org/event/new-year-job-fair/
LOCATION:Martindale Brightwood CDC\, Brightwood Plaza\, 2435 North Sherman Drive\, Indianapolis\, IN 46218\, 2435 North Sherman Drive Suite 4\, Indianapolis\, IN\, 46218\, United States
ATTACH;FMTTYPE=image/png:https://mbcdc.org/wp-content/uploads/2024/12/Employment-Services-Flyers-9.png
END:VEVENT
END:VCALENDAR