BEGIN:VCALENDAR
VERSION:2.0
PRODID:-//Martindale Brightwood CDC - ECPv6.15.20//NONSGML v1.0//EN
CALSCALE:GREGORIAN
METHOD:PUBLISH
X-WR-CALNAME:Martindale Brightwood CDC
X-ORIGINAL-URL:https://mbcdc.org
X-WR-CALDESC:Events for Martindale Brightwood CDC
REFRESH-INTERVAL;VALUE=DURATION:PT1H
X-Robots-Tag:noindex
X-PUBLISHED-TTL:PT1H
BEGIN:VTIMEZONE
TZID:America/Indiana/Indianapolis
BEGIN:DAYLIGHT
TZOFFSETFROM:-0500
TZOFFSETTO:-0400
TZNAME:EDT
DTSTART:20240310T070000
END:DAYLIGHT
BEGIN:STANDARD
TZOFFSETFROM:-0400
TZOFFSETTO:-0500
TZNAME:EST
DTSTART:20241103T060000
END:STANDARD
BEGIN:DAYLIGHT
TZOFFSETFROM:-0500
TZOFFSETTO:-0400
TZNAME:EDT
DTSTART:20250309T070000
END:DAYLIGHT
BEGIN:STANDARD
TZOFFSETFROM:-0400
TZOFFSETTO:-0500
TZNAME:EST
DTSTART:20251102T060000
END:STANDARD
BEGIN:DAYLIGHT
TZOFFSETFROM:-0500
TZOFFSETTO:-0400
TZNAME:EDT
DTSTART:20260308T070000
END:DAYLIGHT
BEGIN:STANDARD
TZOFFSETFROM:-0400
TZOFFSETTO:-0500
TZNAME:EST
DTSTART:20261101T060000
END:STANDARD
END:VTIMEZONE
BEGIN:VEVENT
DTSTART;TZID=America/Indiana/Indianapolis:20250218T180000
DTEND;TZID=America/Indiana/Indianapolis:20250218T203000
DTSTAMP:20260422T103719
CREATED:20250114T200336Z
LAST-MODIFIED:20250121T175844Z
UID:6319-1739901600-1739910600@mbcdc.org
SUMMARY:Microenterprise Movie Night
DESCRIPTION:Join us on Tuesday\, February 18\, 2025\, from 6:00 PM to 8:30 PM at the MBCDC Training Room for an inspiring evening dedicated to entrepreneurship and community. The Microenterprise Movie Night will feature a film that highlights the stories of innovative business owners who have changed the world through determination and creativity. \nThis event is designed for entrepreneurs to network\, learn\, and connect with like-minded individuals in a relaxed and engaging atmosphere. Enjoy complimentary popcorn and refreshments as you immerse yourself in the entrepreneurial spirit. \nWhether you’re an experienced entrepreneur or just starting out\, this is the perfect opportunity to spark ideas and build connections. \nAudience: Entrepreneurs\, community members\, and anyone inspired by innovation.\nEvent Location: 2435 N. Sherman Drive\, Suite 4\, Indianapolis\, IN 46218 \nRSVP Today!
URL:https://mbcdc.org/event/microenterprise-movie-night/
LOCATION:Martindale Brightwood CDC\, Brightwood Plaza\, 2435 North Sherman Drive\, Indianapolis\, IN 46218\, 2435 North Sherman Drive Suite 4\, Indianapolis\, IN\, 46218\, United States
ATTACH;FMTTYPE=image/png:https://mbcdc.org/wp-content/uploads/2025/01/Small-Business-Movie-Night-1-1.png
END:VEVENT
BEGIN:VEVENT
DTSTART;TZID=America/Indiana/Indianapolis:20250220T180000
DTEND;TZID=America/Indiana/Indianapolis:20250220T200000
DTSTAMP:20260422T103719
CREATED:20250203T034639Z
LAST-MODIFIED:20250218T191126Z
UID:6538-1740074400-1740081600@mbcdc.org
SUMMARY:Jumpstart Kickstart: How to Read Construction Drawings
DESCRIPTION:Join us for a hands-on workshop designed to give you a foundational understanding of construction drawings—an essential skill for real estate development and renovation projects \n📅 Date: Thursday\, February 20\, 2025\n🕕 Time: 6:00 PM\n📍 Location: 2435 N. Sherman Drive Suite 4\, Indianapolis\, 46218\n🎤 Speaker: Dwight Cliff\, Cliff’s Construction \nIn this session\, you’ll learn how to:\n✔️ Navigate blueprints and architectural drawings\n✔️ Recognize key symbols\, scales\, and title blocks\n✔️ Read floor plans\, elevations\, and sections\n✔️ Extract critical details from construction documents \nBy the end of the session\, you’ll feel confident analyzing construction drawings and using them in your projects! \nSeats are limited reserve yours today! \nFor more information\, contact Jasmine Buchanan at jbuchanan@mbcdc.org.
URL:https://mbcdc.org/event/jumpstart-kickstart-how-to-read-construction-drawings/
LOCATION:Martindale Brightwood CDC\, Brightwood Plaza\, 2435 North Sherman Drive\, Indianapolis\, IN 46218\, 2435 North Sherman Drive Suite 4\, Indianapolis\, IN\, 46218\, United States
ATTACH;FMTTYPE=application/pdf:https://mbcdc.org/wp-content/uploads/2025/02/Jumpstart-Flyer-1.pdf
END:VEVENT
BEGIN:VEVENT
DTSTART;TZID=America/Indiana/Indianapolis:20250225T180000
DTEND;TZID=America/Indiana/Indianapolis:20250225T193000
DTSTAMP:20260422T103719
CREATED:20241116T144111Z
LAST-MODIFIED:20241116T144111Z
UID:6234-1740506400-1740511800@mbcdc.org
SUMMARY:MBCDC Microenterprise Meetups
DESCRIPTION:MBCDC Microenterprise Meetups \nCalling all small business owners! Take a break from the daily grind and join us at our Microenterprise Meetups—a space dedicated to helping you unwind\, connect\, network\, and grow. \nWhether you’re looking to exchange ideas\, share resources\, or simply mingle with like-minded entrepreneurs\, this meetup offers the perfect opportunity to expand your network and find inspiration for your business journey. \n📅 Event: \nSeptember 24th\, 2024 \nOctober 22\, 2024 \nNovember 19th\, 2024 (Virtual) \nDecember 17\, 2024 \nJanuary 28\, 2025 (Virtual) \nFebruary 25\, 2025 \nMarch 25\, 2025 \nApril 22\, 2025 \nMay 27\, 2025 (Location: TBA) \nCome prepared to share your story\, learn from others\, and build relationships that can help take your business to the next level. Don’t miss out on this chance to be part of a thriving community of small business owners! \nContact Chenille Barrett at cbarrett@mbcdc.org for more info or to RSVP for the next session.
URL:https://mbcdc.org/event/mbcdc-microenterprise-meetups-3/
LOCATION:Martindale Brightwood CDC\, Brightwood Plaza\, 2435 North Sherman Drive\, Indianapolis\, IN 46218\, 2435 North Sherman Drive Suite 4\, Indianapolis\, IN\, 46218\, United States
ATTACH;FMTTYPE=image/png:https://mbcdc.org/wp-content/uploads/2024/11/Microenterprise-meetup.png
END:VEVENT
END:VCALENDAR