BEGIN:VCALENDAR
VERSION:2.0
PRODID:-//Martindale Brightwood CDC - ECPv6.15.20//NONSGML v1.0//EN
CALSCALE:GREGORIAN
METHOD:PUBLISH
X-WR-CALNAME:Martindale Brightwood CDC
X-ORIGINAL-URL:https://mbcdc.org
X-WR-CALDESC:Events for Martindale Brightwood CDC
REFRESH-INTERVAL;VALUE=DURATION:PT1H
X-Robots-Tag:noindex
X-PUBLISHED-TTL:PT1H
BEGIN:VTIMEZONE
TZID:America/Indiana/Indianapolis
BEGIN:DAYLIGHT
TZOFFSETFROM:-0500
TZOFFSETTO:-0400
TZNAME:EDT
DTSTART:20240310T070000
END:DAYLIGHT
BEGIN:STANDARD
TZOFFSETFROM:-0400
TZOFFSETTO:-0500
TZNAME:EST
DTSTART:20241103T060000
END:STANDARD
BEGIN:DAYLIGHT
TZOFFSETFROM:-0500
TZOFFSETTO:-0400
TZNAME:EDT
DTSTART:20250309T070000
END:DAYLIGHT
BEGIN:STANDARD
TZOFFSETFROM:-0400
TZOFFSETTO:-0500
TZNAME:EST
DTSTART:20251102T060000
END:STANDARD
BEGIN:DAYLIGHT
TZOFFSETFROM:-0500
TZOFFSETTO:-0400
TZNAME:EDT
DTSTART:20260308T070000
END:DAYLIGHT
BEGIN:STANDARD
TZOFFSETFROM:-0400
TZOFFSETTO:-0500
TZNAME:EST
DTSTART:20261101T060000
END:STANDARD
END:VTIMEZONE
BEGIN:VEVENT
DTSTART;TZID=America/Indiana/Indianapolis:20250422T180000
DTEND;TZID=America/Indiana/Indianapolis:20250422T193000
DTSTAMP:20260422T071311
CREATED:20241116T144627Z
LAST-MODIFIED:20250325T163616Z
UID:6239-1745344800-1745350200@mbcdc.org
SUMMARY:MBCDC Microenterprise Meetups
DESCRIPTION:MBCDC Microenterprise Meetups \nCalling all small business owners! Take a break from the daily grind and join us at our Microenterprise Meetups—a space dedicated to helping you unwind\, connect\, network\, and grow. \nWhether you’re looking to exchange ideas\, share resources\, or simply mingle with like-minded entrepreneurs\, this meetup offers the perfect opportunity to expand your network and find inspiration for your business journey. \n📅 Event: \nSeptember 24th\, 2024 \nOctober 22\, 2024 \nNovember 19th\, 2024 (Virtual) \nDecember 17\, 2024 \nJanuary 28\, 2025 (Virtual) \nFebruary 25\, 2025 \nMarch 25\, 2025 \nApril 22\, 2025 \nMay 27\, 2025 (Location: TBA) \nCome prepared to share your story\, learn from others\, and build relationships that can help take your business to the next level. Don’t miss out on this chance to be part of a thriving community of small business owners! \nContact Chenille Barrett at cmbarrett@mbcdc.org for more info or to RSVP for the next session.
URL:https://mbcdc.org/event/mbcdc-microenterprise-meetups-5/
LOCATION:Martindale Brightwood CDC\, Brightwood Plaza\, 2435 North Sherman Drive\, Indianapolis\, IN 46218\, 2435 North Sherman Drive Suite 4\, Indianapolis\, IN\, 46218\, United States
ATTACH;FMTTYPE=image/png:https://mbcdc.org/wp-content/uploads/2024/11/Microenterprise-meetup.png
END:VEVENT
BEGIN:VEVENT
DTSTART;TZID=America/Indiana/Indianapolis:20250423T173000
DTEND;TZID=America/Indiana/Indianapolis:20250423T193000
DTSTAMP:20260422T071311
CREATED:20250320T145249Z
LAST-MODIFIED:20250325T162917Z
UID:6764-1745429400-1745436600@mbcdc.org
SUMMARY:First-Time Homebuyer’s Workshop: Making the Dream of Homeownership a Reality
DESCRIPTION:Are you ready to become a homeowner? Join us for a FREE First-Time Homebuyer’s Workshop designed to guide you through the entire homebuying process. Whether you’re just starting or ready to take the next step\, this workshop will equip you with the knowledge and resources to make informed decisions. \n📅 Dates: April 23 & 24\, 2025⏰ Time: 5:30 PM – 7:30 PM📍 Location: 2435 N Sherman Drive\, Suite 4\, Indianapolis\, IN 46218🍽️ A light meal will be provided \nWhat You’ll Learn:\n✅ Steps to homeownership✅ Understanding mortgages and financing options✅ How to prepare your credit and budget✅ What to expect during the homebuying process✅ Tips for finding the right home \nPresented by:💼 Bill Johnson\, AVP & CRA Lending Officer\, CFBank \nRegister Now!Complete the form below to secure your spot. Space is limited\, so sign up today! \n📩 For questions\, contact Bill Johnson at billjohnson@cfbankmail.com. \nWe look forward to helping you on your journey to homeownership!
URL:https://mbcdc.org/event/homebuyers-workshop-making-the-dream-of-homeownership-a-reality/
LOCATION:Martindale Brightwood CDC\, 2435 N. Sherman Drive\, Suite 4\,\, Indianapolis\, IN\, 46218\, United States
ATTACH;FMTTYPE=image/png:https://mbcdc.org/wp-content/uploads/2025/03/Homebuyer-Ed-CFBank.png
END:VEVENT
BEGIN:VEVENT
DTSTART;TZID=America/Indiana/Indianapolis:20250424T173000
DTEND;TZID=America/Indiana/Indianapolis:20250424T193000
DTSTAMP:20260422T071311
CREATED:20250320T202515Z
LAST-MODIFIED:20250320T202515Z
UID:6769-1745515800-1745523000@mbcdc.org
SUMMARY:First-Time Homebuyer’s Workshop: Making the Dream of Homeownership a Reality Day 2
DESCRIPTION:Are you ready to become a homeowner? Join us for a FREE First-Time Homebuyer’s Workshop designed to guide you through the entire homebuying process. Whether you’re just starting or ready to take the next step\, this workshop will equip you with the knowledge and resources to make informed decisions. \n📅 Dates: April 23 & 24\, 2025⏰ Time: 5:30 PM – 7:30 PM📍 Location: 2435 N Sherman Drive\, Suite 4\, Indianapolis\, IN 46218🍽️ A light meal will be provided \nWhat You’ll Learn:\n✅ Steps to homeownership✅ Understanding mortgages and financing options✅ How to prepare your credit and budget✅ What to expect during the homebuying process✅ Tips for finding the right home \nPresented by:💼 Bill Johnson\, AVP & CRA Lending Officer\, CFBank \nRegister Now!Complete the form below to secure your spot. Space is limited\, so sign up today! https://mbcdc.org/event/homebuyers-workshop-making-the-dream-of-homeownership-a-reality/ \n📩 For questions\, contact Bill Johnson at billjohnson@cfbankmail.com. \nWe look forward to helping you on your journey to homeownership!
URL:https://mbcdc.org/event/first-time-homebuyers-workshop-making-the-dream-of-homeownership-a-reality-day-2/
LOCATION:Martindale Brightwood CDC\, Brightwood Plaza\, 2435 North Sherman Drive\, Indianapolis\, IN 46218\, 2435 North Sherman Drive Suite 4\, Indianapolis\, IN\, 46218\, United States
ATTACH;FMTTYPE=image/png:https://mbcdc.org/wp-content/uploads/2025/03/Homebuyer-Ed-CFBank.png
END:VEVENT
END:VCALENDAR