BEGIN:VCALENDAR
VERSION:2.0
PRODID:-//Martindale Brightwood CDC - ECPv6.15.20//NONSGML v1.0//EN
CALSCALE:GREGORIAN
METHOD:PUBLISH
X-ORIGINAL-URL:https://mbcdc.org
X-WR-CALDESC:Events for Martindale Brightwood CDC
REFRESH-INTERVAL;VALUE=DURATION:PT1H
X-Robots-Tag:noindex
X-PUBLISHED-TTL:PT1H
BEGIN:VTIMEZONE
TZID:America/Indiana/Indianapolis
BEGIN:DAYLIGHT
TZOFFSETFROM:-0500
TZOFFSETTO:-0400
TZNAME:EDT
DTSTART:20240310T070000
END:DAYLIGHT
BEGIN:STANDARD
TZOFFSETFROM:-0400
TZOFFSETTO:-0500
TZNAME:EST
DTSTART:20241103T060000
END:STANDARD
BEGIN:DAYLIGHT
TZOFFSETFROM:-0500
TZOFFSETTO:-0400
TZNAME:EDT
DTSTART:20250309T070000
END:DAYLIGHT
BEGIN:STANDARD
TZOFFSETFROM:-0400
TZOFFSETTO:-0500
TZNAME:EST
DTSTART:20251102T060000
END:STANDARD
BEGIN:DAYLIGHT
TZOFFSETFROM:-0500
TZOFFSETTO:-0400
TZNAME:EDT
DTSTART:20260308T070000
END:DAYLIGHT
BEGIN:STANDARD
TZOFFSETFROM:-0400
TZOFFSETTO:-0500
TZNAME:EST
DTSTART:20261101T060000
END:STANDARD
END:VTIMEZONE
BEGIN:VEVENT
DTSTART;TZID=America/Indiana/Indianapolis:20250505T080000
DTEND;TZID=America/Indiana/Indianapolis:20250505T170000
DTSTAMP:20260422T054415
CREATED:20250417T144521Z
LAST-MODIFIED:20250505T123819Z
UID:6893-1746432000-1746464400@mbcdc.org
SUMMARY:Jumpstart Indy Applications Open
DESCRIPTION:Date: May 5\, 2025Apply Online: TBA \nDescription:Jumpstart Indy was created to help residents become real estate developers in their own neighborhoods through quality\, community-focused training and access to financing tools. This free program offers mentorship and practical knowledge for aspiring developers who want to invest in the future of Martindale Brightwood and Indianapolis. \nIf you’re passionate about transforming your neighborhood and want step-by-step guidance in residential development\, apply starting May 5. \nSpace is limited – don’t wait!📩 Contact Jasmine Buchanan at jbuchanan@mbcdc.org for more info. \nRegister TODAY! https://fs19.formsite.com/bvaeVl/vmfjrzfbjy/index
URL:https://mbcdc.org/event/jumpstart-indy-applications-open/
ATTACH;FMTTYPE=image/png:https://mbcdc.org/wp-content/uploads/2025/04/Jumpstart-Kickstart-IG-3.png
END:VEVENT
BEGIN:VEVENT
DTSTART;TZID=America/Indiana/Indianapolis:20250507T130000
DTEND;TZID=America/Indiana/Indianapolis:20250507T150000
DTSTAMP:20260422T054415
CREATED:20250404T021652Z
LAST-MODIFIED:20250507T165323Z
UID:6859-1746622800-1746630000@mbcdc.org
SUMMARY:Step into Spring-Talent Talk
DESCRIPTION:Join us for Talent Talk and connect directly with employers who are now hiring! This is your chance to explore open positions\, ask questions\, and take the next step in your career. Open to all job seekers—bring your resume and come ready to network. \nDate: Wednesday\, May 7\, 2025Time: 1:00 PM – 3:00 PM (9:45 Arrival time)Location: Brightwood Plaza\, 2435 N. Sherman Drive\, Suite 4\, Indianapolis\, IN 46218 \nQuestions?Contact:Julie Barrett – jbarrett@mbcdc.orgLaNita Nixon – lnixon@mbcdc.org317-695-2417
URL:https://mbcdc.org/event/step-into-spring-talent-talk-2/
LOCATION:Martindale Brightwood CDC\, Brightwood Plaza\, 2435 North Sherman Drive\, Indianapolis\, IN 46218\, 2435 North Sherman Drive Suite 4\, Indianapolis\, IN\, 46218\, United States
ATTACH;FMTTYPE=image/png:https://mbcdc.org/wp-content/uploads/2025/04/Employment-Services-Flyers-20.png
END:VEVENT
BEGIN:VEVENT
DTSTART;TZID=America/Indiana/Indianapolis:20250512T180000
DTEND;TZID=America/Indiana/Indianapolis:20250512T200000
DTSTAMP:20260422T054415
CREATED:20250422T144441Z
LAST-MODIFIED:20250422T150940Z
UID:6911-1747072800-1747080000@mbcdc.org
SUMMARY:Business Bookkeeping Basics
DESCRIPTION:Ready to get a handle on your business finances? Join us for Business Bookkeeping Basics\, a hands-on 2-day workshop tailored for small business owners and entrepreneurs. Learn to confidently manage your bookkeeping using QuickBooks\, understand key financial statements\, and streamline your daily financial tasks. \n💡 What You’ll Gain:\n\n\nA clear understanding of bookkeeping organization and double-entry accounting \n\n\nConfidence navigating and setting up your QuickBooks file \n\n\nPractical skills for day-to-day and month-end bookkeeping \n\n\nTools to analyze your financial performance using reports \n\n\nTime-saving tips to optimize your bookkeeping process \n\n\nBring a laptop or tablet with a keyboard to follow along in real-time. \nDates: Monday\, May 12 – Tuesday\, May 13\, 2025Time: 6:00 PM – 8:00 PM (Both Days)Location: Martindale Brightwood Community Development Corporation2435 N. Sherman Drive\, Suite 4\, Indianapolis\, IN 46218 \n📝 Spots are limited—Register Today:
URL:https://mbcdc.org/event/business-bookkeeping-basics/
LOCATION:Martindale Brightwood CDC\, Brightwood Plaza\, 2435 North Sherman Drive\, Indianapolis\, IN 46218\, 2435 North Sherman Drive Suite 4\, Indianapolis\, IN\, 46218\, United States
ATTACH;FMTTYPE=image/png:https://mbcdc.org/wp-content/uploads/2025/04/Microenterprise-Program-Flyers-2.png
END:VEVENT
BEGIN:VEVENT
DTSTART;TZID=America/Indiana/Indianapolis:20250514T130000
DTEND;TZID=America/Indiana/Indianapolis:20250514T150000
DTSTAMP:20260422T054415
CREATED:20250404T022015Z
LAST-MODIFIED:20250404T024249Z
UID:6864-1747227600-1747234800@mbcdc.org
SUMMARY:Step into Spring-Mock Interview & Resume Review
DESCRIPTION:Need help polishing your resume or preparing for interviews? Sit down one-on-one with local employers for mock interviews and professional resume feedback. Get real advice\, improve your skills\, and boost your confidence before your next big opportunity! \nDate: Wednesday\, May 14\, 2025Time: 1:00 PM – 3:00 PMLocation: Brightwood Plaza\, 2435 N. Sherman Drive\, Suite 4\, Indianapolis\, IN 46218 \nQuestions?Contact:Julie Barrett – jbarrett@mbcdc.orgLaNita Nixon – lnixon@mbcdc.org317-695-2417
URL:https://mbcdc.org/event/step-into-spring-mock-interview-resume-review/
LOCATION:Martindale Brightwood CDC\, Brightwood Plaza\, 2435 North Sherman Drive\, Indianapolis\, IN 46218\, 2435 North Sherman Drive Suite 4\, Indianapolis\, IN\, 46218\, United States
ATTACH;FMTTYPE=image/png:https://mbcdc.org/wp-content/uploads/2025/04/Employment-Services-Flyers-20.png
END:VEVENT
BEGIN:VEVENT
DTSTART;TZID=America/Indiana/Indianapolis:20250520T180000
DTEND;TZID=America/Indiana/Indianapolis:20250520T200000
DTSTAMP:20260422T054415
CREATED:20250429T153614Z
LAST-MODIFIED:20250429T154245Z
UID:6936-1747764000-1747771200@mbcdc.org
SUMMARY:Boss Up: Mindset Workshop for Entrepreneurs
DESCRIPTION:Ready to break mental barriers and level up your business journey? Join mindset coach Regina Sloan for an inspiring and interactive virtual workshop built to help entrepreneurs and aspiring business owners shift their mindset and boost resilience. This session will empower you to think bigger\, move past fear\, and develop habits that lead to long-term personal and professional growth. \nWorkshop Goals: \n\n\nDevelop a growth mindset to overcome challenges with confidence \n\n\nReframe limiting beliefs that hinder success \n\n\nBuild resilience through positive thinking and purposeful daily habits \n\n\nIdeal For: \n\n\nSmall business owners \n\n\nEntrepreneurs \n\n\nCommunity members exploring business opportunities \n\n\nDate: May 20\, 2025Time: 6:00 PM – 8:00 PMLocation: VirtualFacilitator: Regina Sloan\, “The Mindset Nurse” \nCapacity is limited — register now to reserve your spot!
URL:https://mbcdc.org/event/boss-up-mindset-workshop-for-entrepreneurs/
LOCATION:Martindale Brightwood CDC\, 2435 N. Sherman Drive\, Suite 4\,\, Indianapolis\, IN\, 46218\, United States
ATTACH;FMTTYPE=image/png:https://mbcdc.org/wp-content/uploads/2025/04/Mindset.png
END:VEVENT
BEGIN:VEVENT
DTSTART;TZID=America/Indiana/Indianapolis:20250521T130000
DTEND;TZID=America/Indiana/Indianapolis:20250521T150000
DTSTAMP:20260422T054415
CREATED:20250404T022958Z
LAST-MODIFIED:20250521T164213Z
UID:6867-1747832400-1747839600@mbcdc.org
SUMMARY:Step into Spring-Job Fair
DESCRIPTION:Don’t miss our Spring Job Fair! Meet multiple employers who are currently hiring across different industries. Dress business casual\, bring your resume\, and be ready to make valuable connections. Let us help you grow into your next career move! \nDate: Wednesday\, May 21\, 2025Time: 1:00 PM – 3:00 PMLocation: Brightwood Plaza\, 2435 N. Sherman Drive\, Suite 4\, Indianapolis\, IN 46218 \nQuestions?Contact:Julie Barrett – jbarrett@mbcdc.orgLaNita Nixon – lnixon@mbcdc.org317-695-2417
URL:https://mbcdc.org/event/step-into-spring-job-fair-2/
LOCATION:Martindale Brightwood CDC\, Brightwood Plaza\, 2435 North Sherman Drive\, Indianapolis\, IN 46218\, 2435 North Sherman Drive Suite 4\, Indianapolis\, IN\, 46218\, United States
ATTACH;FMTTYPE=image/png:https://mbcdc.org/wp-content/uploads/2025/04/Employment-Services-Flyers-20.png
END:VEVENT
BEGIN:VEVENT
DTSTART;TZID=America/Indiana/Indianapolis:20250524T100000
DTEND;TZID=America/Indiana/Indianapolis:20250524T140000
DTSTAMP:20260422T054415
CREATED:20250422T191456Z
LAST-MODIFIED:20250515T202127Z
UID:6906-1748080800-1748095200@mbcdc.org
SUMMARY:Martindale Brightwood Empowerment Fest
DESCRIPTION:Join us for Empowerment Fest 2025\, a free community celebration hosted by Martindale Brightwood CDC! This fun-filled day is designed to bring Martindale-Brightwood and nearby residents together for resources\, entertainment\, and empowerment. \n🎶 Enjoy music\, games\, food\, and family-friendly activities🛍️ Support local small business vendors💰 Get free credit reports and attend financial workshops🏠 Learn about property taxes\, estate planning\, and homeownership💡 Talk one-on-one with friendly banking professionals🎁 Giveaways\, kids’ activities\, and much more! \nBring your family\, friends\, and neighbors out for a day of connection\, learning\, and fun! \nEvent Details: \n📅 Saturday\, May 24\, 2025🕙 10:00 AM – 2:00 PM📍 2435 N. Sherman Drive\, Indianapolis\, IN 46218
URL:https://mbcdc.org/event/martindale-brightwood-empowerment-fest-2/
LOCATION:Martindale Brightwood CDC\, 2435 N. Sherman Drive\, Suite 4\,\, Indianapolis\, IN\, 46218\, United States
ATTACH;FMTTYPE=image/jpeg:https://mbcdc.org/wp-content/uploads/2025/04/SP25-MB-Empowerment-Fest-8.5x11-1.jpg
END:VEVENT
BEGIN:VEVENT
DTSTART;TZID=America/Indiana/Indianapolis:20250527T180000
DTEND;TZID=America/Indiana/Indianapolis:20250527T193000
DTSTAMP:20260422T054415
CREATED:20241116T144817Z
LAST-MODIFIED:20250325T163639Z
UID:6241-1748368800-1748374200@mbcdc.org
SUMMARY:MBCDC Microenterprise Meetups
DESCRIPTION:MBCDC Microenterprise Meetups \nCalling all small business owners! Take a break from the daily grind and join us at our Microenterprise Meetups—a space dedicated to helping you unwind\, connect\, network\, and grow. \nWhether you’re looking to exchange ideas\, share resources\, or simply mingle with like-minded entrepreneurs\, this meetup offers the perfect opportunity to expand your network and find inspiration for your business journey. \n📅 Event: \nSeptember 24th\, 2024 \nOctober 22\, 2024 \nNovember 19th\, 2024 (Virtual) \nDecember 17\, 2024 \nJanuary 28\, 2025 (Virtual) \nFebruary 25\, 2025 \nMarch 25\, 2025 \nApril 22\, 2025 \nMay 27\, 2025 (Location: TBA) \nCome prepared to share your story\, learn from others\, and build relationships that can help take your business to the next level. Don’t miss out on this chance to be part of a thriving community of small business owners! \nContact Chenille Barrett at cmbarrett@mbcdc.org for more info or to RSVP for the next session.
URL:https://mbcdc.org/event/mbcdc-microenterprise-meetups-6/
LOCATION:TBA
ATTACH;FMTTYPE=image/png:https://mbcdc.org/wp-content/uploads/2024/11/Microenterprise-meetup.png
END:VEVENT
END:VCALENDAR