BEGIN:VCALENDAR
VERSION:2.0
PRODID:-//Martindale Brightwood CDC - ECPv6.15.20//NONSGML v1.0//EN
CALSCALE:GREGORIAN
METHOD:PUBLISH
X-ORIGINAL-URL:https://mbcdc.org
X-WR-CALDESC:Events for Martindale Brightwood CDC
REFRESH-INTERVAL;VALUE=DURATION:PT1H
X-Robots-Tag:noindex
X-PUBLISHED-TTL:PT1H
BEGIN:VTIMEZONE
TZID:America/Indiana/Indianapolis
BEGIN:DAYLIGHT
TZOFFSETFROM:-0500
TZOFFSETTO:-0400
TZNAME:EDT
DTSTART:20240310T070000
END:DAYLIGHT
BEGIN:STANDARD
TZOFFSETFROM:-0400
TZOFFSETTO:-0500
TZNAME:EST
DTSTART:20241103T060000
END:STANDARD
BEGIN:DAYLIGHT
TZOFFSETFROM:-0500
TZOFFSETTO:-0400
TZNAME:EDT
DTSTART:20250309T070000
END:DAYLIGHT
BEGIN:STANDARD
TZOFFSETFROM:-0400
TZOFFSETTO:-0500
TZNAME:EST
DTSTART:20251102T060000
END:STANDARD
BEGIN:DAYLIGHT
TZOFFSETFROM:-0500
TZOFFSETTO:-0400
TZNAME:EDT
DTSTART:20260308T070000
END:DAYLIGHT
BEGIN:STANDARD
TZOFFSETFROM:-0400
TZOFFSETTO:-0500
TZNAME:EST
DTSTART:20261101T060000
END:STANDARD
END:VTIMEZONE
BEGIN:VEVENT
DTSTART;TZID=America/Indiana/Indianapolis:20250806T120000
DTEND;TZID=America/Indiana/Indianapolis:20250806T130000
DTSTAMP:20260421T231044
CREATED:20250623T125811Z
LAST-MODIFIED:20250627T184201Z
UID:7251-1754481600-1754485200@mbcdc.org
SUMMARY:Summers in the Garden - Planning a Beginner Garden
DESCRIPTION:Thinking about starting a garden but not sure where to begin? This workshop walks you through choosing your space\, selecting easy-to-grow vegetables\, improving your soil\, and designing a garden that fits your lifestyle. Perfect for beginners\, renters\, or anyone ready to get growing! \nWhen: Wednesdays\, July 16th – September 3\, 2025\nTime: Noon – 1 PM\nWhere:  Rural Street Community Garden\, 2425 N. Rural St.\, Indianapolis\, IN 46218 \nNext Week: August 13 – Healthy Body Movement \nRegister Today!  Registration is required.
URL:https://mbcdc.org/event/summers-in-the-garden-planning-a-beginner-garden/
LOCATION:Rural Street Community Garden\, 2425 N Rural St\, Indianapolis\, IN\, 46218\, United States
ATTACH;FMTTYPE=image/png:https://mbcdc.org/wp-content/uploads/2025/06/2025-Summers-in-the-Garden.png
END:VEVENT
BEGIN:VEVENT
DTSTART;TZID=America/Indiana/Indianapolis:20250813T120000
DTEND;TZID=America/Indiana/Indianapolis:20250813T130000
DTSTAMP:20260421T231044
CREATED:20250627T183358Z
LAST-MODIFIED:20250813T145023Z
UID:7261-1755086400-1755090000@mbcdc.org
SUMMARY:Summers in the Garden- Healthy Body Movement
DESCRIPTION:Reconnect with nature and yourself in our second wellness session. This class emphasizes body awareness\, gentle movement\, and techniques to help you manage stress and realign midweek. Held in the peaceful garden setting\, it’s a refreshing way to reset your energy. \nWhen: Wednesdays\, July 16th – September 3\, 2025\nTime: Noon – 1 PM\nWhere:  Rural Street Community Garden\, 2425 N. Rural St.\, Indianapolis\, IN 46218 \nNext Week: August 20 – Meals from the Garden \nRegister Today!  Registration is required.
URL:https://mbcdc.org/event/summers-in-the-garden-healthy-body-movement-2/
LOCATION:Rural Street Community Garden\, 2425 N Rural St\, Indianapolis\, IN\, 46218\, United States
ATTACH;FMTTYPE=image/png:https://mbcdc.org/wp-content/uploads/2025/06/2025-Summers-in-the-Garden.png
END:VEVENT
BEGIN:VEVENT
DTSTART;TZID=America/Indiana/Indianapolis:20250814T130000
DTEND;TZID=America/Indiana/Indianapolis:20250814T140000
DTSTAMP:20260421T231044
CREATED:20250801T145943Z
LAST-MODIFIED:20250801T150227Z
UID:7320-1755176400-1755180000@mbcdc.org
SUMMARY:Pharmacy Technician Training Information Session
DESCRIPTION:Pharmacy Technician Training Info SessionReady to take the next step toward a rewarding career in healthcare? Join us for our Pharmacy Technician Training Info Session\, hosted by MBCDC Mobile Employment Services in partnership with Emerge Learning Institute\, LLC. \nThis 16-week program prepares you for success in the growing healthcare industry\, helping you earn your national credential and gain hands-on experience to build a strong foundation for your future. \nLearn more about the program\, enrollment process\, and how you can prepare for certification\, gain in-demand skills\, and launch your healthcare career! \nDate: Thursday\, August 14\, 2025Time: 1:00 PM – 3:00 PM (Doors close at 1:30 PM)Location: Martindale Brightwood Community Development Corporation2435 N. Sherman Drive\, Suite 4\, Indianapolis\, IN 46218 \nFor more information\, contact:Julie Barrett – jbarrett@mbcdc.orgLaNita Nixon – lnixon@mbcdc.org317-695-2417
URL:https://mbcdc.org/event/pharmacy-technician-training-information-session/
LOCATION:Martindale Brightwood CDC\, 2435 N. Sherman Drive\, Suite 4\,\, Indianapolis\, IN\, 46218\, United States
ATTACH;FMTTYPE=image/png:https://mbcdc.org/wp-content/uploads/2025/08/Flyer-for-Rx-Info-Session.png
END:VEVENT
BEGIN:VEVENT
DTSTART;TZID=America/Indiana/Indianapolis:20250819T180000
DTEND;TZID=America/Indiana/Indianapolis:20250819T200000
DTSTAMP:20260421T231044
CREATED:20250805T142953Z
LAST-MODIFIED:20250805T143748Z
UID:7354-1755626400-1755633600@mbcdc.org
SUMMARY:Level Up Your Business - Marketing Series
DESCRIPTION:Join Martindale Brightwood CDC for a powerful three-part marketing series designed to help you elevate your business presence and attract your ideal customers. Led by business strategist Leland Baptist\, this virtual workshop series will provide you with the tools and confidence to market effectively and grow your business. \nWhether you’re just getting started or looking to scale\, you’ll learn: \n\n\nHow to craft compelling marketing messages \n\n\nStrategies to engage and convert customers \n\n\nSteps to confidently grow your brand \n\n\n📅 Dates: \n\n\nTuesday\, August 19 \n\n\nTuesday\, August 26 \n\n\nTuesday\, September 2 \n\n\n⏰ Time: 6:00 PM – 8:00 PM📍 Location: Microsoft Teams (link provided upon registration) \nFor more information\, contact cmbarrett@mbcdc.org.
URL:https://mbcdc.org/event/level-up-your-business-marketing-series/
LOCATION:Virtual Location\, Virtual Location
ATTACH;FMTTYPE=image/png:https://mbcdc.org/wp-content/uploads/2025/08/Marketing-Series-August-2025-1.png
END:VEVENT
BEGIN:VEVENT
DTSTART;TZID=America/Indiana/Indianapolis:20250820T120000
DTEND;TZID=America/Indiana/Indianapolis:20250820T130000
DTSTAMP:20260421T231044
CREATED:20250627T184126Z
LAST-MODIFIED:20250627T184126Z
UID:7264-1755691200-1755694800@mbcdc.org
SUMMARY:Summers in the Garden - Meals from the Garden
DESCRIPTION:You’ve grown it—now let’s eat it! This session explores how to use your garden’s harvest to prepare quick\, nutritious meals. From fresh salads and teas to basic food preservation tips\, you’ll leave with recipes\, confidence\, and a new appreciation for seasonal eating.. \nWhen: Wednesdays\, July 16th – September 3\, 2025\nTime: Noon – 1 PM\nWhere:  Rural Street Community Garden\, 2425 N. Rural St.\, Indianapolis\, IN 46218 \nNext Week: August 27 – Financial Farmer – Mrs. Archie \nRegister Today!  Registration is required.
URL:https://mbcdc.org/event/summers-in-the-garden-meals-from-the-garden/
LOCATION:Rural Street Community Garden\, 2425 N Rural St\, Indianapolis\, IN\, 46218\, United States
ATTACH;FMTTYPE=image/png:https://mbcdc.org/wp-content/uploads/2025/06/2025-Summers-in-the-Garden.png
END:VEVENT
BEGIN:VEVENT
DTSTART;TZID=America/Indiana/Indianapolis:20250826T180000
DTEND;TZID=America/Indiana/Indianapolis:20250826T200000
DTSTAMP:20260421T231044
CREATED:20250805T144003Z
LAST-MODIFIED:20250805T144024Z
UID:7359-1756231200-1756238400@mbcdc.org
SUMMARY:Level Up Your Business - Marketing Series
DESCRIPTION:Join Martindale Brightwood CDC for a powerful three-part marketing series designed to help you elevate your business presence and attract your ideal customers. Led by business strategist Leland Baptist\, this virtual workshop series will provide you with the tools and confidence to market effectively and grow your business. \nWhether you’re just getting started or looking to scale\, you’ll learn: \n\n\nHow to craft compelling marketing messages \n\n\nStrategies to engage and convert customers \n\n\nSteps to confidently grow your brand \n\n\n📅 Dates: \n\n\nTuesday\, August 19 \n\n\nTuesday\, August 26 \n\n\nTuesday\, September 2 \n\n\n⏰ Time: 6:00 PM – 8:00 PM📍 Location: Microsoft Teams (link provided upon registration) \nFor more information\, contact cmbarrett@mbcdc.org.
URL:https://mbcdc.org/event/level-up-your-business-marketing-series-2/
LOCATION:Virtual Location\, Virtual Location
ATTACH;FMTTYPE=image/png:https://mbcdc.org/wp-content/uploads/2025/08/Marketing-Series-August-2025-1.png
END:VEVENT
BEGIN:VEVENT
DTSTART;TZID=America/Indiana/Indianapolis:20250827T120000
DTEND;TZID=America/Indiana/Indianapolis:20250827T133000
DTSTAMP:20260421T231044
CREATED:20250627T184754Z
LAST-MODIFIED:20250826T144536Z
UID:7271-1756296000-1756301400@mbcdc.org
SUMMARY:Summers in the Garden - Finacial Literacy with Mrs. Archie\, The Financial Farmer
DESCRIPTION:This unique session draws parallels between farming and personal finance. Just like a garden\, your money needs planning\, care\, and the right environment to grow. We’ll cover budgeting\, saving\, and how to start building financial habits that support your long-term goals. \nWhen: Wednesdays\, July 16th – September 3\, 2025\nTime: Noon – 1 PM\nWhere:  Rural Street Community Garden\, 2425 N. Rural St.\, Indianapolis\, IN 46218 \nNext Week: September 3 – Financial Farmer with Mrs. Archie Part 2 \nRegister Today!  Registration is required.
URL:https://mbcdc.org/event/summers-in-the-garden-financial-farmer-with-mrs-archie/
LOCATION:Rural Street Community Garden\, 2425 N Rural St\, Indianapolis\, IN\, 46218\, United States
ATTACH;FMTTYPE=image/png:https://mbcdc.org/wp-content/uploads/2025/06/2025-Summers-in-the-Garden-1.png
END:VEVENT
END:VCALENDAR