BEGIN:VCALENDAR
VERSION:2.0
PRODID:-//Martindale Brightwood CDC - ECPv6.15.20//NONSGML v1.0//EN
CALSCALE:GREGORIAN
METHOD:PUBLISH
X-WR-CALNAME:Martindale Brightwood CDC
X-ORIGINAL-URL:https://mbcdc.org
X-WR-CALDESC:Events for Martindale Brightwood CDC
REFRESH-INTERVAL;VALUE=DURATION:PT1H
X-Robots-Tag:noindex
X-PUBLISHED-TTL:PT1H
BEGIN:VTIMEZONE
TZID:America/Indiana/Indianapolis
BEGIN:DAYLIGHT
TZOFFSETFROM:-0500
TZOFFSETTO:-0400
TZNAME:EDT
DTSTART:20240310T070000
END:DAYLIGHT
BEGIN:STANDARD
TZOFFSETFROM:-0400
TZOFFSETTO:-0500
TZNAME:EST
DTSTART:20241103T060000
END:STANDARD
BEGIN:DAYLIGHT
TZOFFSETFROM:-0500
TZOFFSETTO:-0400
TZNAME:EDT
DTSTART:20250309T070000
END:DAYLIGHT
BEGIN:STANDARD
TZOFFSETFROM:-0400
TZOFFSETTO:-0500
TZNAME:EST
DTSTART:20251102T060000
END:STANDARD
BEGIN:DAYLIGHT
TZOFFSETFROM:-0500
TZOFFSETTO:-0400
TZNAME:EDT
DTSTART:20260308T070000
END:DAYLIGHT
BEGIN:STANDARD
TZOFFSETFROM:-0400
TZOFFSETTO:-0500
TZNAME:EST
DTSTART:20261101T060000
END:STANDARD
END:VTIMEZONE
BEGIN:VEVENT
DTSTART;TZID=America/Indiana/Indianapolis:20250902T180000
DTEND;TZID=America/Indiana/Indianapolis:20250902T200000
DTSTAMP:20260421T181833
CREATED:20250805T144439Z
LAST-MODIFIED:20250805T144645Z
UID:7362-1756836000-1756843200@mbcdc.org
SUMMARY:Level Up Your Business - Marketing Series
DESCRIPTION:Join Martindale Brightwood CDC for a powerful three-part marketing series designed to help you elevate your business presence and attract your ideal customers. Led by business strategist Leland Baptist\, this virtual workshop series will provide you with the tools and confidence to market effectively and grow your business. \nWhether you’re just getting started or looking to scale\, you’ll learn: \n\n\nHow to craft compelling marketing messages \n\n\nStrategies to engage and convert customers \n\n\nSteps to confidently grow your brand \n\n\n📅 Dates: \n\n\nTuesday\, August 19 \n\n\nTuesday\, August 26 \n\n\nTuesday\, September 2 \n\n\n⏰ Time: 6:00 PM – 8:00 PM📍 Location: Microsoft Teams (link provided upon registration) \nFor more information\, contact cmbarrett@mbcdc.org.
URL:https://mbcdc.org/event/level-up-your-business-marketing-series-3/
LOCATION:Virtual Location\, Virtual Location
ATTACH;FMTTYPE=image/png:https://mbcdc.org/wp-content/uploads/2025/08/Marketing-Series-August-2025-1.png
END:VEVENT
BEGIN:VEVENT
DTSTART;TZID=America/Indiana/Indianapolis:20250903T120000
DTEND;TZID=America/Indiana/Indianapolis:20250903T133000
DTSTAMP:20260421T181833
CREATED:20250627T185205Z
LAST-MODIFIED:20250826T134746Z
UID:7274-1756900800-1756906200@mbcdc.org
SUMMARY:Summers in the Garden - Finacial Literacy with Mrs. Archie\, The Financial Farmer Part 2
DESCRIPTION:Continue the financial journey by digging deeper into long-term financial strategies. Learn about investing basics\, understanding credit\, and how to leave a legacy through smart planning. Whether you’re just starting or want to strengthen your financial roots\, this session provides tools to help your money work for you. \nWhen: Wednesdays\, July 16th – September 3\, 2025\nTime: Noon – 1 PM\nWhere:  Rural Street Community Garden\, 2425 N. Rural St.\, Indianapolis\, IN 46218 \nRegister Today!  Registration is required.
URL:https://mbcdc.org/event/summers-in-the-garden-financial-farmer-with-mrs-archie-part-2/
LOCATION:Rural Street Community Garden\, 2425 N Rural St\, Indianapolis\, IN\, 46218\, United States
ATTACH;FMTTYPE=image/png:https://mbcdc.org/wp-content/uploads/2025/06/2025-Summers-in-the-Garden-1.png
END:VEVENT
BEGIN:VEVENT
DTSTART;TZID=America/Indiana/Indianapolis:20250909T183000
DTEND;TZID=America/Indiana/Indianapolis:20250909T200000
DTSTAMP:20260421T181833
CREATED:20250817T182325Z
LAST-MODIFIED:20250817T182325Z
UID:7420-1757442600-1757448000@mbcdc.org
SUMMARY:Empowered Business Solutions - Virtual Chat
DESCRIPTION:Are you working on something you love but not sure if it’s a hobby\, a side hustle\, or a true business? Join us for a powerful virtual conversation designed to help you clarify your path and build wealth intentionally. \nThis interactive session will explore:✨ How to know when a hobby becomes a business✨ Steps to turn your hustle into a sustainable income stream✨ Mindset shifts for long-term success and wealth-building \nWhether you’re just starting out or ready to scale\, this chat will give you the clarity and tools to move forward with confidence. \nVirtual Chat: Hobby\, Hustle or Business?📅 September 9\, 2025⏰ 6:30 – 8:00 PM💻 Virtual \n👉 Registration required. \nFor more information\, contact Chenille Barrett at cmbarett@mbcdc.org.
URL:https://mbcdc.org/event/empowered-business-solutions-virtual-chat/
LOCATION:Virtual Location\, Virtual Location
ATTACH;FMTTYPE=image/png:https://mbcdc.org/wp-content/uploads/2025/08/MBCDC-Business.png
END:VEVENT
BEGIN:VEVENT
DTSTART;TZID=America/Indiana/Indianapolis:20250910T100000
DTEND;TZID=America/Indiana/Indianapolis:20250910T120000
DTSTAMP:20260421T181833
CREATED:20250801T173835Z
LAST-MODIFIED:20250910T143300Z
UID:7328-1757498400-1757505600@mbcdc.org
SUMMARY:Fall Forward - Talent Talk
DESCRIPTION:Kick off our Fall Forward Job Readiness Series by connecting directly with employers who are currently hiring. This is your chance to learn what companies are looking for\, ask questions about open positions\, and make valuable connections to help you land your next job. \n📅 Wednesday\, September 10\, 2025🕐 10:00 AM – 12:00 PM📍 Brightwood Plaza\, 2435 N. Sherman Drive\, Suite 4\, Indianapolis\, IN 46218 \nDress in business casual attire and bring copies of your resume.
URL:https://mbcdc.org/event/fall-forward-talent-talk-2/
LOCATION:Martindale Brightwood CDC\, 2435 N. Sherman Drive\, Suite 4\,\, Indianapolis\, IN\, 46218\, United States
ATTACH;FMTTYPE=image/png:https://mbcdc.org/wp-content/uploads/2025/08/Employment-Services-Flyers-24-2.png
END:VEVENT
BEGIN:VEVENT
DTSTART;TZID=America/Indiana/Indianapolis:20250910T173000
DTEND;TZID=America/Indiana/Indianapolis:20250910T193000
DTSTAMP:20260421T181833
CREATED:20250902T150221Z
LAST-MODIFIED:20250902T152703Z
UID:7461-1757525400-1757532600@mbcdc.org
SUMMARY:Comprendiendo Credito
DESCRIPTION:¿Le interesa tener su propia casa\, pero no sabe por dónde empezar? ¿Necesita mejorar su puntaje crediticio? Acompáñenos a un seminario gratuito para aprender todo sobre el crédito y cómo le permite comprar una casa. \nTemas de Discusión: \n\n\n¿Qué es el crédito? \n\n\nCómo construir un historial de crédito productivo \n\n\nCómo reparar y mejorar su crédito \n\n\n\n📅 10 de Septiembre de 2025🕠 5:30 PM – 7:30 PM \n📍 Martindale Brightwood Community Development Corporation2435 N. Sherman Drive\, Suite 4Indianapolis\, IN 46218 \n\nContáctame\nAbraham EstradaNMLS# 1405864📞 (317) 665-0153✉️ abraham.estrada@syb.com \n\nSe aplican términos y condiciones.Todos los préstamos están sujetos a aprobación crediticia. \nRESERVA TU LUGAR🔗 syb.com/mortgage
URL:https://mbcdc.org/event/understanding-credit-comprendiendo-credito/
LOCATION:Martindale Brightwood CDC\, 2435 N. Sherman Drive\, Suite 4\,\, Indianapolis\, IN\, 46218\, United States
ATTACH;FMTTYPE=image/png:https://mbcdc.org/wp-content/uploads/2025/09/Stock-Yards-Bank-Spanish.png
END:VEVENT
BEGIN:VEVENT
DTSTART;TZID=America/Indiana/Indianapolis:20250911T180000
DTEND;TZID=America/Indiana/Indianapolis:20250911T200000
DTSTAMP:20260421T181833
CREATED:20250817T171736Z
LAST-MODIFIED:20250817T171736Z
UID:7413-1757613600-1757620800@mbcdc.org
SUMMARY:Savvy Women: A Book & Social Club
DESCRIPTION:Calling all women entrepreneurs and leaders!Join a welcoming circle of women where every book sparks conversation\, every conversation fuels growth\, and light coaching helps turn ideas into action. This social book club is designed to inspire both personal and professional success while building connections that last. \n✨ What to Expect: \n\n\nThought-provoking book discussions \n\n\nSupportive coaching moments \n\n\nFriendships that inspire personal + business growth \n\n\n📖 Featured Reads: \n\n\nWe Should All Be Millionaires by Rachel Rodgers \n\n\nNever Eat Alone by Keith Ferrazzi \n\n\nThe $100 Startup by Chris Guillebeau \n\n\n  \n📅 September 11 | October 9 | November 13⏰ 6:30 – 8:00 PM💻 Virtual \nMore Information:Chenille Barrett – cmbarrett@mbcdc.org
URL:https://mbcdc.org/event/savvy-women-a-book-social-club/
LOCATION:Virtual Location\, Virtual Location
ATTACH;FMTTYPE=image/png:https://mbcdc.org/wp-content/uploads/2025/08/Savvy-Women-Book-Social-Club-.png
END:VEVENT
BEGIN:VEVENT
DTSTART;TZID=America/Indiana/Indianapolis:20250917T100000
DTEND;TZID=America/Indiana/Indianapolis:20250917T120000
DTSTAMP:20260421T181833
CREATED:20250801T180011Z
LAST-MODIFIED:20250917T133719Z
UID:7334-1758103200-1758110400@mbcdc.org
SUMMARY:Fall Forward- Mock Interview and Resume Review
DESCRIPTION:Get one-on-one support directly from employers to help you prepare for your next interview. Practice your answers\, receive constructive feedback\, and get your resume reviewed to ensure you stand out as a top candidate. \nThis session is designed to boost your confidence and help you make a great impression during your job search. \n📅 Wednesday\, September 17\, 2025🕐 10:00 AM – 12:00 PM📍 Brightwood Plaza\, 2435 N. Sherman Drive\, Suite 4\, Indianapolis\, IN 46218
URL:https://mbcdc.org/event/fall-forward-mock-interview-and-resume-review/
LOCATION:Martindale Brightwood CDC\, 2435 N. Sherman Drive\, Suite 4\,\, Indianapolis\, IN\, 46218\, United States
ATTACH;FMTTYPE=image/png:https://mbcdc.org/wp-content/uploads/2025/08/Employment-Services-Flyers-24-2.png
END:VEVENT
BEGIN:VEVENT
DTSTART;TZID=America/Indiana/Indianapolis:20250924T100000
DTEND;TZID=America/Indiana/Indianapolis:20250924T120000
DTSTAMP:20260421T181833
CREATED:20250801T180245Z
LAST-MODIFIED:20250917T133802Z
UID:7337-1758708000-1758715200@mbcdc.org
SUMMARY:Fall Forward - Job Fair
DESCRIPTION:Wrap up the series by meeting employers who are actively hiring across various industries. Explore job openings\, network with recruiters\, and take the next step toward employment opportunities that fit your skills and goals. \nBusiness casual dress is required\, and bringing multiple copies of your resume is recommended. \n📅 Wednesday\, September 24\, 2025🕐 10:00 AM – 12:00 PM📍 Brightwood Plaza\, 2435 N. Sherman Drive\, Suite 4\, Indianapolis\, IN 46218
URL:https://mbcdc.org/event/fall-forward-job-fair-2/
LOCATION:Martindale Brightwood CDC\, 2435 N. Sherman Drive\, Suite 4\,\, Indianapolis\, IN\, 46218\, United States
ATTACH;FMTTYPE=image/png:https://mbcdc.org/wp-content/uploads/2025/08/Employment-Services-Flyers-24-2.png
END:VEVENT
BEGIN:VEVENT
DTSTART;TZID=America/Indiana/Indianapolis:20250924T180000
DTEND;TZID=America/Indiana/Indianapolis:20250924T200000
DTSTAMP:20260421T181833
CREATED:20250817T182935Z
LAST-MODIFIED:20250911T200037Z
UID:7425-1758736800-1758744000@mbcdc.org
SUMMARY:Empowered Business Solutions - Legacy Builders Kick-off
DESCRIPTION:Join us for an evening of good eats and great company as we launch this exciting program. Whether you’re curious about what Legacy Builders is all about or just looking to network in a relaxed setting\, this event is the perfect place to start. \n✨ What to Expect: \n\n\nMeet the Legacy Builders community \n\n\nEnjoy food fresh off the grill \n\n\nLearn how you can get involved \n\n\nBring your energy\, your appetite\, and your ideas — we can’t wait to see you there! \n📅 Tuesday\, September 24\, 2025⏰ 6:00 – 8:00 PM📍 Martindale Brightwood CDC \n👉 Registration required. \nFor questions\, contact Chenille Barrett at cmbarrtett@mbcdc.org
URL:https://mbcdc.org/event/empowered-business-solutions-legacy-builders-kick-off/
LOCATION:Martindale Brightwood CDC\, 2435 N. Sherman Drive\, Suite 4\,\, Indianapolis\, IN\, 46218\, United States
ATTACH;FMTTYPE=image/png:https://mbcdc.org/wp-content/uploads/2025/08/MBCDC-Business-5.png
END:VEVENT
END:VCALENDAR