BEGIN:VCALENDAR
VERSION:2.0
PRODID:-//Martindale Brightwood CDC - ECPv6.15.20//NONSGML v1.0//EN
CALSCALE:GREGORIAN
METHOD:PUBLISH
X-WR-CALNAME:Martindale Brightwood CDC
X-ORIGINAL-URL:https://mbcdc.org
X-WR-CALDESC:Events for Martindale Brightwood CDC
REFRESH-INTERVAL;VALUE=DURATION:PT1H
X-Robots-Tag:noindex
X-PUBLISHED-TTL:PT1H
BEGIN:VTIMEZONE
TZID:America/Indiana/Indianapolis
BEGIN:DAYLIGHT
TZOFFSETFROM:-0500
TZOFFSETTO:-0400
TZNAME:EDT
DTSTART:20240310T070000
END:DAYLIGHT
BEGIN:STANDARD
TZOFFSETFROM:-0400
TZOFFSETTO:-0500
TZNAME:EST
DTSTART:20241103T060000
END:STANDARD
BEGIN:DAYLIGHT
TZOFFSETFROM:-0500
TZOFFSETTO:-0400
TZNAME:EDT
DTSTART:20250309T070000
END:DAYLIGHT
BEGIN:STANDARD
TZOFFSETFROM:-0400
TZOFFSETTO:-0500
TZNAME:EST
DTSTART:20251102T060000
END:STANDARD
BEGIN:DAYLIGHT
TZOFFSETFROM:-0500
TZOFFSETTO:-0400
TZNAME:EDT
DTSTART:20260308T070000
END:DAYLIGHT
BEGIN:STANDARD
TZOFFSETFROM:-0400
TZOFFSETTO:-0500
TZNAME:EST
DTSTART:20261101T060000
END:STANDARD
END:VTIMEZONE
BEGIN:VEVENT
DTSTART;TZID=America/Indiana/Indianapolis:20251001T080000
DTEND;TZID=America/Indiana/Indianapolis:20251001T100000
DTSTAMP:20260421T164822
CREATED:20250917T151645Z
LAST-MODIFIED:20250930T190526Z
UID:7568-1759305600-1759312800@mbcdc.org
SUMMARY:Coffee & Conversation: Neighborhood Safety with IMPD
DESCRIPTION:Kick off Coffee & Conversation with a special Neighborhood Safety spotlight! In honor of National Coffee with a Cop Day\, join us for open dialogue with IMPD officers. This is a chance to strengthen trust\, ask questions\, and build connections for a safer Martindale-Brightwood. Coffee\, donuts\, and free meal vouchers (while supplies last) will be provided! \nDate: Wednesday\, October 1\, 2025 | 8–10 AMLocation: 2435 N. Sherman Drive\, Suite 4
URL:https://mbcdc.org/event/coffee-conversation-neighborhood-safety-with-impd/
LOCATION:Martindale Brightwood CDC\, Brightwood Plaza\, 2435 North Sherman Drive\, Indianapolis\, IN 46218\, 2435 North Sherman Drive Suite 4\, Indianapolis\, IN\, 46218\, United States
ATTACH;FMTTYPE=image/png:https://mbcdc.org/wp-content/uploads/2025/09/QoL-Housing-1-1.png
END:VEVENT
BEGIN:VEVENT
DTSTART;TZID=America/Indiana/Indianapolis:20251008T080000
DTEND;TZID=America/Indiana/Indianapolis:20251008T100000
DTSTAMP:20260421T164822
CREATED:20250917T170926Z
LAST-MODIFIED:20250917T170926Z
UID:7580-1759910400-1759917600@mbcdc.org
SUMMARY:Coffee & Conversation: Senior Appreciation with IFD
DESCRIPTION:This week is dedicated to Senior Appreciation! Seniors are invited to enjoy a morning of conversation\, connection\, and resources with representatives from the Indianapolis Fire Department. Learn about safety tips\, valuable services\, and community resources designed to support older adults. Coffee\, donuts\, and free meal vouchers (while supplies last) will be provided! \nDate: Wednesday\, October 8\, 2025 | 8–10 AMLocation: 2435 N. Sherman Drive\, Suite 4
URL:https://mbcdc.org/event/coffee-conversation-senior-appreciation-with-ifd/
LOCATION:Martindale Brightwood CDC\, Brightwood Plaza\, 2435 North Sherman Drive\, Indianapolis\, IN 46218\, 2435 North Sherman Drive Suite 4\, Indianapolis\, IN\, 46218\, United States
ATTACH;FMTTYPE=image/png:https://mbcdc.org/wp-content/uploads/2025/09/QoL-Housing-6.png
END:VEVENT
BEGIN:VEVENT
DTSTART;TZID=America/Indiana/Indianapolis:20251009T180000
DTEND;TZID=America/Indiana/Indianapolis:20251009T200000
DTSTAMP:20260421T164822
CREATED:20250817T171952Z
LAST-MODIFIED:20250817T172355Z
UID:7416-1760032800-1760040000@mbcdc.org
SUMMARY:Savvy Women: A Book & Social Club
DESCRIPTION:Calling all women entrepreneurs and leaders!Join a welcoming circle of women where every book sparks conversation\, every conversation fuels growth\, and light coaching helps turn ideas into action. This social book club is designed to inspire both personal and professional success while building connections that last. \n✨ What to Expect: \n\n\nThought-provoking book discussions \n\n\nSupportive coaching moments \n\n\nFriendships that inspire personal + business growth \n\n\n📖 Featured Reads: \n\n\nWe Should All Be Millionaires by Rachel Rodgers \n\n\nNever Eat Alone by Keith Ferrazzi \n\n\nThe $100 Startup by Chris Guillebeau \n\n\n📅 September 11 | October 9 | November 13⏰ 6:30 – 8:00 PM💻 Virtual \nMore Information:Chenille Barrett – cmbarrett@mbcdc.org
URL:https://mbcdc.org/event/savvy-women-a-book-social-club-2/
LOCATION:Virtual Location\, Virtual Location
ATTACH;FMTTYPE=image/png:https://mbcdc.org/wp-content/uploads/2025/08/Savvy-Women-Book-Social-Club-.png
END:VEVENT
BEGIN:VEVENT
DTSTART;TZID=America/Indiana/Indianapolis:20251015T080000
DTEND;TZID=America/Indiana/Indianapolis:20251015T100000
DTSTAMP:20260421T164822
CREATED:20250917T171354Z
LAST-MODIFIED:20250917T171430Z
UID:7583-1760515200-1760522400@mbcdc.org
SUMMARY:Coffee & Conversation: Health & Wellness
DESCRIPTION:Join us for a morning centered on Health & Wellness! Representatives from the YMCA and the Marion County Health Department will share resources and insights on wellness\, prevention\, and healthy living. This session is all about community care and staying connected to the support you need for a healthier lifestyle. Coffee\, donuts\, and free meal vouchers (while supplies last) will be provided! \nDate: Wednesday\, October 15\, 2025 | 8–10 AMLocation: 2435 N. Sherman Drive\, Suite 4
URL:https://mbcdc.org/event/coffee-conversation-health-wellness/
LOCATION:Martindale Brightwood CDC\, Brightwood Plaza\, 2435 North Sherman Drive\, Indianapolis\, IN 46218\, 2435 North Sherman Drive Suite 4\, Indianapolis\, IN\, 46218\, United States
ATTACH;FMTTYPE=image/png:https://mbcdc.org/wp-content/uploads/2025/09/QoL-Housing-7.png
END:VEVENT
BEGIN:VEVENT
DTSTART;TZID=America/Indiana/Indianapolis:20251021T173000
DTEND;TZID=America/Indiana/Indianapolis:20251021T193000
DTSTAMP:20260421T164822
CREATED:20251016T114129Z
LAST-MODIFIED:20251016T115048Z
UID:7696-1761067800-1761075000@mbcdc.org
SUMMARY:Homebuyer Workshop
DESCRIPTION:Join Merchants Bank for an informative Homebuyer Workshop designed to help you take the next step toward homeownership. \nLearn how to qualify for a mortgage\, understand special loan programs\, and gain valuable insight into the homebuying process from start to finish. Our team of mortgage professionals will guide you through borrowing options\, from prequalification to closing. \nOur Executive Director\, Amina Pierson\, will share details about new affordable homes currently under construction in Martindale-Brightwood\, with prices starting at $150\,000 and up. \nEvent Details: \nDate: October 21Time: 5:30–7:30 PMLocation: 441 W Michigan Street\, Indianapolis\, IN 46202 \n👉 Register today: bankmerchants.com/homebuyer-workshop/
URL:https://mbcdc.org/event/homebuyer-workshop/
LOCATION:Martindale Brightwood CDC\, Brightwood Plaza\, 2435 North Sherman Drive\, Indianapolis\, IN 46218\, 2435 North Sherman Drive Suite 4\, Indianapolis\, IN\, 46218\, United States
ATTACH;FMTTYPE=image/png:https://mbcdc.org/wp-content/uploads/2025/10/Homebuyer-workshop1021.png
END:VEVENT
BEGIN:VEVENT
DTSTART;TZID=America/Indiana/Indianapolis:20251022T080000
DTEND;TZID=America/Indiana/Indianapolis:20251022T100000
DTSTAMP:20260421T164822
CREATED:20250917T172111Z
LAST-MODIFIED:20250917T172111Z
UID:7586-1761120000-1761127200@mbcdc.org
SUMMARY:Coffee & Conversation: Civic and City Voices
DESCRIPTION:Your voice matters! This week’s spotlight is on Civic and City Voices. Connect with civic leaders and City officials—past and present—as they share perspectives on the future of Martindale-Brightwood. Learn how your input through the Resident Survey can help shape programs\, priorities\, and long-term investments in the community. Coffee\, donuts\, and free meal vouchers (while supplies last) will be provided! \nDate: Wednesday\, October 22\, 2025 | 8–10 AMLocation: 2435 N. Sherman Drive\, Suite 4
URL:https://mbcdc.org/event/coffee-conversation-civic-and-city-voices/
LOCATION:Martindale Brightwood CDC\, Brightwood Plaza\, 2435 North Sherman Drive\, Indianapolis\, IN 46218\, 2435 North Sherman Drive Suite 4\, Indianapolis\, IN\, 46218\, United States
ATTACH;FMTTYPE=image/png:https://mbcdc.org/wp-content/uploads/2025/09/QoL-Housing-8.png
END:VEVENT
BEGIN:VEVENT
DTSTART;TZID=America/Indiana/Indianapolis:20251029T080000
DTEND;TZID=America/Indiana/Indianapolis:20251029T100000
DTSTAMP:20260421T164822
CREATED:20250917T172639Z
LAST-MODIFIED:20250917T172639Z
UID:7589-1761724800-1761732000@mbcdc.org
SUMMARY:Coffee & Conversation: Housing Partners
DESCRIPTION:Close out the month with our Housing Partners spotlight! Chat with local housing organizations—including Edna Martin Christian Center\, Intend Indiana\, and more—about resources\, stability\, and homeownership opportunities in Martindale-Brightwood. Your voice helps guide future housing initiatives through the Resident Survey. Coffee\, donuts\, and free meal vouchers (while supplies last) will be provided! \nDate: Wednesday\, October 29\, 2025 | 8–10 AMLocation: 2435 N. Sherman Drive\, Suite 4
URL:https://mbcdc.org/event/coffee-conversation-housing-partners/
LOCATION:Martindale Brightwood CDC\, Brightwood Plaza\, 2435 North Sherman Drive\, Indianapolis\, IN 46218\, 2435 North Sherman Drive Suite 4\, Indianapolis\, IN\, 46218\, United States
ATTACH;FMTTYPE=image/png:https://mbcdc.org/wp-content/uploads/2025/09/QoL-Housing-9.png
END:VEVENT
BEGIN:VEVENT
DTSTART;TZID=America/Indiana/Indianapolis:20251031T170000
DTEND;TZID=America/Indiana/Indianapolis:20251031T190000
DTSTAMP:20260421T164822
CREATED:20251023T230428Z
LAST-MODIFIED:20251023T230428Z
UID:7729-1761930000-1761937200@mbcdc.org
SUMMARY:YouthBuild Impact Day: Trunk or Treat Community Event 🎃
DESCRIPTION:Join Martindale-Brightwood CDC’s YouthBuild team for Impact Day\, a celebration of community service\, leadership\, and giving back! \nThis year\, our YouthBuild participants are hosting a Trunk or Treat event — a fun and safe evening for families to enjoy the spirit of Halloween while connecting with community resources and neighborhood leaders. \nEvent Details:📅 Friday\, October 31🕔 5:00 PM – 7:00 PM📍 Martindale-Brightwood CDC | 2435 N. Sherman Drive\, Suite 4\, Indianapolis\, IN 46218 \nBring the whole family for an evening filled with decorated car trunks\, candy giveaways\, games\, music\, refreshments\, and resource tables for local residents. \nYouthBuild participants will lead setup\, activities\, and community engagement as part of their Impact Day—a day dedicated to giving back\, building skills\, and making a difference right here in Martindale-Brightwood. \nCome show your support and celebrate our young leaders in action! 💪🎃 \n#YouthBuildIndy #ImpactDay #MBCDC #CommunityStrong #TrunkOrTreat #MartindaleBrightwood
URL:https://mbcdc.org/event/youthbuild-impact-day-trunk-or-treat-community-event-%f0%9f%8e%83/
LOCATION:Martindale Brightwood CDC\, Brightwood Plaza\, 2435 North Sherman Drive\, Indianapolis\, IN 46218\, 2435 North Sherman Drive Suite 4\, Indianapolis\, IN\, 46218\, United States
ATTACH;FMTTYPE=image/png:https://mbcdc.org/wp-content/uploads/2025/10/YouthBuild-Trunk-or-Treat.png
END:VEVENT
END:VCALENDAR