BEGIN:VCALENDAR
VERSION:2.0
PRODID:-//Martindale Brightwood CDC - ECPv6.15.20//NONSGML v1.0//EN
CALSCALE:GREGORIAN
METHOD:PUBLISH
X-ORIGINAL-URL:https://mbcdc.org
X-WR-CALDESC:Events for Martindale Brightwood CDC
REFRESH-INTERVAL;VALUE=DURATION:PT1H
X-Robots-Tag:noindex
X-PUBLISHED-TTL:PT1H
BEGIN:VTIMEZONE
TZID:America/Indiana/Indianapolis
BEGIN:DAYLIGHT
TZOFFSETFROM:-0500
TZOFFSETTO:-0400
TZNAME:EDT
DTSTART:20250309T070000
END:DAYLIGHT
BEGIN:STANDARD
TZOFFSETFROM:-0400
TZOFFSETTO:-0500
TZNAME:EST
DTSTART:20251102T060000
END:STANDARD
BEGIN:DAYLIGHT
TZOFFSETFROM:-0500
TZOFFSETTO:-0400
TZNAME:EDT
DTSTART:20260308T070000
END:DAYLIGHT
BEGIN:STANDARD
TZOFFSETFROM:-0400
TZOFFSETTO:-0500
TZNAME:EST
DTSTART:20261101T060000
END:STANDARD
BEGIN:DAYLIGHT
TZOFFSETFROM:-0500
TZOFFSETTO:-0400
TZNAME:EDT
DTSTART:20270314T070000
END:DAYLIGHT
BEGIN:STANDARD
TZOFFSETFROM:-0400
TZOFFSETTO:-0500
TZNAME:EST
DTSTART:20271107T060000
END:STANDARD
END:VTIMEZONE
BEGIN:VEVENT
DTSTART;TZID=America/Indiana/Indianapolis:20260305T130000
DTEND;TZID=America/Indiana/Indianapolis:20260305T170000
DTSTAMP:20260421T092421
CREATED:20260126T201158Z
LAST-MODIFIED:20260202T203137Z
UID:8286-1772715600-1772730000@mbcdc.org
SUMMARY:MBCDC Small Business Development : XBE Certification Workshop
DESCRIPTION:Learn how to become XBE certified and connect your business to contracting opportunities. \nThis hands-on workshop will guide minority-\, women-\, veteran-\, and disability-owned businesses through the certification process and explain how it opens doors to city\, county\, municipal\, and private-sector projects. \nParticipants will receive step-by-step support\, helpful resources\, and time for questions. \nYour Pathway to XBE Certification & Contracting Opportunities \n📅 March 5\, 2026🕐 1:00 PM – 5:00 PM📍 2435 N. Sherman Drive\, Suite 4Indianapolis\, IN 46218 \nFor questions: cmbarrett@mbcdc.org
URL:https://mbcdc.org/event/mbcdc-small-business-xbe-certification-workshop/
LOCATION:Martindale Brightwood CDC\, 2435 N. Sherman Drive\, Suite 4\,\, Indianapolis\, IN\, 46218\, United States
ATTACH;FMTTYPE=image/png:https://mbcdc.org/wp-content/uploads/2026/01/HHB-2025-1600-x-900-px-1.png
END:VEVENT
BEGIN:VEVENT
DTSTART;TZID=America/Indiana/Indianapolis:20260305T180000
DTEND;TZID=America/Indiana/Indianapolis:20260305T200000
DTSTAMP:20260421T092421
CREATED:20260113T233222Z
LAST-MODIFIED:20260128T185838Z
UID:8166-1772733600-1772740800@mbcdc.org
SUMMARY:MBCDC Small Business Development: Money Mindset Group Coaching
DESCRIPTION:A free six-part workshop series designed to help entrepreneurs and business owners build healthier money habits and financial confidence through guided mindset work and practical insight. \nFacilitated by Regina Sloan\, Entrepreneur & Mindset Coach\, this series supports clarity\, consistency\, and long-term financial stability. Application required\, submission deadline Wednesday\, January 28\, 2026. \nYou’ll Learn To: \n\nIdentify and shift limiting money beliefs\nBuild healthy\, consistent money habits\nGain confidence with credit and financial decision.
URL:https://mbcdc.org/event/mbcdc-empowered-business-solutions-money-mindset-group-coaching-5/
ATTACH;FMTTYPE=image/png:https://mbcdc.org/wp-content/uploads/2025/12/Money-Mindset-Group-Coaching.png
END:VEVENT
BEGIN:VEVENT
DTSTART;TZID=America/Indiana/Indianapolis:20260311T130000
DTEND;TZID=America/Indiana/Indianapolis:20260311T150000
DTSTAMP:20260421T092421
CREATED:20260113T165509Z
LAST-MODIFIED:20260115T214130Z
UID:8140-1773234000-1773241200@mbcdc.org
SUMMARY:MBCDC Employment Services: March Madness- Talent Talk
DESCRIPTION:MBCDC Employment Services is bringing the community a month-long series focused on upskilling\, job readiness\, and career growth—and we want YOU to join the movement! Our March Madness events will connect job seekers with employers\, provide hands-on feedback\, and help participants prepare for today’s workforce. \nEvent Lineup\n📌 March 11 | 1 PM– 3 PM — Talent Talk: Meet Employers📌 March 18 | 1 PM– 3 PM — Mock Interview + Resume Review (1-on-1 employer feedback)📌 March 25 | 3 PM–6 PM — Summer Employment for Teens + College Students \n📍 Location: Martindale Brightwood CDC (Brightwood Plaza)\, 2435 N. Sherman Drive\, Suite 4\, Indianapolis\, IN 46218 \n👔 Dress code: Business casual required📄 Bring your resume + two valid forms of ID \nQuestions? Contact LaNita Nixon at lnixon@mbcdc.org or 317-695-2417
URL:https://mbcdc.org/event/march-madness-talent-talk-meet-employers-2/
LOCATION:Martindale Brightwood CDC\, Brightwood Plaza\, 2435 North Sherman Drive\, Indianapolis\, IN 46218\, 2435 North Sherman Drive Suite 4\, Indianapolis\, IN\, 46218\, United States
ATTACH;FMTTYPE=image/png:https://mbcdc.org/wp-content/uploads/2026/01/Website-Event-Calendar-1600x900-1-1.png
END:VEVENT
BEGIN:VEVENT
DTSTART;TZID=America/Indiana/Indianapolis:20260317T100000
DTEND;TZID=America/Indiana/Indianapolis:20260317T120000
DTSTAMP:20260421T092421
CREATED:20260305T153445Z
LAST-MODIFIED:20260305T153559Z
UID:8760-1773741600-1773748800@mbcdc.org
SUMMARY:Pharmacy Technician Training Program Info Session
DESCRIPTION:Start your journey toward a rewarding career in healthcare by attending our Pharmacy Technician Training Program Info Session hosted by Martindale-Brightwood Community Development Corporation (MBCDC) Employment Services. \nThis session will introduce participants to our 16-week Pharmacy Technician Training Program\, designed to prepare individuals for certification and employment in the growing healthcare field. During the program\, participants will receive structured instruction\, hands-on pharmacy experience\, and preparation for the national pharmacy technician certification exam. \nDuring the information session\, you will learn about: \n• Program structure and expectations• Certification and exam preparation• Hands-on pharmacy training opportunities• Career pathways and employment opportunities• Application and enrollment process \nRepresentatives from CVS Health and Emerge Learning Institute will also share insights about the industry and career opportunities available to trained pharmacy technicians. \nThis training program is ideal for individuals who are interested in starting a career in healthcare\, gaining new skills\, and preparing for stable employment in the pharmacy field. \nEvent Details \n📅 Tuesday\, March 17\, 2026⏰ 10:00 AM – 12:00 PM⚠️ Doors close promptly at 10:30 AM \n📍 Martindale-Brightwood Community Development Corporation2435 N Sherman Dr.\, Suite 4Indianapolis\, IN 46218 \nFor more information\, contact:LaNita Nixon – lnixon@mbcdc.org or call 317-695-2417
URL:https://mbcdc.org/event/pharmacy-technician-training-program-info-session/
LOCATION:Martindale Brightwood CDC\, Brightwood Plaza\, 2435 North Sherman Drive\, Indianapolis\, IN 46218\, 2435 North Sherman Drive Suite 4\, Indianapolis\, IN\, 46218\, United States
ATTACH;FMTTYPE=image/png:https://mbcdc.org/wp-content/uploads/2026/03/Pharmacy-Tech-Cohort-5-Info-Flyer.png
END:VEVENT
BEGIN:VEVENT
DTSTART;TZID=America/Indiana/Indianapolis:20260318T130000
DTEND;TZID=America/Indiana/Indianapolis:20260318T150000
DTSTAMP:20260421T092421
CREATED:20260113T170610Z
LAST-MODIFIED:20260115T214050Z
UID:8148-1773838800-1773846000@mbcdc.org
SUMMARY:MBCDC Employment Services: March Madness - Mock Interview & Resume Review
DESCRIPTION:MBCDC Employment Services is bringing the community a month-long series focused on upskilling\, job readiness\, and career growth—and we want YOU to join the movement! Our March Madness events will connect job seekers with employers\, provide hands-on feedback\, and help participants prepare for today’s workforce. \nEvent Lineup\n📌 March 11 | 1 PM– 3 PM — Talent Talk: Meet Employers📌 March 18 | 1 PM– 3 PM — Mock Interview + Resume Review (1-on-1 employer feedback)📌 March 25 | 3 PM–6 PM — Summer Employment for Teens + College Students \n📍 Location: Martindale Brightwood CDC (Brightwood Plaza)\, 2435 N. Sherman Drive\, Suite 4\, Indianapolis\, IN 46218 \n👔 Dress code: Business casual required📄 Bring your resume + two valid forms of ID \nQuestions? Contact LaNita Nixon at lnixon@mbcdc.org or 317-695-2417
URL:https://mbcdc.org/event/march-madness-mock-interview-resume-review-2/
LOCATION:Martindale Brightwood CDC\, Brightwood Plaza\, 2435 North Sherman Drive\, Indianapolis\, IN 46218\, 2435 North Sherman Drive Suite 4\, Indianapolis\, IN\, 46218\, United States
ATTACH;FMTTYPE=image/png:https://mbcdc.org/wp-content/uploads/2026/01/Website-Event-Calendar-1600x900-1-1.png
END:VEVENT
BEGIN:VEVENT
DTSTART;TZID=America/Indiana/Indianapolis:20260318T180000
DTEND;TZID=America/Indiana/Indianapolis:20260318T193000
DTSTAMP:20260421T092421
CREATED:20260211T192536Z
LAST-MODIFIED:20260324T000710Z
UID:8403-1773856800-1773862200@mbcdc.org
SUMMARY:MBCDC Small Business Development-Hobby\, Hustle\, or Business: Virtual Chat Series
DESCRIPTION:Hobby\, Hustle\, or Business: Virtual Chat Series \nYou’re doing the work—but what is it really: a hobby\, a hustle\, or a business? \nJoin us for a monthly virtual chat series designed to support aspiring entrepreneurs as they assess business readiness and make intentional next steps. This interactive meet-up creates space for honest conversation\, real-world insight\, and practical guidance around entrepreneurship and growth. \nEach session features guest speakers with lived experience across business development\, workforce pathways\, and small business support. \nThis is not a lecture or a podcast—it’s a guided virtual conversation built for learning\, reflection\, and connection. \nStop guessing. Become intentional. Start building. \n📅 Wednesday\, March 18\, 2026\n⏰ 6:00 PM – 7:30 PM\n📍 Virtual \nFor questions\, contact Chenille Barrett at cmbarrett@mbcdc.org.\nRegister at www.mbcdc.org. \nSponsored By: Martindale Brightwood Quality of Life 
URL:https://mbcdc.org/event/mbcdc-small-business-development-hobby-hustle-or-business-virtual-chat-series/
LOCATION:Virtual Location\, Virtual Location
ATTACH;FMTTYPE=image/png:https://mbcdc.org/wp-content/uploads/2026/01/Jan-1.png
END:VEVENT
BEGIN:VEVENT
DTSTART;TZID=America/Indiana/Indianapolis:20260325T130000
DTEND;TZID=America/Indiana/Indianapolis:20260325T150000
DTSTAMP:20260421T092421
CREATED:20260218T154128Z
LAST-MODIFIED:20260218T154905Z
UID:8436-1774443600-1774450800@mbcdc.org
SUMMARY:Congress on Your Corner - Office of Congressman André Carson
DESCRIPTION:Congress on Your Corner is a constituent services event hosted by the Office of Congressman André Carson and held at Martindale-Brightwood CDC. \nAre you experiencing challenges connecting with a federal agency? Is your case taking longer than expected? This event provides an opportunity for community members to meet directly with Congressman Carson’s staff to receive guidance and support on federal matters. \nRepresentatives will be available to assist with concerns involving federal agencies and help constituents better understand available resources and next steps. \nEvent Details:📅 March 25\, 2026⏰ 1:00 – 3:00 PM📍 Martindale-Brightwood CDC2435 N. Sherman Dr.\, Suite 4Indianapolis\, IN 46218 \nWe are proud to host this important community resource and encourage residents to attend if they need assistance navigating federal services.
URL:https://mbcdc.org/event/congress-on-your-corner-office-of-congressman-andre-carson/
LOCATION:Martindale Brightwood CDC\, Brightwood Plaza\, 2435 North Sherman Drive\, Indianapolis\, IN 46218\, 2435 North Sherman Drive Suite 4\, Indianapolis\, IN\, 46218\, United States
ATTACH;FMTTYPE=image/png:https://mbcdc.org/wp-content/uploads/2026/02/English.png
END:VEVENT
BEGIN:VEVENT
DTSTART;TZID=America/Indiana/Indianapolis:20260325T150000
DTEND;TZID=America/Indiana/Indianapolis:20260325T180000
DTSTAMP:20260421T092421
CREATED:20260113T171229Z
LAST-MODIFIED:20260115T213952Z
UID:8151-1774450800-1774461600@mbcdc.org
SUMMARY:MBCDC Employment Services: March Madness - Summer Employment for Teens & College Students
DESCRIPTION:MBCDC Employment Services is bringing the community a month-long series focused on upskilling\, job readiness\, and career growth—and we want YOU to join the movement! Our March Madness events will connect job seekers with employers\, provide hands-on feedback\, and help participants prepare for today’s workforce. \nEvent Lineup\n📌 March 11 | 1 PM– 3 PM — Talent Talk: Meet Employers📌 March 18 | 1 PM– 3 PM — Mock Interview + Resume Review (1-on-1 employer feedback)📌 March 25 | 3 PM–6 PM — Summer Employment for Teens + College Students \n📍 Location: Martindale Brightwood CDC (Brightwood Plaza)\, 2435 N. Sherman Drive\, Suite 4\, Indianapolis\, IN 46218 \n👔 Dress code: Business casual required📄 Bring your resume + two valid forms of ID \nQuestions? Contact LaNita Nixon at lnixon@mbcdc.org or 317-695-2417
URL:https://mbcdc.org/event/march-madness-summer-employment-for-teens-college-students-2/
LOCATION:Martindale Brightwood CDC\, Brightwood Plaza\, 2435 North Sherman Drive\, Indianapolis\, IN 46218\, 2435 North Sherman Drive Suite 4\, Indianapolis\, IN\, 46218\, United States
ATTACH;FMTTYPE=image/png:https://mbcdc.org/wp-content/uploads/2026/01/Website-Event-Calendar-1600x900-1.png
END:VEVENT
BEGIN:VEVENT
DTSTART;TZID=America/Indiana/Indianapolis:20260325T180000
DTEND;TZID=America/Indiana/Indianapolis:20260325T193000
DTSTAMP:20260421T092421
CREATED:20260312T145025Z
LAST-MODIFIED:20260324T000919Z
UID:8866-1774461600-1774467000@mbcdc.org
SUMMARY:MBCDC Small Business Development: Microenterprise Meetup- Wealth Building
DESCRIPTION:Join Martindale Brightwood CDC for the Microenterprise Meetup\, a recurring gathering designed to connect small business owners\, aspiring entrepreneurs\, and community members interested in building sustainable businesses and long-term wealth. \nEach meetup creates space for honest conversation\, shared learning\, and practical insight grounded in real-world business experience. While topics may vary from month to month\, the goal remains the same: to support entrepreneurs in strengthening their mindset\, refining their strategies\, and building the discipline required for long-term success. \nThis session will focus on wealth building through entrepreneurship\, exploring the discipline\, ownership\, and long-term thinking required to grow sustainable income and create financial stability. Participants will reflect on their habits\, decision-making\, and readiness to move beyond short-term wins toward lasting economic growth. \nHosted by Chenille Barrett\, Director of Small Business\, this session provides an opportunity to connect with fellow entrepreneurs\, exchange ideas\, and engage in meaningful conversation about the realities of building and sustaining a business. \nWhether you are strengthening your foundation or preparing for your next stage of growth\, the Microenterprise Meetup is designed to help you assess where you are and what it truly takes to move forward. \n📅 Wednesday\, March 25\, 2026\n⏰ 6:00 – 7:30 PM\n📍 Martindale Brightwood CDC\n2435 N. Sherman Drive\, Suite 4\nIndianapolis\, IN 46218
URL:https://mbcdc.org/event/mbcdc-small-business-development-microenterprise-meetup-wealth-building/
LOCATION:Martindale Brightwood CDC\, Brightwood Plaza\, 2435 North Sherman Drive\, Indianapolis\, IN 46218\, 2435 North Sherman Drive Suite 4\, Indianapolis\, IN\, 46218\, United States
ATTACH;FMTTYPE=image/jpeg:https://mbcdc.org/wp-content/uploads/2026/03/March-Meetup-2026-1.jpg
END:VEVENT
BEGIN:VEVENT
DTSTART;TZID=America/Indiana/Indianapolis:20260325T183000
DTEND;TZID=America/Indiana/Indianapolis:20260325T193000
DTSTAMP:20260421T092421
CREATED:20260310T163324Z
LAST-MODIFIED:20260312T151714Z
UID:8820-1774463400-1774467000@mbcdc.org
SUMMARY:Rural Street Community Garden – Adopt-a-Plot Informational Session
DESCRIPTION:Interested in growing your own food and being part of a shared community space? Join us for an informational session about the Adopt-a-Plot Program at Rural Street Community Garden. \nThe Adopt-a-Plot Program invites residents\, neighbors\, and workers in the Martindale-Brightwood community to participate in seasonal land stewardship by maintaining a personal garden plot while contributing to the overall care of the garden. \nThis program is open to all experience levels\, whether you are a beginner or an experienced gardener. Participants will learn through hands-on growing\, peer support\, and shared knowledge throughout the season. \nWhat Participants Receive\n\n\nA 4×8 garden plot for the growing season \n\n\nAccess to shared tools and garden resources \n\n\nSeasonal guidance and peer support \n\n\nAccess to shared garden spaces and U-Pick areas \n\n\nParticipant Responsibilities\nParticipants help maintain their plot throughout the growing season while contributing to the care of shared garden areas. The program promotes a culture of respect\, responsibility\, and community stewardship. \nWhy It Matters\nThe Adopt-a-Plot Program helps: \n\n\nMaintain and activate shared community land \n\n\nExpand neighborhood access to fresh food \n\n\nBuild neighborhood ownership and stewardship \n\n\nInformational Session\nWednesday\, March 25\, 20266:30 PM – 7:30 PM \n📍 Rural Street Community Garden2425 N Rural StIndianapolis\, IN 46218 \n*If there is rain\, the session will be held virtually and registered participants will receive a meeting link. \nDuring this session\, attendees will learn how the program works\, what to expect during the growing season\, and how to sign up for a plot. \n👉 Visit www.mbcdc.org for more information. \nFor questions\, contact Briana Franklin at bfranklin@mbcdc.org
URL:https://mbcdc.org/event/rural-street-community-garden-adopt-a-plot-informational-session/
LOCATION:Rural Street Community Garden\, 2425 N Rural St\, Indianapolis\, IN\, 46218\, United States
ATTACH;FMTTYPE=image/png:https://mbcdc.org/wp-content/uploads/2026/03/Website-Event-Calendar-1600x900-4.png
END:VEVENT
END:VCALENDAR